{"text_format":"1","workbook":"xlsx","n_sheets":11,"sheets":["Menü","Vereine","Spiele","Tabelle","Spielplan 1. Liga","Spielplan 2. Liga","Tore 1. Liga","Tore 2. Liga","Benutzer","Pokal","Daten"],"not_rendered":{"charts":0,"images":2,"macros":1,"external_links":2,"defined_names":2,"comments":0,"pivot_tables":0},"unopened":[],"bounds":{"document_bytes":16777216,"sheet_cells":100000,"rows_first":2000,"rows_last":500,"rows_between":2000,"halvings":0,"cell_chars":16384,"cell_head_chars":4096},"cells_cut":0,"cells_raw":0,"read":"whole","date_system":"1900"}

{"sheet":"Menü","index":0,"n_rows":5,"n_cols":8,"rows_kept":5,"cut":false,"hidden":false,"merged":[[43,2,43,12]]}
[]
[]
[]
[]
[null,null,255,0,0,0,0,0]

{"sheet":"Vereine","index":1,"n_rows":23,"n_cols":8,"rows_kept":23,"cut":false,"hidden":false,"merged":[[3,2,3,6],[11,2,11,6],[16,2,16,6],[12,2,12,6],[4,2,4,6],[10,2,10,6],[15,2,15,6],[17,2,17,6],[5,2,5,6],[8,2,8,6],[20,2,20,6],[14,2,14,6],[7,2,7,6],[13,2,13,6],[6,2,6,6],[9,2,9,6],[23,2,23,6],[22,1,22,2],[22,4,22,5],[18,2,18,6],[19,2,19,6],[21,2,21,6]]}
[]
[]
[null,null,{"$f":"COUNTIF(C5:C22,\">\"\"\")","v":18}]
[null,"Tabellentitel","1. Liga Saison 2017/2018",null,null,null,null,"Pkt.-Abzug"]
[null,"Verein #1","Augsburg",null,null,null,null,0]
[null,"Verein #2","Bayern",null,null,null,null,0]
[null,"Verein #3","Bremen",null,null,null,null,0]
[null,"Verein #4","Dortmund",null,null,null,null,0]
[null,"Verein #5","Frankfurt",null,null,null,null,0]
[null,"Verein #6","Freiburg",null,null,null,null,0]
[null,"Verein #7","Hamburg",null,null,null,null,0]
[null,"Verein #8","Hannover",null,null,null,null,0]
[null,"Verein #9","Hertha",null,null,null,null,0]
[null,"Verein #10","Hoffenheim",null,null,null,null,0]
[null,"Verein #11","Köln",null,null,null,null,0]
[null,"Verein #12","Leipzig",null,null,null,null,0]
[null,"Verein #13","Leverkusen",null,null,null,null,0]
[null,"Verein #14","Mainz",null,null,null,null,0]
[null,"Verein #15","Mönchengladbach",null,null,null,null,0]
[null,"Verein #16","Schalke",null,null,null,null,0]
[null,"Verein #17","Stuttgart",null,null,null,null,0]
[null,"Verein #18","Wolfsburg",null,null,null,null,0]
[null,"Punkte bei Sieg:",null,3,"Punkt(e) bei Unentschieden:",null,1,"Pkt.-Abzug"]

{"sheet":"Spiele","index":2,"n_rows":24,"n_cols":43,"rows_kept":24,"cut":false,"hidden":false,"merged":[[0,1,0,37],[1,2,1,3],[1,4,1,5],[1,6,1,7],[1,8,1,9],[1,22,1,23],[1,24,1,25],[1,10,1,11],[1,12,1,13],[1,14,1,15],[2,2,2,3],[1,26,1,27],[1,28,1,29],[1,30,1,31],[1,18,1,19],[1,20,1,21],[7,12,7,13],[1,34,1,35],[1,36,1,37],[1,38,1,39],[1,32,1,33],[1,16,1,17],[3,4,3,5],[4,6,4,7],[5,8,5,9],[6,10,6,11],[19,36,19,37],[8,14,8,15],[9,16,9,17],[10,18,10,19],[11,20,11,21],[12,22,12,23],[13,24,13,25],[14,26,14,27],[15,28,15,29],[16,30,16,31],[17,32,17,33],[18,34,18,35],[21,2,21,3],[21,4,21,5],[21,6,21,7],[21,8,21,9],[21,10,21,11],[21,34,21,35],[21,36,21,37],[21,14,21,15],[21,16,21,17],[21,18,21,19],[21,20,21,21],[21,22,21,23],[21,24,21,25],[22,12,22,13],[21,26,21,27],[21,28,21,29],[21,30,21,31],[21,32,21,33],[21,12,21,13],[22,2,22,3],[22,4,22,5],[22,6,22,7],[22,8,22,9],[22,10,22,11],[22,36,22,37],[22,14,22,15],[22,16,22,17],[22,18,22,19],[22,20,22,21],[22,22,22,23],[22,24,22,25],[22,26,22,27],[22,28,22,29],[22,30,22,31],[22,32,22,33],[22,34,22,35],[23,24,23,25],[23,2,23,3],[23,4,23,5],[23,6,23,7],[23,8,23,9],[23,10,23,11],[23,12,23,13],[23,14,23,15],[23,16,23,17],[23,18,23,19],[23,20,23,21],[23,22,23,23],[23,26,23,27],[23,36,23,37],[23,28,23,29],[23,30,23,31],[23,32,23,33],[23,34,23,35]]}
[null,{"$f":"Vereine!C4","v":"1. Liga Saison 2017/2018"}]
[null,"Kreuztabelle",{"$f":"B3","v":"Augsburg"},null,{"$f":"B4","v":"Bayern"},null,{"$f":"B5","v":"Bremen"},null,{"$f":"B6","v":"Dortmund"},null,{"$f":"B7","v":"Frankfurt"},null,{"$f":"B8","v":"Freiburg"},null,{"$f":"B9","v":"Hamburg"},null,{"$f":"B10","v":"Hannover"},null,{"$f":"B11","v":"Hertha"},null,{"$f":"B12","v":"Hoffenheim"},null,{"$f":"B13","v":"Köln"},null,{"$f":"B14","v":"Leipzig"},null,{"$f":"B15","v":"Leverkusen"},null,{"$f":"B16","v":"Mainz"},null,{"$f":"B17","v":"Mönchengladbach"},null,{"$f":"B18","v":"Schalke"},null,{"$f":"B19","v":"Stuttgart"},null,{"$f":"B20","v":"Wolfsburg"},null,"Tore",null,"G","U","S"]
[null,{"$f":"Vereine!C5","v":"Augsburg"},null,null,1,4,1,3,1,2,3,0,3,3,1,0,1,2,1,1,0,2,3,0,1,0,1,1,2,0,2,2,1,2,0,1,2,1,{"$f":"SUM(C3,E3,G3,I3,K3,M3,O3,Q3,S3,U3,W3,Y3,AA3,AC3,AE3,AG3,AI3,AK3)","v":24},{"$f":"SUM(F3,H3,J3,L3,N3,P3,R3,T3,V3,X3,Z3,AB3,AD3,AF3,AH3,AJ3,AL3)","v":24},{"$f":"IF(C3>D3,1)+IF(E3>F3,1)+IF(G3>H3,1)+IF(I3>J3,1)+IF(K3>L3,1)+IF(M3>N3,1)+IF(O3>P3,1)+IF(Q3>R3,1)+IF(S3>T3,1)+IF(U3>V3,1)+IF(W3>X3,1)+IF(Y3>Z3,1)+IF(AA3>AB3,1)+IF(AC3>AD3,1)+IF(AE3>AF3,1)+IF(AG3>AH3,1)+IF(AI3>AJ3,1)+IF(AK3>AL3,1)","v":6},{"$f":"COUNTIF(C3,D3)+COUNTIF(E3,F3)+COUNTIF(G3,H3)+COUNTIF(I3,J3)+COUNTIF(K3,L3)+COUNTIF(M3,N3)+COUNTIF(O3,P3)+COUNTIF(Q3,R3)+COUNTIF(S3,T3)+COUNTIF(U3,V3)+COUNTIF(W3,X3)+COUNTIF(Y3,Z3)+COUNTIF(AA3,AB3)+COUNTIF(AC3,AD3)+COUNTIF(AE3,AF3)+COUNTIF(AG3,AH3)+COUNTIF(AI3,AJ3)+COUNTIF(AK3,AL3)","v":4},{"$f":"COUNT(C3,E3,G3,I3,K3,M3,O3,Q3,S3,U3,W3,Y3,AA3,AC3,AE3,AG3,AI3,AK3)","v":17}]
[null,{"$f":"Vereine!C6","v":"Bayern"},3,0,null,null,4,2,6,0,4,1,5,0,6,0,3,1,0,0,5,2,1,0,2,0,3,1,4,0,5,1,2,1,1,4,2,2,56,15,{"$f":"IF(C4>D4,1)+IF(E4>F4,1)+IF(G4>H4,1)+IF(I4>J4,1)+IF(K4>L4,1)+IF(M4>N4,1)+IF(O4>P4,1)+IF(Q4>R4,1)+IF(S4>T4,1)+IF(U4>V4,1)+IF(W4>X4,1)+IF(Y4>Z4,1)+IF(AA4>AB4,1)+IF(AC4>AD4,1)+IF(AE4>AF4,1)+IF(AG4>AH4,1)+IF(AI4>AJ4,1)+IF(AK4>AL4,1)","v":14},2,17]
[null,{"$f":"Vereine!C7","v":"Bremen"},0,3,0,2,null,null,1,1,2,1,0,0,1,0,4,0,0,0,1,1,3,1,1,1,0,0,2,2,0,2,1,2,1,0,3,1,20,17,6,7,17]
[null,{"$f":"Vereine!C8","v":"Dortmund"},1,1,1,3,1,2,null,null,3,2,2,2,2,0,1,0,2,0,2,1,5,0,2,3,4,0,1,2,6,1,4,4,3,0,0,0,40,21,9,4,17]
[null,{"$f":"Vereine!C9","v":"Frankfurt"},1,2,0,1,2,1,2,2,null,null,1,1,3,0,1,0,0,3,1,1,4,2,2,1,0,1,3,0,2,0,2,2,2,1,0,1,26,19,8,4,17]
[null,{"$f":"Vereine!C10","v":"Freiburg"},2,0,0,4,1,0,0,0,0,0,null,null,0,0,1,1,1,1,3,2,3,2,2,1,0,0,2,1,1,0,0,1,1,2,0,2,17,17,7,6,17]
[null,{"$f":"Vereine!C11","v":"Hamburg"},1,0,0,1,0,0,0,3,1,2,1,0,null,null,1,1,1,2,3,0,0,2,0,2,1,2,0,0,2,1,3,2,3,1,0,0,17,19,6,4,17]
[null,{"$f":"Vereine!C12","v":"Hannover"},1,3,0,3,2,1,4,2,1,2,2,1,2,0,null,null,3,1,2,0,0,0,2,3,4,4,3,2,0,1,1,0,1,1,0,1,28,25,8,3,17]
[null,{"$f":"Vereine!C13","v":"Hertha"},2,2,2,2,1,1,1,1,1,2,0,0,2,1,3,1,null,null,1,1,2,1,2,6,2,1,0,2,2,4,0,2,2,0,0,0,23,27,5,7,17]
[null,{"$f":"Vereine!C14","v":"Hoffenheim"},2,2,2,0,1,0,3,1,1,1,1,1,2,0,3,1,1,1,null,null,6,0,4,0,1,4,4,2,1,3,2,0,1,0,3,0,38,16,11,4,17]
[null,{"$f":"Vereine!C15","v":"Köln"},1,1,1,3,0,0,2,3,0,1,3,4,1,3,1,1,0,2,0,3,null,null,1,2,2,0,1,1,2,1,2,2,2,3,1,0,20,30,3,5,17]
[null,{"$f":"Vereine!C16","v":"Leipzig"},2,0,2,1,2,0,1,1,2,1,4,1,1,1,2,1,2,3,2,5,1,2,null,null,1,4,2,2,2,2,3,1,1,0,4,1,34,26,9,4,17]
[null,{"$f":"Vereine!C17","v":"Leverkusen"},0,0,1,3,1,0,1,1,4,1,4,0,3,0,3,2,0,2,2,2,2,1,2,2,null,null,2,0,2,0,0,2,0,1,2,2,29,19,8,5,17]
[null,{"$f":"Vereine!C18","v":"Mainz"},1,3,0,2,1,2,0,2,1,1,2,0,3,2,0,1,1,0,2,3,1,0,3,0,3,1,null,null,0,0,0,1,3,2,1,1,22,21,7,3,17]
[null,{"$f":"Vereine!C19","v":"Mönchengladbach"},2,0,2,1,2,2,0,1,0,1,3,1,3,1,2,1,2,1,3,3,1,0,0,1,1,5,1,1,null,null,1,1,2,0,3,0,28,20,9,4,17]
[null,{"$f":"Vereine!C20","v":"Schalke"},3,2,0,3,1,2,2,0,1,0,2,0,2,0,1,1,1,0,2,1,2,2,2,0,1,1,2,0,1,1,null,null,3,1,1,1,27,15,10,5,17]
[null,{"$f":"Vereine!C21","v":"Stuttgart"},0,0,0,1,2,0,2,1,1,0,3,0,1,1,1,1,1,0,2,0,2,1,0,0,0,2,1,0,1,0,0,2,null,null,1,0,18,9,10,4,17]
[null,{"$f":"Vereine!C22","v":"Wolfsburg"},0,0,1,2,1,1,0,3,1,3,3,1,1,3,1,1,3,3,1,1,4,1,1,1,1,2,1,1,3,0,0,1,1,1,null,null,23,25,3,8,17]
[null,"Tore",{"$f":"SUM(C4:C20)","v":22},{"$f":"SUM(D4:D20)","v":19},{"$f":"SUM(E3:E20)","v":13},36,23,17,26,24,26,19,39,15,34,12,29,16,19,20,32,28,40,15,{"$f":"SUM(Y3:Y20)","v":27},23,25,29,31,16,32,19,22,26,27,18,23,13,{"$f":"SUM(C21,E21,G21,I21,K21,M21,O21,Q21,S21,U21,W21,Y21,AA21,AC21,AE21,AG21,AI21,AK21)-SUM(AM3:AM20)","v":0},{"$f":"SUM(D21,F21,H21,J21,L21,N21,P21,R21,T21,V21,X21,Z21,AB21,AD21,AF21,AH21,AJ21,AL21)-SUM(AN3:AN20)","v":0}]
[null,"Gewonnen",{"$f":"IF(D3>C3,1)+IF(D4>C4,1)+IF(D5>C5,1)+IF(D6>C6,1)+IF(D7>C7,1)+IF(D8>C8,1)+IF(D9>C9,1)+IF(D10>C10,1)+IF(D11>C11,1)+IF(D12>C12,1)+IF(D13>C13,1)+IF(D14>C14,1)+IF(D15>C15,1)+IF(D16>C16,1)+IF(D17>C17,1)+IF(D18>C18,1)+IF(D19>C19,1)+IF(D20>C20,1)","v":4},null,{"$f":"IF(F3>E3,1)+IF(F4>E4,1)+IF(F5>E5,1)+IF(F6>E6,1)+IF(F7>E7,1)+IF(F8>E8,1)+IF(F9>E9,1)+IF(F10>E10,1)+IF(F11>E11,1)+IF(F12>E12,1)+IF(F13>E13,1)+IF(F14>E14,1)+IF(F15>E15,1)+IF(F16>E16,1)+IF(F17>E17,1)+IF(F18>E18,1)+IF(F19>E19,1)+IF(F20>E20,1)","v":13},null,{"$f":"IF(H3>G3,1)+IF(H4>G4,1)+IF(H5>G5,1)+IF(H6>G6,1)+IF(H7>G7,1)+IF(H8>G8,1)+IF(H9>G9,1)+IF(H10>G10,1)+IF(H11>G11,1)+IF(H12>G12,1)+IF(H13>G13,1)+IF(H14>G14,1)+IF(H15>G15,1)+IF(H16>G16,1)+IF(H17>G17,1)+IF(H18>G18,1)+IF(H19>G19,1)+IF(H20>G20,1)","v":4},null,{"$f":"IF(J3>I3,1)+IF(J4>I4,1)+IF(J5>I5,1)+IF(J6>I6,1)+IF(J7>I7,1)+IF(J8>I8,1)+IF(J9>I9,1)+IF(J10>I10,1)+IF(J11>I11,1)+IF(J12>I12,1)+IF(J13>I13,1)+IF(J14>I14,1)+IF(J15>I15,1)+IF(J16>I16,1)+IF(J17>I17,1)+IF(J18>I18,1)+IF(J19>I19,1)+IF(J20>I20,1)","v":6},null,{"$f":"IF(L3>K3,1)+IF(L4>K4,1)+IF(L5>K5,1)+IF(L6>K6,1)+IF(L7>K7,1)+IF(L8>K8,1)+IF(L9>K9,1)+IF(L10>K10,1)+IF(L11>K11,1)+IF(L12>K12,1)+IF(L13>K13,1)+IF(L14>K14,1)+IF(L15>K15,1)+IF(L16>K16,1)+IF(L17>K17,1)+IF(L18>K18,1)+IF(L19>K19,1)+IF(L20>K20,1)","v":6},null,{"$f":"IF(N3>M3,1)+IF(N4>M4,1)+IF(N5>M5,1)+IF(N6>M6,1)+IF(N7>M7,1)+IF(N8>M8,1)+IF(N9>M9,1)+IF(N10>M10,1)+IF(N11>M11,1)+IF(N12>M12,1)+IF(N13>M13,1)+IF(N14>M14,1)+IF(N15>M15,1)+IF(N16>M16,1)+IF(N17>M17,1)+IF(N18>M18,1)+IF(N19>M19,1)+IF(N20>M20,1)","v":1},null,{"$f":"IF(P3>O3,1)+IF(P4>O4,1)+IF(P5>O5,1)+IF(P6>O6,1)+IF(P7>O7,1)+IF(P8>O8,1)+IF(P9>O9,1)+IF(P10>O10,1)+IF(P11>O11,1)+IF(P12>O12,1)+IF(P13>O13,1)+IF(P14>O14,1)+IF(P15>O15,1)+IF(P16>O16,1)+IF(P17>O17,1)+IF(P18>O18,1)+IF(P19>O19,1)+IF(P20>O20,1)","v":2},null,{"$f":"IF(R3>Q3,1)+IF(R4>Q4,1)+IF(R5>Q5,1)+IF(R6>Q6,1)+IF(R7>Q7,1)+IF(R8>Q8,1)+IF(R9>Q9,1)+IF(R10>Q10,1)+IF(R11>Q11,1)+IF(R12>Q12,1)+IF(R13>Q13,1)+IF(R14>Q14,1)+IF(R15>Q15,1)+IF(R16>Q16,1)+IF(R17>Q17,1)+IF(R18>Q18,1)+IF(R19>Q19,1)+IF(R20>Q20,1)","v":2},null,{"$f":"IF(T3>S3,1)+IF(T4>S4,1)+IF(T5>S5,1)+IF(T6>S6,1)+IF(T7>S7,1)+IF(T8>S8,1)+IF(T9>S9,1)+IF(T10>S10,1)+IF(T11>S11,1)+IF(T12>S12,1)+IF(T13>S13,1)+IF(T14>S14,1)+IF(T15>S15,1)+IF(T16>S16,1)+IF(T17>S17,1)+IF(T18>S18,1)+IF(T19>S19,1)+IF(T20>S20,1)","v":5},null,{"$f":"IF(V3>U3,1)+IF(V4>U4,1)+IF(V5>U5,1)+IF(V6>U6,1)+IF(V7>U7,1)+IF(V8>U8,1)+IF(V9>U9,1)+IF(V10>U10,1)+IF(V11>U11,1)+IF(V12>U12,1)+IF(V13>U13,1)+IF(V14>U14,1)+IF(V15>U15,1)+IF(V16>U16,1)+IF(V17>U17,1)+IF(V18>U18,1)+IF(V19>U19,1)+IF(V20>U20,1)","v":4},null,{"$f":"IF(X3>W3,1)+IF(X4>W4,1)+IF(X5>W5,1)+IF(X6>W6,1)+IF(X7>W7,1)+IF(X8>W8,1)+IF(X9>W9,1)+IF(X10>W10,1)+IF(X11>W11,1)+IF(X12>W12,1)+IF(X13>W13,1)+IF(X14>W14,1)+IF(X15>W15,1)+IF(X16>W16,1)+IF(X17>W17,1)+IF(X18>W18,1)+IF(X19>W19,1)+IF(X20>W20,1)","v":2},null,{"$f":"IF(Z3>Y3,1)+IF(Z4>Y4,1)+IF(Z5>Y5,1)+IF(Z6>Y6,1)+IF(Z7>Y7,1)+IF(Z8>Y8,1)+IF(Z9>Y9,1)+IF(Z10>Y10,1)+IF(Z11>Y11,1)+IF(Z12>Y12,1)+IF(Z13>Y13,1)+IF(Z14>Y14,1)+IF(Z15>Y15,1)+IF(Z16>Y16,1)+IF(Z17>Y17,1)+IF(Z18>Y18,1)+IF(Z19>Y19,1)+IF(Z20>Y20,1)","v":6},null,{"$f":"IF(AB3>AA3,1)+IF(AB4>AA4,1)+IF(AB5>AA5,1)+IF(AB6>AA6,1)+IF(AB7>AA7,1)+IF(AB8>AA8,1)+IF(AB9>AA9,1)+IF(AB10>AA10,1)+IF(AB11>AA11,1)+IF(AB12>AA12,1)+IF(AB13>AA13,1)+IF(AB14>AA14,1)+IF(AB15>AA15,1)+IF(AB16>AA16,1)+IF(AB17>AA17,1)+IF(AB18>AA18,1)+IF(AB19>AA19,1)+IF(AB20>AA20,1)","v":7},null,{"$f":"IF(AD3>AC3,1)+IF(AD4>AC4,1)+IF(AD5>AC5,1)+IF(AD6>AC6,1)+IF(AD7>AC7,1)+IF(AD8>AC8,1)+IF(AD9>AC9,1)+IF(AD10>AC10,1)+IF(AD11>AC11,1)+IF(AD12>AC12,1)+IF(AD13>AC13,1)+IF(AD14>AC14,1)+IF(AD15>AC15,1)+IF(AD16>AC16,1)+IF(AD17>AC17,1)+IF(AD18>AC18,1)+IF(AD19>AC19,1)+IF(AD20>AC20,1)","v":2},null,{"$f":"IF(AF3>AE3,1)+IF(AF4>AE4,1)+IF(AF5>AE5,1)+IF(AF6>AE6,1)+IF(AF7>AE7,1)+IF(AF8>AE8,1)+IF(AF9>AE9,1)+IF(AF10>AE10,1)+IF(AF11>AE11,1)+IF(AF12>AE12,1)+IF(AF13>AE13,1)+IF(AF14>AE14,1)+IF(AF15>AE15,1)+IF(AF16>AE16,1)+IF(AF17>AE17,1)+IF(AF18>AE18,1)+IF(AF19>AE19,1)+IF(AF20>AE20,1)","v":4},null,{"$f":"IF(AH3>AG3,1)+IF(AH4>AG4,1)+IF(AH5>AG5,1)+IF(AH6>AG6,1)+IF(AH7>AG7,1)+IF(AH8>AG8,1)+IF(AH9>AG9,1)+IF(AH10>AG10,1)+IF(AH11>AG11,1)+IF(AH12>AG12,1)+IF(AH13>AG13,1)+IF(AH14>AG14,1)+IF(AH15>AG15,1)+IF(AH16>AG16,1)+IF(AH17>AG17,1)+IF(AH18>AG18,1)+IF(AH19>AG19,1)+IF(AH20>AG20,1)","v":8},null,{"$f":"IF(AJ3>AI3,1)+IF(AJ4>AI4,1)+IF(AJ5>AI5,1)+IF(AJ6>AI6,1)+IF(AJ7>AI7,1)+IF(AJ8>AI8,1)+IF(AJ9>AI9,1)+IF(AJ10>AI10,1)+IF(AJ11>AI11,1)+IF(AJ12>AI12,1)+IF(AJ13>AI13,1)+IF(AJ14>AI14,1)+IF(AJ15>AI15,1)+IF(AJ16>AI16,1)+IF(AJ17>AI17,1)+IF(AJ18>AI18,1)+IF(AJ19>AI19,1)+IF(AJ20>AI20,1)","v":5},null,{"$f":"IF(AL3>AK3,1)+IF(AL4>AK4,1)+IF(AL5>AK5,1)+IF(AL6>AK6,1)+IF(AL7>AK7,1)+IF(AL8>AK8,1)+IF(AL9>AK9,1)+IF(AL10>AK10,1)+IF(AL11>AK11,1)+IF(AL12>AK12,1)+IF(AL13>AK13,1)+IF(AL14>AK14,1)+IF(AL15>AK15,1)+IF(AL16>AK16,1)+IF(AL17>AK17,1)+IF(AL18>AK18,1)+IF(AL19>AK19,1)+IF(AL20>AK20,1)","v":3},null,null,null,{"$f":"SUM(C22:AL22)+SUM(AO3:AO20)","v":223}]
[null,"Unentschieden",{"$f":"COUNTIF(C3,D3)+COUNTIF(C4,D4)+COUNTIF(C5,D5)+COUNTIF(C6,D6)+COUNTIF(C7,D7)+COUNTIF(C8,D8)+COUNTIF(C9,D9)+COUNTIF(C10,D10)+COUNTIF(C11,D11)+COUNTIF(C12,D12)+COUNTIF(C13,D13)+COUNTIF(C14,D14)+COUNTIF(C15,D15)+COUNTIF(C16,D16)+COUNTIF(C17,D17)+COUNTIF(C18,D18)+COUNTIF(C19,D19)+COUNTIF(C20,D20)","v":7},null,{"$f":"COUNTIF(E3,F3)+COUNTIF(E4,F4)+COUNTIF(E5,F5)+COUNTIF(E6,F6)+COUNTIF(E7,F7)+COUNTIF(E8,F8)+COUNTIF(E9,F9)+COUNTIF(E10,F10)+COUNTIF(E11,F11)+COUNTIF(E12,F12)+COUNTIF(E13,F13)+COUNTIF(E14,F14)+COUNTIF(E15,F15)+COUNTIF(E16,F16)+COUNTIF(E17,F17)+COUNTIF(E18,F18)+COUNTIF(E19,F19)+COUNTIF(E20,F20)","v":1},null,{"$f":"COUNTIF(G3,H3)+COUNTIF(G4,H4)+COUNTIF(G5,H5)+COUNTIF(G6,H6)+COUNTIF(G7,H7)+COUNTIF(G8,H8)+COUNTIF(G9,H9)+COUNTIF(G10,H10)+COUNTIF(G11,H11)+COUNTIF(G12,H12)+COUNTIF(G13,H13)+COUNTIF(G14,H14)+COUNTIF(G15,H15)+COUNTIF(G16,H16)+COUNTIF(G17,H17)+COUNTIF(G18,H18)+COUNTIF(G19,H19)+COUNTIF(G20,H20)","v":5},null,{"$f":"COUNTIF(I3,J3)+COUNTIF(I4,J4)+COUNTIF(I5,J5)+COUNTIF(I6,J6)+COUNTIF(I7,J7)+COUNTIF(I8,J8)+COUNTIF(I9,J9)+COUNTIF(I10,J10)+COUNTIF(I11,J11)+COUNTIF(I12,J12)+COUNTIF(I13,J13)+COUNTIF(I14,J14)+COUNTIF(I15,J15)+COUNTIF(I16,J16)+COUNTIF(I17,J17)+COUNTIF(I18,J18)+COUNTIF(I19,J19)+COUNTIF(I20,J20)","v":6},null,{"$f":"COUNTIF(K3,L3)+COUNTIF(K4,L4)+COUNTIF(K5,L5)+COUNTIF(K6,L6)+COUNTIF(K7,L7)+COUNTIF(K8,L8)+COUNTIF(K9,L9)+COUNTIF(K10,L10)+COUNTIF(K11,L11)+COUNTIF(K12,L12)+COUNTIF(K13,L13)+COUNTIF(K14,L14)+COUNTIF(K15,L15)+COUNTIF(K16,L16)+COUNTIF(K17,L17)+COUNTIF(K18,L18)+COUNTIF(K19,L19)+COUNTIF(K20,L20)","v":3},null,{"$f":"COUNTIF(M3,N3)+COUNTIF(M4,N4)+COUNTIF(M5,N5)+COUNTIF(M6,N6)+COUNTIF(M7,N7)+COUNTIF(M8,N8)+COUNTIF(M9,N9)+COUNTIF(M10,N10)+COUNTIF(M11,N11)+COUNTIF(M12,N12)+COUNTIF(M13,N13)+COUNTIF(M14,N14)+COUNTIF(M15,N15)+COUNTIF(M16,N16)+COUNTIF(M17,N17)+COUNTIF(M18,N18)+COUNTIF(M19,N19)+COUNTIF(M20,N20)","v":6},null,{"$f":"COUNTIF(O3,P3)+COUNTIF(O4,P4)+COUNTIF(O5,P5)+COUNTIF(O6,P6)+COUNTIF(O7,P7)+COUNTIF(O8,P8)+COUNTIF(O9,P9)+COUNTIF(O10,P10)+COUNTIF(O11,P11)+COUNTIF(O12,P12)+COUNTIF(O13,P13)+COUNTIF(O14,P14)+COUNTIF(O15,P15)+COUNTIF(O16,P16)+COUNTIF(O17,P17)+COUNTIF(O18,P18)+COUNTIF(O19,P19)+COUNTIF(O20,P20)","v":3},null,{"$f":"COUNTIF(Q3,R3)+COUNTIF(Q4,R4)+COUNTIF(Q5,R5)+COUNTIF(Q6,R6)+COUNTIF(Q7,R7)+COUNTIF(Q8,R8)+COUNTIF(Q9,R9)+COUNTIF(Q10,R10)+COUNTIF(Q11,R11)+COUNTIF(Q12,R12)+COUNTIF(Q13,R13)+COUNTIF(Q14,R14)+COUNTIF(Q15,R15)+COUNTIF(Q16,R16)+COUNTIF(Q17,R17)+COUNTIF(Q18,R18)+COUNTIF(Q19,R19)+COUNTIF(Q20,R20)","v":6},null,{"$f":"COUNTIF(S3,T3)+COUNTIF(S4,T4)+COUNTIF(S5,T5)+COUNTIF(S6,T6)+COUNTIF(S7,T7)+COUNTIF(S8,T8)+COUNTIF(S9,T9)+COUNTIF(S10,T10)+COUNTIF(S11,T11)+COUNTIF(S12,T12)+COUNTIF(S13,T13)+COUNTIF(S14,T14)+COUNTIF(S15,T15)+COUNTIF(S16,T16)+COUNTIF(S17,T17)+COUNTIF(S18,T18)+COUNTIF(S19,T19)+COUNTIF(S20,T20)","v":6},null,{"$f":"COUNTIF(U3,V3)+COUNTIF(U4,V4)+COUNTIF(U5,V5)+COUNTIF(U6,V6)+COUNTIF(U7,V7)+COUNTIF(U8,V8)+COUNTIF(U9,V9)+COUNTIF(U10,V10)+COUNTIF(U11,V11)+COUNTIF(U12,V12)+COUNTIF(U13,V13)+COUNTIF(U14,V14)+COUNTIF(U15,V15)+COUNTIF(U16,V16)+COUNTIF(U17,V17)+COUNTIF(U18,V18)+COUNTIF(U19,V19)+COUNTIF(U20,V20)","v":6},null,{"$f":"COUNTIF(W3,X3)+COUNTIF(W4,X4)+COUNTIF(W5,X5)+COUNTIF(W6,X6)+COUNTIF(W7,X7)+COUNTIF(W8,X8)+COUNTIF(W9,X9)+COUNTIF(W10,X10)+COUNTIF(W11,X11)+COUNTIF(W12,X12)+COUNTIF(W13,X13)+COUNTIF(W14,X14)+COUNTIF(W15,X15)+COUNTIF(W16,X16)+COUNTIF(W17,X17)+COUNTIF(W18,X18)+COUNTIF(W19,X19)+COUNTIF(W20,X20)","v":2},null,{"$f":"COUNTIF(Y3,Z3)+COUNTIF(Y4,Z4)+COUNTIF(Y5,Z5)+COUNTIF(Y6,Z6)+COUNTIF(Y7,Z7)+COUNTIF(Y8,Z8)+COUNTIF(Y9,Z9)+COUNTIF(Y10,Z10)+COUNTIF(Y11,Z11)+COUNTIF(Y12,Z12)+COUNTIF(Y13,Z13)+COUNTIF(Y14,Z14)+COUNTIF(Y15,Z15)+COUNTIF(Y16,Z16)+COUNTIF(Y17,Z17)+COUNTIF(Y18,Z18)+COUNTIF(Y19,Z19)+COUNTIF(Y20,Z20)","v":4},null,{"$f":"COUNTIF(AA3,AB3)+COUNTIF(AA4,AB4)+COUNTIF(AA5,AB5)+COUNTIF(AA6,AB6)+COUNTIF(AA7,AB7)+COUNTIF(AA8,AB8)+COUNTIF(AA9,AB9)+COUNTIF(AA10,AB10)+COUNTIF(AA11,AB11)+COUNTIF(AA12,AB12)+COUNTIF(AA13,AB13)+COUNTIF(AA14,AB14)+COUNTIF(AA15,AB15)+COUNTIF(AA16,AB16)+COUNTIF(AA17,AB17)+COUNTIF(AA18,AB18)+COUNTIF(AA19,AB19)+COUNTIF(AA20,AB20)","v":5},null,{"$f":"COUNTIF(AC3,AD3)+COUNTIF(AC4,AD4)+COUNTIF(AC5,AD5)+COUNTIF(AC6,AD6)+COUNTIF(AC7,AD7)+COUNTIF(AC8,AD8)+COUNTIF(AC9,AD9)+COUNTIF(AC10,AD10)+COUNTIF(AC11,AD11)+COUNTIF(AC12,AD12)+COUNTIF(AC13,AD13)+COUNTIF(AC14,AD14)+COUNTIF(AC15,AD15)+COUNTIF(AC16,AD16)+COUNTIF(AC17,AD17)+COUNTIF(AC18,AD18)+COUNTIF(AC19,AD19)+COUNTIF(AC20,AD20)","v":6},null,{"$f":"COUNTIF(AE3,AF3)+COUNTIF(AE4,AF4)+COUNTIF(AE5,AF5)+COUNTIF(AE6,AF6)+COUNTIF(AE7,AF7)+COUNTIF(AE8,AF8)+COUNTIF(AE9,AF9)+COUNTIF(AE10,AF10)+COUNTIF(AE11,AF11)+COUNTIF(AE12,AF12)+COUNTIF(AE13,AF13)+COUNTIF(AE14,AF14)+COUNTIF(AE15,AF15)+COUNTIF(AE16,AF16)+COUNTIF(AE17,AF17)+COUNTIF(AE18,AF18)+COUNTIF(AE19,AF19)+COUNTIF(AE20,AF20)","v":4},null,{"$f":"COUNTIF(AG3,AH3)+COUNTIF(AG4,AH4)+COUNTIF(AG5,AH5)+COUNTIF(AG6,AH6)+COUNTIF(AG7,AH7)+COUNTIF(AG8,AH8)+COUNTIF(AG9,AH9)+COUNTIF(AG10,AH10)+COUNTIF(AG11,AH11)+COUNTIF(AG12,AH12)+COUNTIF(AG13,AH13)+COUNTIF(AG14,AH14)+COUNTIF(AG15,AH15)+COUNTIF(AG16,AH16)+COUNTIF(AG17,AH17)+COUNTIF(AG18,AH18)+COUNTIF(AG19,AH19)+COUNTIF(AG20,AH20)","v":4},null,{"$f":"COUNTIF(AI3,AJ3)+COUNTIF(AI4,AJ4)+COUNTIF(AI5,AJ5)+COUNTIF(AI6,AJ6)+COUNTIF(AI7,AJ7)+COUNTIF(AI8,AJ8)+COUNTIF(AI9,AJ9)+COUNTIF(AI10,AJ10)+COUNTIF(AI11,AJ11)+COUNTIF(AI12,AJ12)+COUNTIF(AI13,AJ13)+COUNTIF(AI14,AJ14)+COUNTIF(AI15,AJ15)+COUNTIF(AI16,AJ16)+COUNTIF(AI17,AJ17)+COUNTIF(AI18,AJ18)+COUNTIF(AI19,AJ19)+COUNTIF(AI20,AJ20)","v":2},null,{"$f":"COUNTIF(AK3,AL3)+COUNTIF(AK4,AL4)+COUNTIF(AK5,AL5)+COUNTIF(AK6,AL6)+COUNTIF(AK7,AL7)+COUNTIF(AK8,AL8)+COUNTIF(AK9,AL9)+COUNTIF(AK10,AL10)+COUNTIF(AK11,AL11)+COUNTIF(AK12,AL12)+COUNTIF(AK13,AL13)+COUNTIF(AK14,AL14)+COUNTIF(AK15,AL15)+COUNTIF(AK16,AL16)+COUNTIF(AK17,AL17)+COUNTIF(AK18,AL18)+COUNTIF(AK19,AL19)+COUNTIF(AK20,AL20)","v":7},null,null,null,{"$f":"SUM(B23:AL23)","v":83},{"$f":"SUM(AP3:AP20)","v":83}]
[null,"Spiele",{"$f":"COUNT(C3:C20)","v":17},null,{"$f":"COUNT(E3:E20)","v":17},null,{"$f":"COUNT(G3:G20)","v":17},null,{"$f":"COUNT(I3:I20)","v":17},null,{"$f":"COUNT(K3:K20)","v":17},null,{"$f":"COUNT(M3:M20)","v":17},null,{"$f":"COUNT(O3:O20)","v":17},null,{"$f":"COUNT(Q3:Q20)","v":17},null,{"$f":"COUNT(S3:S20)","v":17},null,{"$f":"COUNT(U3:U20)","v":17},null,{"$f":"COUNT(W3:W20)","v":17},null,{"$f":"COUNT(Y3:Y20)","v":17},null,{"$f":"COUNT(AA3:AA20)","v":17},null,{"$f":"COUNT(AC3:AC20)","v":17},null,{"$f":"COUNT(AE3:AE20)","v":17},null,{"$f":"COUNT(AG3:AG20)","v":17},null,{"$f":"COUNT(AI3:AI20)","v":17},null,{"$f":"COUNT(AK3:AK20)","v":17},null,null,null,null,null,{"$f":"SUM(C24:AL24)-SUM(AQ3:AQ20)","v":0}]

{"sheet":"Tabelle","index":3,"n_rows":47,"n_cols":32,"rows_kept":47,"cut":false,"hidden":false,"merged":[[26,3,26,4],[20,1,20,15],[21,1,24,31],[20,16,20,23],[20,24,20,31]]}
[]
[null,"Rang",null,null,"Spiele","Gew.","Unent.","Verl.",null,"Tore +",null,"Tore -",null,"Torverh",null,"Punkte","Gew.","Unent.","Verl.",null,"Tore +",null,"Tore -","Punkte","Gew.","Unent.","Verl.",null,"Tore +",null,"Tore -","Punkte"]
[null,"1.",null,"Bayern",34,27,3,4,null,92,":",28,null,64,null,84,14,2,1,null,56,":",15,44,13,1,3,null,36,":",13,40]
[null,"2.",null,"Schalke",34,18,9,7,null,53,":",37,null,16,null,63,10,5,2,null,27,":",15,35,8,4,5,null,26,":",22,28]
[null,"3.",null,"Hoffenheim",34,15,10,9,null,66,":",48,null,18,null,55,11,4,2,null,38,":",16,37,4,6,7,null,28,":",32,18]
[null,"4.",null,"Dortmund",34,15,10,9,null,64,":",47,null,17,null,55,9,4,4,null,40,":",21,31,6,6,5,null,24,":",26,24]
[null,"5.",null,"Leverkusen",34,15,10,9,null,58,":",44,null,14,null,55,8,5,4,null,29,":",19,29,7,5,5,null,29,":",25,26]
[null,"6.",null,"Leipzig",34,15,8,11,null,57,":",53,null,4,null,53,9,4,4,null,34,":",26,31,6,4,7,null,23,":",27,22]
[null,"7.",null,"Stuttgart",34,15,6,13,null,36,":",36,null,0,null,51,10,4,3,null,18,":",9,34,5,2,10,null,18,":",27,17]
[null,"8.",null,"Frankfurt",34,14,7,13,null,45,":",45,null,0,null,49,8,4,5,null,26,":",19,28,6,3,8,null,19,":",26,21]
[null,"9.",null,"Mönchengladbach",34,13,8,13,null,47,":",52,null,-5,null,47,9,4,4,null,28,":",20,31,4,4,9,null,19,":",32,16]
[null,"10.",null,"Hertha",34,10,13,11,null,43,":",46,null,-3,null,43,5,7,5,null,23,":",27,22,5,6,6,null,20,":",19,21]
[null,"11.",null,"Bremen",34,10,12,12,null,37,":",40,null,-3,null,42,6,7,4,null,20,":",17,25,4,5,8,null,17,":",23,17]
[null,"12.",null,"Augsburg",34,10,11,13,null,43,":",46,null,-3,null,41,6,4,7,null,24,":",24,22,4,7,6,null,19,":",22,19]
[null,"13.",null,"Hannover",34,10,9,15,null,44,":",54,null,-10,null,39,8,3,6,null,28,":",25,27,2,6,9,null,16,":",29,12]
[null,"14.",null,"Mainz",34,9,9,16,null,38,":",52,null,-14,null,36,7,3,7,null,22,":",21,24,2,6,9,null,16,":",31,12]
[null,"15.",null,"Freiburg",34,8,12,14,null,32,":",56,null,-24,null,36,7,6,4,null,17,":",17,27,1,6,10,null,15,":",39,9]
[null,"16.",null,"Wolfsburg",34,6,15,13,null,36,":",48,null,-12,null,33,3,8,6,null,23,":",25,17,3,7,7,null,13,":",23,16]
[null,"17.",null,"Hamburg",34,8,7,19,null,29,":",53,null,-24,null,31,6,4,7,null,17,":",19,22,2,3,12,null,12,":",34,9]
[null,"18.",null,"Köln",34,5,7,22,null,35,":",70,null,-35,null,22,3,5,9,null,20,":",30,14,2,2,13,null,15,":",40,8]
[null,"Gesamt",null,null,null,null,null,null,null,null,null,null,null,null,null,null,"Heim",null,null,null,null,null,null,null,"Auswärts"]
[null,{"$f":"Vereine!C4","v":"1. Liga Saison 2017/2018"}]
[]
[]
[]
[]
[]
[]
[null,null,null,{"$f":"Vereine!C5","v":"Augsburg"},{"$f":"VALUE(Spiele!C24)+VALUE(Spiele!AQ3)","v":34},{"$f":"VALUE(Spiele!C22)+VALUE(Spiele!AO3)","v":10},{"$f":"VALUE(Spiele!C23)+VALUE(Spiele!AP3)","v":11},{"$f":"SUM(E29-F29-G29)","v":13},null,{"$f":"VALUE(Spiele!D21)+VALUE(Spiele!AM3)","v":43},":",{"$f":"VALUE(Spiele!C21)+VALUE(Spiele!AN3)","v":46},null,{"$f":"SUM(J29-L29)","v":-3},null,{"$f":"SUM(F29*VALUE(Vereine!$D$23))+(G29*VALUE(Vereine!$G$23))-ABS(Vereine!H5)","v":41},{"$f":"VALUE(Spiele!AO3)","v":6},{"$f":"VALUE(Spiele!AP3)","v":4},{"$f":"VALUE(Spiele!AQ3)-Q29-R29","v":7},null,{"$f":"VALUE(Spiele!AM3)","v":24},":",{"$f":"VALUE(Spiele!AN3)","v":24},{"$f":"SUM(Q29*VALUE(Vereine!$D$23))+(R29*VALUE(Vereine!$G$23))","v":22},{"$f":"VALUE(Spiele!$C22)","v":4},{"$f":"VALUE(Spiele!$C23)","v":7},{"$f":"VALUE(Spiele!C$24)-Y29-Z29","v":6},null,{"$f":"VALUE(Spiele!D$21)","v":19},":",{"$f":"VALUE(Spiele!C$21)","v":22},{"$f":"SUM(Y29*VALUE(Vereine!$D$23))+(Z29*VALUE(Vereine!$G$23))","v":19}]
[null,null,null,{"$f":"Vereine!C6","v":"Bayern"},{"$f":"VALUE(Spiele!E24)+VALUE(Spiele!AQ4)","v":34},{"$f":"VALUE(Spiele!E22)+VALUE(Spiele!AO4)","v":27},{"$f":"VALUE(Spiele!E23)+VALUE(Spiele!AP4)","v":3},4,null,{"$f":"VALUE(Spiele!F21)+VALUE(Spiele!AM4)","v":92},":",{"$f":"VALUE(Spiele!E21)+VALUE(Spiele!AN4)","v":28},null,64,null,{"$f":"SUM(F30*VALUE(Vereine!$D$23))+(G30*VALUE(Vereine!$G$23))-ABS(Vereine!H6)","v":84},{"$f":"VALUE(Spiele!AO4)","v":14},{"$f":"VALUE(Spiele!AP4)","v":2},{"$f":"VALUE(Spiele!AQ4)-Q30-R30","v":1},null,{"$f":"VALUE(Spiele!AM4)","v":56},":",{"$f":"VALUE(Spiele!AN4)","v":15},{"$f":"SUM(Q30*VALUE(Vereine!$D$23))+(R30*VALUE(Vereine!$G$23))","v":44},{"$f":"VALUE(Spiele!$E22)","v":13},{"$f":"VALUE(Spiele!$E23)","v":1},{"$f":"VALUE(Spiele!E$24)-Y30-Z30","v":3},null,{"$f":"VALUE(Spiele!F$21)","v":36},":",{"$f":"VALUE(Spiele!E$21)","v":13},{"$f":"SUM(Y30*VALUE(Vereine!$D$23))+(Z30*VALUE(Vereine!$G$23))","v":40}]
[null,null,null,{"$f":"Vereine!C7","v":"Bremen"},{"$f":"VALUE(Spiele!G24)+VALUE(Spiele!AQ5)","v":34},{"$f":"VALUE(Spiele!G22)+VALUE(Spiele!AO5)","v":10},{"$f":"VALUE(Spiele!G23)+VALUE(Spiele!AP5)","v":12},12,null,{"$f":"VALUE(Spiele!H21)+VALUE(Spiele!AM5)","v":37},":",{"$f":"VALUE(Spiele!G21)+VALUE(Spiele!AN5)","v":40},null,-3,null,{"$f":"SUM(F31*VALUE(Vereine!$D$23))+(G31*VALUE(Vereine!$G$23))-ABS(Vereine!H7)","v":42},{"$f":"VALUE(Spiele!AO5)","v":6},{"$f":"VALUE(Spiele!AP5)","v":7},{"$f":"VALUE(Spiele!AQ5)-Q31-R31","v":4},null,{"$f":"VALUE(Spiele!AM5)","v":20},":",{"$f":"VALUE(Spiele!AN5)","v":17},{"$f":"SUM(Q31*VALUE(Vereine!$D$23))+(R31*VALUE(Vereine!$G$23))","v":25},{"$f":"VALUE(Spiele!$G22)","v":4},{"$f":"VALUE(Spiele!$G23)","v":5},{"$f":"VALUE(Spiele!G$24)-Y31-Z31","v":8},null,{"$f":"VALUE(Spiele!H$21)","v":17},":",{"$f":"VALUE(Spiele!G$21)","v":23},{"$f":"SUM(Y31*VALUE(Vereine!$D$23))+(Z31*VALUE(Vereine!$G$23))","v":17}]
[null,null,null,{"$f":"Vereine!C8","v":"Dortmund"},{"$f":"VALUE(Spiele!I24)+VALUE(Spiele!AQ6)","v":34},{"$f":"VALUE(Spiele!I22)+VALUE(Spiele!AO6)","v":15},{"$f":"VALUE(Spiele!I23)+VALUE(Spiele!AP6)","v":10},9,null,{"$f":"VALUE(Spiele!J21)+VALUE(Spiele!AM6)","v":64},":",{"$f":"VALUE(Spiele!I21)+VALUE(Spiele!AN6)","v":47},null,17,null,{"$f":"SUM(F32*VALUE(Vereine!$D$23))+(G32*VALUE(Vereine!$G$23))-ABS(Vereine!H8)","v":55},{"$f":"VALUE(Spiele!AO6)","v":9},{"$f":"VALUE(Spiele!AP6)","v":4},{"$f":"VALUE(Spiele!AQ6)-Q32-R32","v":4},null,{"$f":"VALUE(Spiele!AM6)","v":40},":",{"$f":"VALUE(Spiele!AN6)","v":21},{"$f":"SUM(Q32*VALUE(Vereine!$D$23))+(R32*VALUE(Vereine!$G$23))","v":31},{"$f":"VALUE(Spiele!$I22)","v":6},{"$f":"VALUE(Spiele!$I23)","v":6},{"$f":"VALUE(Spiele!I$24)-Y32-Z32","v":5},null,{"$f":"VALUE(Spiele!J$21)","v":24},":",{"$f":"VALUE(Spiele!I$21)","v":26},{"$f":"SUM(Y32*VALUE(Vereine!$D$23))+(Z32*VALUE(Vereine!$G$23))","v":24}]
[null,null,null,{"$f":"Vereine!C9","v":"Frankfurt"},{"$f":"VALUE(Spiele!K24)+VALUE(Spiele!AQ7)","v":34},{"$f":"VALUE(Spiele!K22)+VALUE(Spiele!AO7)","v":14},{"$f":"VALUE(Spiele!K23)+VALUE(Spiele!AP7)","v":7},13,null,{"$f":"VALUE(Spiele!L21)+VALUE(Spiele!AM7)","v":45},":",{"$f":"VALUE(Spiele!K21)+VALUE(Spiele!AN7)","v":45},null,0,null,{"$f":"SUM(F33*VALUE(Vereine!$D$23))+(G33*VALUE(Vereine!$G$23))-ABS(Vereine!H9)","v":49},{"$f":"VALUE(Spiele!AO7)","v":8},{"$f":"VALUE(Spiele!AP7)","v":4},{"$f":"VALUE(Spiele!AQ7)-Q33-R33","v":5},null,{"$f":"VALUE(Spiele!AM7)","v":26},":",{"$f":"VALUE(Spiele!AN7)","v":19},{"$f":"SUM(Q33*VALUE(Vereine!$D$23))+(R33*VALUE(Vereine!$G$23))","v":28},{"$f":"VALUE(Spiele!$K22)","v":6},{"$f":"VALUE(Spiele!$K23)","v":3},{"$f":"VALUE(Spiele!K$24)-Y33-Z33","v":8},null,{"$f":"VALUE(Spiele!L$21)","v":19},":",{"$f":"VALUE(Spiele!K$21)","v":26},{"$f":"SUM(Y33*VALUE(Vereine!$D$23))+(Z33*VALUE(Vereine!$G$23))","v":21}]
[null,null,null,{"$f":"Vereine!C10","v":"Freiburg"},{"$f":"VALUE(Spiele!M24)+VALUE(Spiele!AQ8)","v":34},{"$f":"VALUE(Spiele!M22)+VALUE(Spiele!AO8)","v":8},{"$f":"VALUE(Spiele!M23)+VALUE(Spiele!AP8)","v":12},14,null,{"$f":"VALUE(Spiele!N21)+VALUE(Spiele!AM8)","v":32},":",{"$f":"VALUE(Spiele!M21)+VALUE(Spiele!AN8)","v":56},null,-24,null,{"$f":"SUM(F34*VALUE(Vereine!$D$23))+(G34*VALUE(Vereine!$G$23))-ABS(Vereine!H10)","v":36},{"$f":"VALUE(Spiele!AO8)","v":7},{"$f":"VALUE(Spiele!AP8)","v":6},{"$f":"VALUE(Spiele!AQ8)-Q34-R34","v":4},null,{"$f":"VALUE(Spiele!AM8)","v":17},":",{"$f":"VALUE(Spiele!AN8)","v":17},{"$f":"SUM(Q34*VALUE(Vereine!$D$23))+(R34*VALUE(Vereine!$G$23))","v":27},{"$f":"VALUE(Spiele!$M22)","v":1},{"$f":"VALUE(Spiele!$M23)","v":6},{"$f":"VALUE(Spiele!M$24)-Y34-Z34","v":10},null,{"$f":"VALUE(Spiele!N$21)","v":15},":",{"$f":"VALUE(Spiele!M$21)","v":39},{"$f":"SUM(Y34*VALUE(Vereine!$D$23))+(Z34*VALUE(Vereine!$G$23))","v":9}]
[null,null,null,{"$f":"Vereine!C11","v":"Hamburg"},{"$f":"VALUE(Spiele!O24)+VALUE(Spiele!AQ9)","v":34},{"$f":"VALUE(Spiele!O22)+VALUE(Spiele!AO9)","v":8},{"$f":"VALUE(Spiele!O23)+VALUE(Spiele!AP9)","v":7},19,null,{"$f":"VALUE(Spiele!P21)+VALUE(Spiele!AM9)","v":29},":",{"$f":"VALUE(Spiele!O21)+VALUE(Spiele!AN9)","v":53},null,-24,null,{"$f":"SUM(F35*VALUE(Vereine!$D$23))+(G35*VALUE(Vereine!$G$23))-ABS(Vereine!H11)","v":31},{"$f":"VALUE(Spiele!AO9)","v":6},{"$f":"VALUE(Spiele!AP9)","v":4},{"$f":"VALUE(Spiele!AQ9)-Q35-R35","v":7},null,{"$f":"VALUE(Spiele!AM9)","v":17},":",{"$f":"VALUE(Spiele!AN9)","v":19},{"$f":"SUM(Q35*VALUE(Vereine!$D$23))+(R35*VALUE(Vereine!$G$23))","v":22},{"$f":"VALUE(Spiele!$O22)","v":2},{"$f":"VALUE(Spiele!$O23)","v":3},{"$f":"VALUE(Spiele!O$24)-Y35-Z35","v":12},null,{"$f":"VALUE(Spiele!P$21)","v":12},":",{"$f":"VALUE(Spiele!O$21)","v":34},{"$f":"SUM(Y35*VALUE(Vereine!$D$23))+(Z35*VALUE(Vereine!$G$23))","v":9}]
[null,null,null,{"$f":"Vereine!C12","v":"Hannover"},{"$f":"VALUE(Spiele!Q24)+VALUE(Spiele!AQ10)","v":34},{"$f":"VALUE(Spiele!Q22)+VALUE(Spiele!AO10)","v":10},{"$f":"VALUE(Spiele!Q23)+VALUE(Spiele!AP10)","v":9},15,null,{"$f":"VALUE(Spiele!R21)+VALUE(Spiele!AM10)","v":44},":",{"$f":"VALUE(Spiele!Q21)+VALUE(Spiele!AN10)","v":54},null,-10,null,{"$f":"SUM(F36*VALUE(Vereine!$D$23))+(G36*VALUE(Vereine!$G$23))-ABS(Vereine!H12)","v":39},{"$f":"VALUE(Spiele!AO10)","v":8},{"$f":"VALUE(Spiele!AP10)","v":3},{"$f":"VALUE(Spiele!AQ10)-Q36-R36","v":6},null,{"$f":"VALUE(Spiele!AM10)","v":28},":",{"$f":"VALUE(Spiele!AN10)","v":25},{"$f":"SUM(Q36*VALUE(Vereine!$D$23))+(R36*VALUE(Vereine!$G$23))","v":27},{"$f":"VALUE(Spiele!$Q22)","v":2},{"$f":"VALUE(Spiele!$Q23)","v":6},{"$f":"VALUE(Spiele!Q$24)-Y36-Z36","v":9},null,{"$f":"VALUE(Spiele!R$21)","v":16},":",{"$f":"VALUE(Spiele!Q$21)","v":29},{"$f":"SUM(Y36*VALUE(Vereine!$D$23))+(Z36*VALUE(Vereine!$G$23))","v":12}]
[null,null,null,{"$f":"Vereine!C13","v":"Hertha"},{"$f":"VALUE(Spiele!S24)+VALUE(Spiele!AQ11)","v":34},{"$f":"VALUE(Spiele!S22)+VALUE(Spiele!AO11)","v":10},{"$f":"VALUE(Spiele!S23)+VALUE(Spiele!AP11)","v":13},11,null,{"$f":"VALUE(Spiele!T21)+VALUE(Spiele!AM11)","v":43},":",{"$f":"VALUE(Spiele!S21)+VALUE(Spiele!AN11)","v":46},null,-3,null,{"$f":"SUM(F37*VALUE(Vereine!$D$23))+(G37*VALUE(Vereine!$G$23))-ABS(Vereine!H13)","v":43},{"$f":"VALUE(Spiele!AO11)","v":5},{"$f":"VALUE(Spiele!AP11)","v":7},{"$f":"VALUE(Spiele!AQ11)-Q37-R37","v":5},null,{"$f":"VALUE(Spiele!AM11)","v":23},":",{"$f":"VALUE(Spiele!AN11)","v":27},{"$f":"SUM(Q37*VALUE(Vereine!$D$23))+(R37*VALUE(Vereine!$G$23))","v":22},{"$f":"VALUE(Spiele!$S22)","v":5},{"$f":"VALUE(Spiele!$S23)","v":6},{"$f":"VALUE(Spiele!S$24)-Y37-Z37","v":6},null,{"$f":"VALUE(Spiele!T$21)","v":20},":",{"$f":"VALUE(Spiele!S$21)","v":19},{"$f":"SUM(Y37*VALUE(Vereine!$D$23))+(Z37*VALUE(Vereine!$G$23))","v":21}]
[null,null,null,{"$f":"Vereine!C14","v":"Hoffenheim"},{"$f":"VALUE(Spiele!U24)+VALUE(Spiele!AQ12)","v":34},{"$f":"VALUE(Spiele!U22)+VALUE(Spiele!AO12)","v":15},{"$f":"VALUE(Spiele!U23)+VALUE(Spiele!AP12)","v":10},9,null,{"$f":"VALUE(Spiele!V21)+VALUE(Spiele!AM12)","v":66},":",{"$f":"VALUE(Spiele!U21)+VALUE(Spiele!AN12)","v":48},null,18,null,{"$f":"SUM(F38*VALUE(Vereine!$D$23))+(G38*VALUE(Vereine!$G$23))-ABS(Vereine!H14)","v":55},{"$f":"VALUE(Spiele!AO12)","v":11},{"$f":"VALUE(Spiele!AP12)","v":4},{"$f":"VALUE(Spiele!AQ12)-Q38-R38","v":2},null,{"$f":"VALUE(Spiele!AM12)","v":38},":",{"$f":"VALUE(Spiele!AN12)","v":16},{"$f":"SUM(Q38*VALUE(Vereine!$D$23))+(R38*VALUE(Vereine!$G$23))","v":37},{"$f":"VALUE(Spiele!$U22)","v":4},{"$f":"VALUE(Spiele!$U23)","v":6},{"$f":"VALUE(Spiele!U$24)-Y38-Z38","v":7},null,{"$f":"VALUE(Spiele!V$21)","v":28},":",{"$f":"VALUE(Spiele!U$21)","v":32},{"$f":"SUM(Y38*VALUE(Vereine!$D$23))+(Z38*VALUE(Vereine!$G$23))","v":18}]
[null,null,null,{"$f":"Vereine!C15","v":"Köln"},{"$f":"VALUE(Spiele!W24)+VALUE(Spiele!AQ13)","v":34},{"$f":"VALUE(Spiele!W22)+VALUE(Spiele!AO13)","v":5},{"$f":"VALUE(Spiele!W23)+VALUE(Spiele!AP13)","v":7},22,null,{"$f":"VALUE(Spiele!X21)+VALUE(Spiele!AM13)","v":35},":",{"$f":"VALUE(Spiele!W21)+VALUE(Spiele!AN13)","v":70},null,-35,null,{"$f":"SUM(F39*VALUE(Vereine!$D$23))+(G39*VALUE(Vereine!$G$23))-ABS(Vereine!H15)","v":22},{"$f":"VALUE(Spiele!AO13)","v":3},{"$f":"VALUE(Spiele!AP13)","v":5},{"$f":"VALUE(Spiele!AQ13)-Q39-R39","v":9},null,{"$f":"VALUE(Spiele!AM13)","v":20},":",{"$f":"VALUE(Spiele!AN13)","v":30},{"$f":"SUM(Q39*VALUE(Vereine!$D$23))+(R39*VALUE(Vereine!$G$23))","v":14},{"$f":"VALUE(Spiele!$W22)","v":2},{"$f":"VALUE(Spiele!$W23)","v":2},{"$f":"VALUE(Spiele!W$24)-Y39-Z39","v":13},null,{"$f":"VALUE(Spiele!X$21)","v":15},":",{"$f":"VALUE(Spiele!W$21)","v":40},{"$f":"SUM(Y39*VALUE(Vereine!$D$23))+(Z39*VALUE(Vereine!$G$23))","v":8}]
[null,null,null,{"$f":"Vereine!C16","v":"Leipzig"},{"$f":"VALUE(Spiele!Y24)+VALUE(Spiele!AQ14)","v":34},{"$f":"VALUE(Spiele!Y22)+VALUE(Spiele!AO14)","v":15},{"$f":"VALUE(Spiele!Y23)+VALUE(Spiele!AP14)","v":8},11,null,{"$f":"VALUE(Spiele!Z21)+VALUE(Spiele!AM14)","v":57},":",{"$f":"VALUE(Spiele!Y21)+VALUE(Spiele!AN14)","v":53},null,4,null,{"$f":"SUM(F40*VALUE(Vereine!$D$23))+(G40*VALUE(Vereine!$G$23))-ABS(Vereine!H16)","v":53},{"$f":"VALUE(Spiele!AO14)","v":9},{"$f":"VALUE(Spiele!AP14)","v":4},{"$f":"VALUE(Spiele!AQ14)-Q40-R40","v":4},null,{"$f":"VALUE(Spiele!AM14)","v":34},":",{"$f":"VALUE(Spiele!AN14)","v":26},{"$f":"SUM(Q40*VALUE(Vereine!$D$23))+(R40*VALUE(Vereine!$G$23))","v":31},{"$f":"VALUE(Spiele!$Y22)","v":6},{"$f":"VALUE(Spiele!$Y23)","v":4},{"$f":"VALUE(Spiele!Y$24)-Y40-Z40","v":7},null,{"$f":"VALUE(Spiele!Z$21)","v":23},":",{"$f":"VALUE(Spiele!Y$21)","v":27},{"$f":"SUM(Y40*VALUE(Vereine!$D$23))+(Z40*VALUE(Vereine!$G$23))","v":22}]
[null,null,null,{"$f":"Vereine!C17","v":"Leverkusen"},{"$f":"VALUE(Spiele!AA24)+VALUE(Spiele!AQ15)","v":34},{"$f":"VALUE(Spiele!AA22)+VALUE(Spiele!AO15)","v":15},{"$f":"VALUE(Spiele!AA23)+VALUE(Spiele!AP15)","v":10},9,null,{"$f":"VALUE(Spiele!AB21)+VALUE(Spiele!AM15)","v":58},":",{"$f":"VALUE(Spiele!AA21)+VALUE(Spiele!AN15)","v":44},null,14,null,{"$f":"SUM(F41*VALUE(Vereine!$D$23))+(G41*VALUE(Vereine!$G$23))-ABS(Vereine!H17)","v":55},{"$f":"VALUE(Spiele!AO15)","v":8},{"$f":"VALUE(Spiele!AP15)","v":5},{"$f":"VALUE(Spiele!AQ15)-Q41-R41","v":4},null,{"$f":"VALUE(Spiele!AM15)","v":29},":",{"$f":"VALUE(Spiele!AN15)","v":19},{"$f":"SUM(Q41*VALUE(Vereine!$D$23))+(R41*VALUE(Vereine!$G$23))","v":29},{"$f":"VALUE(Spiele!$AA22)","v":7},{"$f":"VALUE(Spiele!$AA23)","v":5},{"$f":"VALUE(Spiele!AA$24)-Y41-Z41","v":5},null,{"$f":"VALUE(Spiele!AB$21)","v":29},":",{"$f":"VALUE(Spiele!AA$21)","v":25},{"$f":"SUM(Y41*VALUE(Vereine!$D$23))+(Z41*VALUE(Vereine!$G$23))","v":26}]
[null,null,null,{"$f":"Vereine!C18","v":"Mainz"},{"$f":"VALUE(Spiele!AC24)+VALUE(Spiele!AQ16)","v":34},{"$f":"VALUE(Spiele!AC22)+VALUE(Spiele!AO16)","v":9},{"$f":"VALUE(Spiele!AC23)+VALUE(Spiele!AP16)","v":9},16,null,{"$f":"VALUE(Spiele!AD21)+VALUE(Spiele!AM16)","v":38},":",{"$f":"VALUE(Spiele!AC21)+VALUE(Spiele!AN16)","v":52},null,-14,null,{"$f":"SUM(F42*VALUE(Vereine!$D$23))+(G42*VALUE(Vereine!$G$23))-ABS(Vereine!H18)","v":36},{"$f":"VALUE(Spiele!AO16)","v":7},{"$f":"VALUE(Spiele!AP16)","v":3},{"$f":"VALUE(Spiele!AQ16)-Q42-R42","v":7},null,{"$f":"VALUE(Spiele!AM16)","v":22},":",{"$f":"VALUE(Spiele!AN16)","v":21},{"$f":"SUM(Q42*VALUE(Vereine!$D$23))+(R42*VALUE(Vereine!$G$23))","v":24},{"$f":"VALUE(Spiele!$AC22)","v":2},{"$f":"VALUE(Spiele!$AC23)","v":6},{"$f":"VALUE(Spiele!AC$24)-Y42-Z42","v":9},null,{"$f":"VALUE(Spiele!AD$21)","v":16},":",{"$f":"VALUE(Spiele!AC$21)","v":31},{"$f":"SUM(Y42*VALUE(Vereine!$D$23))+(Z42*VALUE(Vereine!$G$23))","v":12}]
[null,null,null,{"$f":"Vereine!C19","v":"Mönchengladbach"},{"$f":"VALUE(Spiele!AE24)+VALUE(Spiele!AQ17)","v":34},{"$f":"VALUE(Spiele!AE22)+VALUE(Spiele!AO17)","v":13},{"$f":"VALUE(Spiele!AE23)+VALUE(Spiele!AP17)","v":8},13,null,{"$f":"VALUE(Spiele!AF21)+VALUE(Spiele!AM17)","v":47},":",{"$f":"VALUE(Spiele!AE21)+VALUE(Spiele!AN17)","v":52},null,-5,null,{"$f":"SUM(F43*VALUE(Vereine!$D$23))+(G43*VALUE(Vereine!$G$23))-ABS(Vereine!H19)","v":47},{"$f":"VALUE(Spiele!AO17)","v":9},{"$f":"VALUE(Spiele!AP17)","v":4},{"$f":"VALUE(Spiele!AQ17)-Q43-R43","v":4},null,{"$f":"VALUE(Spiele!AM17)","v":28},":",{"$f":"VALUE(Spiele!AN17)","v":20},{"$f":"SUM(Q43*VALUE(Vereine!$D$23))+(R43*VALUE(Vereine!$G$23))","v":31},{"$f":"VALUE(Spiele!$AE22)","v":4},{"$f":"VALUE(Spiele!$AE23)","v":4},{"$f":"VALUE(Spiele!AE$24)-Y43-Z43","v":9},null,{"$f":"VALUE(Spiele!AF$21)","v":19},":",{"$f":"VALUE(Spiele!AE$21)","v":32},{"$f":"SUM(Y43*VALUE(Vereine!$D$23))+(Z43*VALUE(Vereine!$G$23))","v":16}]
[null,null,null,{"$f":"Vereine!C20","v":"Schalke"},{"$f":"VALUE(Spiele!AG24)+VALUE(Spiele!AQ18)","v":34},{"$f":"VALUE(Spiele!AG22)+VALUE(Spiele!AO18)","v":18},{"$f":"VALUE(Spiele!AG23)+VALUE(Spiele!AP18)","v":9},7,null,{"$f":"VALUE(Spiele!AH21)+VALUE(Spiele!AM18)","v":53},":",{"$f":"VALUE(Spiele!AG21)+VALUE(Spiele!AN18)","v":37},null,16,null,{"$f":"SUM(F44*VALUE(Vereine!$D$23))+(G44*VALUE(Vereine!$G$23))-ABS(Vereine!H20)","v":63},{"$f":"VALUE(Spiele!AO18)","v":10},{"$f":"VALUE(Spiele!AP18)","v":5},{"$f":"VALUE(Spiele!AQ18)-Q44-R44","v":2},null,{"$f":"VALUE(Spiele!AM18)","v":27},":",{"$f":"VALUE(Spiele!AN18)","v":15},{"$f":"SUM(Q44*VALUE(Vereine!$D$23))+(R44*VALUE(Vereine!$G$23))","v":35},{"$f":"VALUE(Spiele!$AG22)","v":8},{"$f":"VALUE(Spiele!$AG23)","v":4},{"$f":"VALUE(Spiele!AG$24)-Y44-Z44","v":5},null,{"$f":"VALUE(Spiele!AH$21)","v":26},":",{"$f":"VALUE(Spiele!AG$21)","v":22},{"$f":"SUM(Y44*VALUE(Vereine!$D$23))+(Z44*VALUE(Vereine!$G$23))","v":28}]
[null,null,null,{"$f":"Vereine!C21","v":"Stuttgart"},{"$f":"VALUE(Spiele!AI24)+VALUE(Spiele!AQ19)","v":34},{"$f":"VALUE(Spiele!AI22)+VALUE(Spiele!AO19)","v":15},{"$f":"VALUE(Spiele!AI23)+VALUE(Spiele!AP19)","v":6},13,null,{"$f":"VALUE(Spiele!AJ21)+VALUE(Spiele!AM19)","v":36},":",{"$f":"VALUE(Spiele!AI21)+VALUE(Spiele!AN19)","v":36},null,0,null,{"$f":"SUM(F45*VALUE(Vereine!$D$23))+(G45*VALUE(Vereine!$G$23))-ABS(Vereine!H21)","v":51},{"$f":"VALUE(Spiele!AO19)","v":10},{"$f":"VALUE(Spiele!AP19)","v":4},{"$f":"VALUE(Spiele!AQ19)-Q45-R45","v":3},null,{"$f":"VALUE(Spiele!AM19)","v":18},":",{"$f":"VALUE(Spiele!AN19)","v":9},{"$f":"SUM(Q45*VALUE(Vereine!$D$23))+(R45*VALUE(Vereine!$G$23))","v":34},{"$f":"VALUE(Spiele!$AI22)","v":5},{"$f":"VALUE(Spiele!$AI23)","v":2},{"$f":"VALUE(Spiele!AI$24)-Y45-Z45","v":10},null,{"$f":"VALUE(Spiele!AJ$21)","v":18},":",{"$f":"VALUE(Spiele!AI$21)","v":27},{"$f":"SUM(Y45*VALUE(Vereine!$D$23))+(Z45*VALUE(Vereine!$G$23))","v":17}]
[null,null,null,{"$f":"Vereine!C22","v":"Wolfsburg"},{"$f":"VALUE(Spiele!AK24)+VALUE(Spiele!AQ20)","v":34},{"$f":"VALUE(Spiele!AK22)+VALUE(Spiele!AO20)","v":6},{"$f":"VALUE(Spiele!AK23)+VALUE(Spiele!AP20)","v":15},13,null,{"$f":"VALUE(Spiele!AL21)+VALUE(Spiele!AM20)","v":36},":",{"$f":"VALUE(Spiele!AK21)+VALUE(Spiele!AN20)","v":48},null,-12,null,{"$f":"SUM(F46*VALUE(Vereine!$D$23))+(G46*VALUE(Vereine!$G$23))-ABS(Vereine!H22)","v":33},{"$f":"VALUE(Spiele!AO20)","v":3},{"$f":"VALUE(Spiele!AP20)","v":8},{"$f":"VALUE(Spiele!AQ20)-Q46-R46","v":6},null,{"$f":"VALUE(Spiele!AM20)","v":23},":",{"$f":"VALUE(Spiele!AN20)","v":25},{"$f":"SUM(Q46*VALUE(Vereine!$D$23))+(R46*VALUE(Vereine!$G$23))","v":17},{"$f":"VALUE(Spiele!$AK22)","v":3},{"$f":"VALUE(Spiele!$AK23)","v":7},{"$f":"VALUE(Spiele!AK$24)-Y46-Z46","v":7},null,{"$f":"VALUE(Spiele!AL$21)","v":13},":",{"$f":"VALUE(Spiele!AK$21)","v":23},{"$f":"SUM(Y46*VALUE(Vereine!$D$23))+(Z46*VALUE(Vereine!$G$23))","v":16}]
[null,null,null,null,null,{"$f":"SUM(F29:F46)","v":223},166,223,0,855,null,855,null,null,null,null,{"$f":"SUM(Q29:Q46)","v":139},{"$f":"SUM(R29:R46)","v":83},84,null,490,null,365,500,84,83,139,null,365,null,490,335]

{"sheet":"Spielplan 1. Liga","index":4,"n_rows":310,"n_cols":15,"rows_kept":310,"cut":false,"hidden":false,"merged":[[309,1,309,5],[300,11,308,11],[300,12,308,12],[300,13,308,13],[300,14,308,14],[300,6,308,6],[300,7,308,7],[300,8,308,8],[300,9,308,9],[273,14,281,14],[273,11,281,11],[291,12,299,12],[291,13,299,13],[291,14,299,14],[300,10,308,10],[291,6,299,6],[291,7,299,7],[291,8,299,8],[291,9,299,9],[291,10,299,10],[291,11,299,11],[264,11,272,11],[264,12,272,12],[264,13,272,13],[264,14,272,14],[255,12,263,12],[255,13,263,13],[255,14,263,14],[255,11,263,11],[282,6,290,6],[282,7,290,7],[282,8,290,8],[282,9,290,9],[282,10,290,10],[273,6,281,6],[273,7,281,7],[273,8,281,8],[273,9,281,9],[273,10,281,10],[282,11,290,11],[282,12,290,12],[282,13,290,13],[282,14,290,14],[273,12,281,12],[273,13,281,13],[264,6,272,6],[264,7,272,7],[264,8,272,8],[264,9,272,9],[264,10,272,10],[255,6,263,6],[255,7,263,7],[255,8,263,8],[255,9,263,9],[255,10,263,10],[219,14,227,14],[219,11,227,11],[246,6,254,6],[246,7,254,7],[246,8,254,8],[246,9,254,9],[246,10,254,10],[237,6,245,6],[237,7,245,7],[237,8,245,8],[237,9,245,9],[237,10,245,10],[246,11,254,11],[246,12,254,12],[246,13,254,13],[246,14,254,14],[237,12,245,12],[237,13,245,13],[237,14,245,14],[237,11,245,11],[210,11,218,11],[210,12,218,12],[210,13,218,13],[210,14,218,14],[201,12,209,12],[201,13,209,13],[201,14,209,14],[201,11,209,11],[228,6,236,6],[228,7,236,7],[228,8,236,8],[228,9,236,9],[228,10,236,10],[219,6,227,6],[219,7,227,7],[219,8,227,8],[219,9,227,9],[219,10,227,10],[228,11,236,11],[228,12,236,12],[228,13,236,13],[228,14,236,14],[219,12,227,12],[219,13,227,13],[210,6,218,6],[210,7,218,7],[210,8,218,8],[210,9,218,9],[210,10,218,10],[201,6,209,6],[201,7,209,7],[201,8,209,8],[201,9,209,9],[201,10,209,10],[165,14,173,14],[165,11,173,11],[192,6,200,6],[192,7,200,7],[192,8,200,8],[192,9,200,9],[192,10,200,10],[183,6,191,6],[183,7,191,7],[183,8,191,8],[183,9,191,9],[183,10,191,10],[192,11,200,11],[192,12,200,12],[192,13,200,13],[192,14,200,14],[183,12,191,12],[183,13,191,13],[183,14,191,14],[183,11,191,11],[156,11,164,11],[156,12,164,12],[156,13,164,13],[156,14,164,14],[147,12,155,12],[147,13,155,13],[147,14,155,14],[147,11,155,11],[174,6,182,6],[174,7,182,7],[174,8,182,8],[174,9,182,9],[174,10,182,10],[165,6,173,6],[165,7,173,7],[165,8,173,8],[165,9,173,9],[165,10,173,10],[174,11,182,11],[174,12,182,12],[174,13,182,13],[174,14,182,14],[165,12,173,12],[165,13,173,13],[156,6,164,6],[156,7,164,7],[156,8,164,8],[156,9,164,9],[156,10,164,10],[147,6,155,6],[147,7,155,7],[147,8,155,8],[147,9,155,9],[147,10,155,10],[111,14,119,14],[111,11,119,11],[138,6,146,6],[138,7,146,7],[138,8,146,8],[138,9,146,9],[138,10,146,10],[129,6,137,6],[129,7,137,7],[129,8,137,8],[129,9,137,9],[129,10,137,10],[138,11,146,11],[138,12,146,12],[138,13,146,13],[138,14,146,14],[129,12,137,12],[129,13,137,13],[129,14,137,14],[129,11,137,11],[102,11,110,11],[102,12,110,12],[102,13,110,13],[102,14,110,14],[93,12,101,12],[93,13,101,13],[93,14,101,14],[93,11,101,11],[120,6,128,6],[120,7,128,7],[120,8,128,8],[120,9,128,9],[120,10,128,10],[111,6,119,6],[111,7,119,7],[111,8,119,8],[111,9,119,9],[111,10,119,10],[120,11,128,11],[120,12,128,12],[120,13,128,13],[120,14,128,14],[111,12,119,12],[111,13,119,13],[102,6,110,6],[102,7,110,7],[102,8,110,8],[102,9,110,9],[102,10,110,10],[93,6,101,6],[93,7,101,7],[93,8,101,8],[93,9,101,9],[93,10,101,10],[57,14,65,14],[57,11,65,11],[84,6,92,6],[84,7,92,7],[84,8,92,8],[84,9,92,9],[84,10,92,10],[75,6,83,6],[75,7,83,7],[75,8,83,8],[75,9,83,9],[75,10,83,10],[84,11,92,11],[84,12,92,12],[84,13,92,13],[84,14,92,14],[75,12,83,12],[75,13,83,13],[75,14,83,14],[75,11,83,11],[48,11,56,11],[48,12,56,12],[48,13,56,13],[48,14,56,14],[39,12,47,12],[39,13,47,13],[39,14,47,14],[39,11,47,11],[66,6,74,6],[66,7,74,7],[66,8,74,8],[66,9,74,9],[66,10,74,10],[57,6,65,6],[57,7,65,7],[57,8,65,8],[57,9,65,9],[57,10,65,10],[66,11,74,11],[66,12,74,12],[66,13,74,13],[66,14,74,14],[57,12,65,12],[57,13,65,13],[48,6,56,6],[48,7,56,7],[48,8,56,8],[48,9,56,9],[48,10,56,10],[39,6,47,6],[39,7,47,7],[39,8,47,8],[39,9,47,9],[39,10,47,10],[30,11,38,11],[30,12,38,12],[30,13,38,13],[30,14,38,14],[21,12,29,12],[21,13,29,13],[21,14,29,14],[21,11,29,11],[12,6,20,6],[12,7,20,7],[30,7,38,7],[30,8,38,8],[30,9,38,9],[30,10,38,10],[21,6,29,6],[21,7,29,7],[21,8,29,8],[21,9,29,9],[21,10,29,10],[1,14,2,14],[3,6,11,6],[3,7,11,7],[3,8,11,8],[3,9,11,9],[3,10,11,10],[3,11,11,11],[39,5,47,5],[48,5,56,5],[12,8,20,8],[12,9,20,9],[12,10,20,10],[1,6,1,11],[12,11,20,11],[12,12,20,12],[12,13,20,13],[1,1,1,5],[2,3,2,4],[1,12,1,13],[12,14,20,14],[3,12,11,12],[3,13,11,13],[3,14,11,14],[30,6,38,6],[57,5,65,5],[66,5,74,5],[75,5,83,5],[84,5,92,5],[3,5,11,5],[12,5,20,5],[21,5,29,5],[30,5,38,5],[147,5,155,5],[156,5,164,5],[165,5,173,5],[174,5,182,5],[183,5,191,5],[192,5,200,5],[93,5,101,5],[102,5,110,5],[111,5,119,5],[120,5,128,5],[129,5,137,5],[138,5,146,5],[255,5,263,5],[264,5,272,5],[273,5,281,5],[282,5,290,5],[291,5,299,5],[300,5,308,5],[201,5,209,5],[210,5,218,5],[219,5,227,5],[228,5,236,5],[237,5,245,5],[246,5,254,5]]}
[]
[null,"Spielplan 1. Liga 2017/2018",null,null,null,null,"Torstatistik pro Spieltag",null,null,null,null,null,"Gewonnen",null,"Unent-schieden"]
[null,"Heim","Gast","Ergebnis",null,null,"Ges.","Heim","Gast","Ø Spiel","Ø Heim","Ø Gast","Heim","Gast"]
[null,"Bayern","Leverkusen",3,1,"1. Spieltag",{"$f":"SUM($D4:$D12)+SUM($E4:$E12)","v":15},{"$f":"SUM($D4:$D12)","v":10},{"$f":"SUM($E4:$E12)","v":5},{"$f":"IF(COUNT($D4:$E12)>0,G4/COUNT($D4:$D12),0)","v":1.6666666666666667},{"$f":"IF(COUNT($D4:$E12)>0,H4/COUNT($D4:$D12),0)","v":1.1111111111111112},{"$f":"IF(COUNT($D4:$E12)>0,I4/COUNT($D4:$D12),0)","v":0.55555555555555558},{"$f":"IF($D4>$E4,1,0)+IF($D5>$E5,1,0)+IF($D6>$E6,1,0)+IF($D7>$E7,1,0)+IF($D8>$E8,1,0)+IF($D9>$E9,1,0)+IF($D10>$E10,1,0)+IF($D11>$E11,1,0)+IF($D12>$E12,1,0)","v":6},{"$f":"IF($D4<$E4,1,0)+IF($D5<$E5,1,0)+IF($D6<$E6,1,0)+IF($D7<$E7,1,0)+IF($D8<$E8,1,0)+IF($D9<$E9,1,0)+IF($D10<$E10,1,0)+IF($D11<$E11,1,0)+IF($D12<$E12,1,0)","v":2},{"$f":"COUNT(D4:D12)-9+IF($D4=$E4,1,0)+IF($D5=$E5,1,0)+IF($D6=$E6,1,0)+IF($D7=$E7,1,0)+IF($D8=$E8,1,0)+IF($D9=$E9,1,0)+IF($D10=$E10,1,0)+IF($D11=$E11,1,0)+IF($D12=$E12,1,0)","v":1}]
[null,"Hoffenheim","Bremen",1,0]
[null,"Hertha","Stuttgart",2,0]
[null,"Hamburg","Augsburg",1,0]
[null,"Mainz","Hannover",0,1]
[null,"Wolfsburg","Dortmund",0,3]
[null,"Schalke","Leipzig",2,0]
[null,"Freiburg","Frankfurt",0,0]
[null,"Mönchengladbach","Köln",1,0]
[null,"Köln","Hamburg",1,3,"2. Spieltag",{"$f":"SUM($D13:$D21)+SUM($E13:$E21)","v":24},{"$f":"SUM($D13:$D21)","v":13},{"$f":"SUM($E13:$E21)","v":11},{"$f":"IF(COUNT($D13:$E21)>0,G13/COUNT($D13:$D21),0)","v":2.6666666666666665},{"$f":"IF(COUNT($D13:$E21)>0,H13/COUNT($D13:$D21),0)","v":1.4444444444444444},{"$f":"IF(COUNT($D13:$E21)>0,I13/COUNT($D13:$D21),0)","v":1.2222222222222223},{"$f":"IF($D13>$E13,1,0)+IF($D14>$E14,1,0)+IF($D15>$E15,1,0)+IF($D16>$E16,1,0)+IF($D17>$E17,1,0)+IF($D18>$E18,1,0)+IF($D19>$E19,1,0)+IF($D20>$E20,1,0)+IF($D21>$E21,1,0)","v":4},{"$f":"IF($D13<$E13,1,0)+IF($D14<$E14,1,0)+IF($D15<$E15,1,0)+IF($D16<$E16,1,0)+IF($D17<$E17,1,0)+IF($D18<$E18,1,0)+IF($D19<$E19,1,0)+IF($D20<$E20,1,0)+IF($D21<$E21,1,0)","v":3},{"$f":"COUNT(D13:D21)-9+IF($D13=$E13,1,0)+IF($D14=$E14,1,0)+IF($D15=$E15,1,0)+IF($D16=$E16,1,0)+IF($D17=$E17,1,0)+IF($D18=$E18,1,0)+IF($D19=$E19,1,0)+IF($D20=$E20,1,0)+IF($D21=$E21,1,0)","v":2}]
[null,"Bremen","Bayern",0,2]
[null,"Frankfurt","Wolfsburg",0,1]
[null,"Leverkusen","Hoffenheim",2,2]
[null,"Augsburg","Mönchengladbach",2,2]
[null,"Stuttgart","Mainz",1,0]
[null,"Dortmund","Hertha",2,0]
[null,"Leipzig","Freiburg",4,1]
[null,"Hannover","Schalke",1,0]
[null,"Hamburg","Leipzig",0,2,"3. Spieltag",{"$f":"SUM($D22:$D30)+SUM($E22:$E30)","v":20},{"$f":"SUM($D22:$D30)","v":13},{"$f":"SUM($E22:$E30)","v":7},{"$f":"IF(COUNT($D22:$E30)>0,G22/COUNT($D22:$D30),0)","v":2.2222222222222223},{"$f":"IF(COUNT($D22:$E30)>0,H22/COUNT($D22:$D30),0)","v":1.4444444444444444},{"$f":"IF(COUNT($D22:$E30)>0,I22/COUNT($D22:$D30),0)","v":0.77777777777777779},{"$f":"IF($D22>$E22,1,0)+IF($D23>$E23,1,0)+IF($D24>$E24,1,0)+IF($D25>$E25,1,0)+IF($D26>$E26,1,0)+IF($D27>$E27,1,0)+IF($D28>$E28,1,0)+IF($D29>$E29,1,0)+IF($D30>$E30,1,0)","v":4},{"$f":"IF($D22<$E22,1,0)+IF($D23<$E23,1,0)+IF($D24<$E24,1,0)+IF($D25<$E25,1,0)+IF($D26<$E26,1,0)+IF($D27<$E27,1,0)+IF($D28<$E28,1,0)+IF($D29<$E29,1,0)+IF($D30<$E30,1,0)","v":2},{"$f":"COUNT(D22:D30)-9+IF($D22=$E22,1,0)+IF($D23=$E23,1,0)+IF($D24=$E24,1,0)+IF($D25=$E25,1,0)+IF($D26=$E26,1,0)+IF($D27=$E27,1,0)+IF($D28=$E28,1,0)+IF($D29=$E29,1,0)+IF($D30=$E30,1,0)","v":3}]
[null,"Freiburg","Dortmund",0,0]
[null,"Mönchengladbach","Frankfurt",0,1]
[null,"Augsburg","Köln",3,0]
[null,"Mainz","Leverkusen",3,1]
[null,"Wolfsburg","Hannover",1,1]
[null,"Hoffenheim","Bayern",2,0]
[null,"Hertha","Bremen",1,1]
[null,"Schalke","Stuttgart",3,1]
[null,"Hannover","Hamburg",2,0,"4. Spieltag",{"$f":"SUM($D31:$D39)+SUM($E31:$E39)","v":28},{"$f":"SUM($D31:$D39)","v":21},{"$f":"SUM($E31:$E39)","v":7},{"$f":"IF(COUNT($D31:$E39)>0,G31/COUNT($D31:$D39),0)","v":3.1111111111111112},{"$f":"IF(COUNT($D31:$E39)>0,H31/COUNT($D31:$D39),0)","v":2.3333333333333335},{"$f":"IF(COUNT($D31:$E39)>0,I31/COUNT($D31:$D39),0)","v":0.77777777777777779},{"$f":"IF($D31>$E31,1,0)+IF($D32>$E32,1,0)+IF($D33>$E33,1,0)+IF($D34>$E34,1,0)+IF($D35>$E35,1,0)+IF($D36>$E36,1,0)+IF($D37>$E37,1,0)+IF($D38>$E38,1,0)+IF($D39>$E39,1,0)","v":5},{"$f":"IF($D31<$E31,1,0)+IF($D32<$E32,1,0)+IF($D33<$E33,1,0)+IF($D34<$E34,1,0)+IF($D35<$E35,1,0)+IF($D36<$E36,1,0)+IF($D37<$E37,1,0)+IF($D38<$E38,1,0)+IF($D39<$E39,1,0)","v":2},{"$f":"COUNT(D31:D39)-9+IF($D31=$E31,1,0)+IF($D32=$E32,1,0)+IF($D33=$E33,1,0)+IF($D34=$E34,1,0)+IF($D35=$E35,1,0)+IF($D36=$E36,1,0)+IF($D37=$E37,1,0)+IF($D38=$E38,1,0)+IF($D39=$E39,1,0)","v":2}]
[null,"Bayern","Mainz",4,0]
[null,"Bremen","Schalke",1,2]
[null,"Frankfurt","Augsburg",1,2]
[null,"Stuttgart","Wolfsburg",1,0]
[null,"Leipzig","Mönchengladbach",2,2]
[null,"Hoffenheim","Hertha",1,1]
[null,"Leverkusen","Freiburg",4,0]
[null,"Dortmund","Köln",5,0]
[null,"Mönchengladbach","Stuttgart",2,0,"5. Spieltag",{"$f":"SUM($D40:$D48)+SUM($E40:$E48)","v":22},{"$f":"SUM($D40:$D48)","v":9},{"$f":"SUM($E40:$E48)","v":13},{"$f":"IF(COUNT($D40:$E48)>0,G40/COUNT($D40:$D48),0)","v":2.4444444444444446},{"$f":"IF(COUNT($D40:$E48)>0,H40/COUNT($D40:$D48),0)","v":1},{"$f":"IF(COUNT($D40:$E48)>0,I40/COUNT($D40:$D48),0)","v":1.4444444444444444},{"$f":"IF($D40>$E40,1,0)+IF($D41>$E41,1,0)+IF($D42>$E42,1,0)+IF($D43>$E43,1,0)+IF($D44>$E44,1,0)+IF($D45>$E45,1,0)+IF($D46>$E46,1,0)+IF($D47>$E47,1,0)+IF($D48>$E48,1,0)","v":3},{"$f":"IF($D40<$E40,1,0)+IF($D41<$E41,1,0)+IF($D42<$E42,1,0)+IF($D43<$E43,1,0)+IF($D44<$E44,1,0)+IF($D45<$E45,1,0)+IF($D46<$E46,1,0)+IF($D47<$E47,1,0)+IF($D48<$E48,1,0)","v":4},{"$f":"COUNT(D40:D48)-9+IF($D40=$E40,1,0)+IF($D41=$E41,1,0)+IF($D42=$E42,1,0)+IF($D43=$E43,1,0)+IF($D44=$E44,1,0)+IF($D45=$E45,1,0)+IF($D46=$E46,1,0)+IF($D47=$E47,1,0)+IF($D48=$E48,1,0)","v":2}]
[null,"Schalke","Bayern",0,3]
[null,"Augsburg","Leipzig",1,0]
[null,"Wolfsburg","Bremen",1,1]
[null,"Köln","Frankfurt",0,1]
[null,"Hertha","Leverkusen",2,1]
[null,"Freiburg","Hannover",1,1]
[null,"Hamburg","Dortmund",0,3]
[null,"Mainz","Hoffenheim",2,3]
[null,"Bayern","Wolfsburg",2,2,"6. Spieltag",{"$f":"SUM($D49:$D57)+SUM($E49:$E57)","v":20},{"$f":"SUM($D49:$D57)","v":16},{"$f":"SUM($E49:$E57)","v":4},{"$f":"IF(COUNT($D49:$E57)>0,G49/COUNT($D49:$D57),0)","v":2.2222222222222223},{"$f":"IF(COUNT($D49:$E57)>0,H49/COUNT($D49:$D57),0)","v":1.7777777777777777},{"$f":"IF(COUNT($D49:$E57)>0,I49/COUNT($D49:$D57),0)","v":0.44444444444444442},{"$f":"IF($D49>$E49,1,0)+IF($D50>$E50,1,0)+IF($D51>$E51,1,0)+IF($D52>$E52,1,0)+IF($D53>$E53,1,0)+IF($D54>$E54,1,0)+IF($D55>$E55,1,0)+IF($D56>$E56,1,0)+IF($D57>$E57,1,0)","v":5},{"$f":"IF($D49<$E49,1,0)+IF($D50<$E50,1,0)+IF($D51<$E51,1,0)+IF($D52<$E52,1,0)+IF($D53<$E53,1,0)+IF($D54<$E54,1,0)+IF($D55<$E55,1,0)+IF($D56<$E56,1,0)+IF($D57<$E57,1,0)","v":0},{"$f":"COUNT(D49:D57)-9+IF($D49=$E49,1,0)+IF($D50=$E50,1,0)+IF($D51=$E51,1,0)+IF($D52=$E52,1,0)+IF($D53=$E53,1,0)+IF($D54=$E54,1,0)+IF($D55=$E55,1,0)+IF($D56=$E56,1,0)+IF($D57=$E57,1,0)","v":4}]
[null,"Leipzig","Frankfurt",2,1]
[null,"Hoffenheim","Schalke",2,0]
[null,"Bremen","Freiburg",0,0]
[null,"Mainz","Hertha",1,0]
[null,"Stuttgart","Augsburg",0,0]
[null,"Dortmund","Mönchengladbach",6,1]
[null,"Hannover","Köln",0,0]
[null,"Leverkusen","Hamburg",3,0]
[null,"Köln","Leipzig",1,2,"7. Spieltag",{"$f":"SUM($D58:$D66)+SUM($E58:$E66)","v":25},{"$f":"SUM($D58:$D66)","v":13},{"$f":"SUM($E58:$E66)","v":12},{"$f":"IF(COUNT($D58:$E66)>0,G58/COUNT($D58:$D66),0)","v":2.7777777777777777},{"$f":"IF(COUNT($D58:$E66)>0,H58/COUNT($D58:$D66),0)","v":1.4444444444444444},{"$f":"IF(COUNT($D58:$E66)>0,I58/COUNT($D58:$D66),0)","v":1.3333333333333333},{"$f":"IF($D58>$E58,1,0)+IF($D59>$E59,1,0)+IF($D60>$E60,1,0)+IF($D61>$E61,1,0)+IF($D62>$E62,1,0)+IF($D63>$E63,1,0)+IF($D64>$E64,1,0)+IF($D65>$E65,1,0)+IF($D66>$E66,1,0)","v":3},{"$f":"IF($D58<$E58,1,0)+IF($D59<$E59,1,0)+IF($D60<$E60,1,0)+IF($D61<$E61,1,0)+IF($D62<$E62,1,0)+IF($D63<$E63,1,0)+IF($D64<$E64,1,0)+IF($D65<$E65,1,0)+IF($D66<$E66,1,0)","v":2},{"$f":"COUNT(D58:D66)-9+IF($D58=$E58,1,0)+IF($D59=$E59,1,0)+IF($D60=$E60,1,0)+IF($D61=$E61,1,0)+IF($D62=$E62,1,0)+IF($D63=$E63,1,0)+IF($D64=$E64,1,0)+IF($D65=$E65,1,0)+IF($D66=$E66,1,0)","v":4}]
[null,"Hertha","Bayern",2,2]
[null,"Freiburg","Hoffenheim",3,2]
[null,"Mönchengladbach","Hannover",2,1]
[null,"Schalke","Leverkusen",1,1]
[null,"Frankfurt","Stuttgart",2,1]
[null,"Augsburg","Dortmund",1,2]
[null,"Hamburg","Bremen",0,0]
[null,"Wolfsburg","Mainz",1,1]
[null,"Bayern","Freiburg",5,0,"8. Spieltag",{"$f":"SUM($D67:$D75)+SUM($E67:$E75)","v":33},{"$f":"SUM($D67:$D75)","v":17},{"$f":"SUM($E67:$E75)","v":16},{"$f":"IF(COUNT($D67:$E75)>0,G67/COUNT($D67:$D75),0)","v":3.6666666666666665},{"$f":"IF(COUNT($D67:$E75)>0,H67/COUNT($D67:$D75),0)","v":1.8888888888888888},{"$f":"IF(COUNT($D67:$E75)>0,I67/COUNT($D67:$D75),0)","v":1.7777777777777777},{"$f":"IF($D67>$E67,1,0)+IF($D68>$E68,1,0)+IF($D69>$E69,1,0)+IF($D70>$E70,1,0)+IF($D71>$E71,1,0)+IF($D72>$E72,1,0)+IF($D73>$E73,1,0)+IF($D74>$E74,1,0)+IF($D75>$E75,1,0)","v":3},{"$f":"IF($D67<$E67,1,0)+IF($D68<$E68,1,0)+IF($D69<$E69,1,0)+IF($D70<$E70,1,0)+IF($D71<$E71,1,0)+IF($D72<$E72,1,0)+IF($D73<$E73,1,0)+IF($D74<$E74,1,0)+IF($D75<$E75,1,0)","v":4},{"$f":"COUNT(D67:D75)-9+IF($D67=$E67,1,0)+IF($D68=$E68,1,0)+IF($D69=$E69,1,0)+IF($D70=$E70,1,0)+IF($D71=$E71,1,0)+IF($D72=$E72,1,0)+IF($D73=$E73,1,0)+IF($D74=$E74,1,0)+IF($D75=$E75,1,0)","v":2}]
[null,"Dortmund","Leipzig",2,3]
[null,"Hoffenheim","Augsburg",2,2]
[null,"Hertha","Schalke",0,2]
[null,"Bremen","Mönchengladbach",0,2]
[null,"Leverkusen","Wolfsburg",2,2]
[null,"Mainz","Hamburg",3,2]
[null,"Hannover","Frankfurt",1,2]
[null,"Stuttgart","Köln",2,1]
[null,"Leipzig","Stuttgart",1,0,"9. Spieltag",{"$f":"SUM($D76:$D84)+SUM($E76:$E84)","v":21},{"$f":"SUM($D76:$D84)","v":9},{"$f":"SUM($E76:$E84)","v":12},{"$f":"IF(COUNT($D76:$E84)>0,G76/COUNT($D76:$D84),0)","v":2.3333333333333335},{"$f":"IF(COUNT($D76:$E84)>0,H76/COUNT($D76:$D84),0)","v":1},{"$f":"IF(COUNT($D76:$E84)>0,I76/COUNT($D76:$D84),0)","v":1.3333333333333333},{"$f":"IF($D76>$E76,1,0)+IF($D77>$E77,1,0)+IF($D78>$E78,1,0)+IF($D79>$E79,1,0)+IF($D80>$E80,1,0)+IF($D81>$E81,1,0)+IF($D82>$E82,1,0)+IF($D83>$E83,1,0)+IF($D84>$E84,1,0)","v":2},{"$f":"IF($D76<$E76,1,0)+IF($D77<$E77,1,0)+IF($D78<$E78,1,0)+IF($D79<$E79,1,0)+IF($D80<$E80,1,0)+IF($D81<$E81,1,0)+IF($D82<$E82,1,0)+IF($D83<$E83,1,0)+IF($D84<$E84,1,0)","v":3},{"$f":"COUNT(D76:D84)-9+IF($D76=$E76,1,0)+IF($D77=$E77,1,0)+IF($D78=$E78,1,0)+IF($D79=$E79,1,0)+IF($D80=$E80,1,0)+IF($D81=$E81,1,0)+IF($D82=$E82,1,0)+IF($D83=$E83,1,0)+IF($D84=$E84,1,0)","v":4}]
[null,"Köln","Bremen",0,0]
[null,"Freiburg","Hertha",1,1]
[null,"Mönchengladbach","Leverkusen",1,5]
[null,"Schalke","Mainz",2,0]
[null,"Frankfurt","Dortmund",2,2]
[null,"Augsburg","Hannover",1,2]
[null,"Hamburg","Bayern",0,1]
[null,"Wolfsburg","Hoffenheim",1,1]
[null,"Bayern","Leipzig",2,0,"10. Spieltag",{"$f":"SUM($D85:$D93)+SUM($E85:$E93)","v":28},{"$f":"SUM($D85:$D93)","v":16},{"$f":"SUM($E85:$E93)","v":12},{"$f":"IF(COUNT($D85:$E93)>0,G85/COUNT($D85:$D93),0)","v":3.1111111111111112},{"$f":"IF(COUNT($D85:$E93)>0,H85/COUNT($D85:$D93),0)","v":1.7777777777777777},{"$f":"IF(COUNT($D85:$E93)>0,I85/COUNT($D85:$D93),0)","v":1.3333333333333333},{"$f":"IF($D85>$E85,1,0)+IF($D86>$E86,1,0)+IF($D87>$E87,1,0)+IF($D88>$E88,1,0)+IF($D89>$E89,1,0)+IF($D90>$E90,1,0)+IF($D91>$E91,1,0)+IF($D92>$E92,1,0)+IF($D93>$E93,1,0)","v":5},{"$f":"IF($D85<$E85,1,0)+IF($D86<$E86,1,0)+IF($D87<$E87,1,0)+IF($D88<$E88,1,0)+IF($D89<$E89,1,0)+IF($D90<$E90,1,0)+IF($D91<$E91,1,0)+IF($D92<$E92,1,0)+IF($D93<$E93,1,0)","v":2},{"$f":"COUNT(D85:D93)-9+IF($D85=$E85,1,0)+IF($D86=$E86,1,0)+IF($D87=$E87,1,0)+IF($D88=$E88,1,0)+IF($D89=$E89,1,0)+IF($D90=$E90,1,0)+IF($D91=$E91,1,0)+IF($D92=$E92,1,0)+IF($D93=$E93,1,0)","v":2}]
[null,"Hoffenheim","Mönchengladbach",1,3]
[null,"Hertha","Hamburg",2,1]
[null,"Bremen","Augsburg",0,3]
[null,"Schalke","Wolfsburg",1,1]
[null,"Leverkusen","Köln",2,1]
[null,"Mainz","Frankfurt",1,1]
[null,"Hannover","Dortmund",4,2]
[null,"Stuttgart","Freiburg",3,0]
[null,"Dortmund","Bayern",1,3,"11. Spieltag",{"$f":"SUM($D94:$D102)+SUM($E94:$E102)","v":28},{"$f":"SUM($D94:$D102)","v":13},{"$f":"SUM($E94:$E102)","v":15},{"$f":"IF(COUNT($D94:$E102)>0,G94/COUNT($D94:$D102),0)","v":3.1111111111111112},{"$f":"IF(COUNT($D94:$E102)>0,H94/COUNT($D94:$D102),0)","v":1.4444444444444444},{"$f":"IF(COUNT($D94:$E102)>0,I94/COUNT($D94:$D102),0)","v":1.6666666666666667},{"$f":"IF($D94>$E94,1,0)+IF($D95>$E95,1,0)+IF($D96>$E96,1,0)+IF($D97>$E97,1,0)+IF($D98>$E98,1,0)+IF($D99>$E99,1,0)+IF($D100>$E100,1,0)+IF($D101>$E101,1,0)+IF($D102>$E102,1,0)","v":3},{"$f":"IF($D94<$E94,1,0)+IF($D95<$E95,1,0)+IF($D96<$E96,1,0)+IF($D97<$E97,1,0)+IF($D98<$E98,1,0)+IF($D99<$E99,1,0)+IF($D100<$E100,1,0)+IF($D101<$E101,1,0)+IF($D102<$E102,1,0)","v":3},{"$f":"COUNT(D94:D102)-9+IF($D94=$E94,1,0)+IF($D95=$E95,1,0)+IF($D96=$E96,1,0)+IF($D97=$E97,1,0)+IF($D98=$E98,1,0)+IF($D99=$E99,1,0)+IF($D100=$E100,1,0)+IF($D101=$E101,1,0)+IF($D102=$E102,1,0)","v":3}]
[null,"Leipzig","Hannover",2,1]
[null,"Köln","Hoffenheim",0,3]
[null,"Freiburg","Schalke",0,1]
[null,"Mönchengladbach","Mainz",1,1]
[null,"Frankfurt","Bremen",2,1]
[null,"Augsburg","Leverkusen",1,1]
[null,"Hamburg","Stuttgart",3,1]
[null,"Wolfsburg","Hertha",3,3]
[null,"Bayern","Augsburg",3,0,"12. Spieltag",{"$f":"SUM($D103:$D111)+SUM($E103:$E111)","v":29},{"$f":"SUM($D103:$D111)","v":20},{"$f":"SUM($E103:$E111)","v":9},{"$f":"IF(COUNT($D103:$E111)>0,G103/COUNT($D103:$D111),0)","v":3.2222222222222223},{"$f":"IF(COUNT($D103:$E111)>0,H103/COUNT($D103:$D111),0)","v":2.2222222222222223},{"$f":"IF(COUNT($D103:$E111)>0,I103/COUNT($D103:$D111),0)","v":1},{"$f":"IF($D103>$E103,1,0)+IF($D104>$E104,1,0)+IF($D105>$E105,1,0)+IF($D106>$E106,1,0)+IF($D107>$E107,1,0)+IF($D108>$E108,1,0)+IF($D109>$E109,1,0)+IF($D110>$E110,1,0)+IF($D111>$E111,1,0)","v":6},{"$f":"IF($D103<$E103,1,0)+IF($D104<$E104,1,0)+IF($D105<$E105,1,0)+IF($D106<$E106,1,0)+IF($D107<$E107,1,0)+IF($D108<$E108,1,0)+IF($D109<$E109,1,0)+IF($D110<$E110,1,0)+IF($D111<$E111,1,0)","v":1},{"$f":"COUNT(D103:D111)-9+IF($D103=$E103,1,0)+IF($D104=$E104,1,0)+IF($D105=$E105,1,0)+IF($D106=$E106,1,0)+IF($D107=$E107,1,0)+IF($D108=$E108,1,0)+IF($D109=$E109,1,0)+IF($D110=$E110,1,0)+IF($D111=$E111,1,0)","v":2}]
[null,"Hoffenheim","Frankfurt",1,1]
[null,"Hertha","Mönchengladbach",2,4]
[null,"Bremen","Hannover",4,0]
[null,"Schalke","Hamburg",2,0]
[null,"Leverkusen","Leipzig",2,2]
[null,"Mainz","Köln",1,0]
[null,"Wolfsburg","Freiburg",3,1]
[null,"Stuttgart","Dortmund",2,1]
[null,"Dortmund","Schalke",4,4,"13. Spieltag",{"$f":"SUM($D112:$D120)+SUM($E112:$E120)","v":27},{"$f":"SUM($D112:$D120)","v":16},{"$f":"SUM($E112:$E120)","v":11},{"$f":"IF(COUNT($D112:$E120)>0,G112/COUNT($D112:$D120),0)","v":3},{"$f":"IF(COUNT($D112:$E120)>0,H112/COUNT($D112:$D120),0)","v":1.7777777777777777},{"$f":"IF(COUNT($D112:$E120)>0,I112/COUNT($D112:$D120),0)","v":1.2222222222222223},{"$f":"IF($D112>$E112,1,0)+IF($D113>$E113,1,0)+IF($D114>$E114,1,0)+IF($D115>$E115,1,0)+IF($D116>$E116,1,0)+IF($D117>$E117,1,0)+IF($D118>$E118,1,0)+IF($D119>$E119,1,0)+IF($D120>$E120,1,0)","v":5},{"$f":"IF($D112<$E112,1,0)+IF($D113<$E113,1,0)+IF($D114<$E114,1,0)+IF($D115<$E115,1,0)+IF($D116<$E116,1,0)+IF($D117<$E117,1,0)+IF($D118<$E118,1,0)+IF($D119<$E119,1,0)+IF($D120<$E120,1,0)","v":2},{"$f":"COUNT(D112:D120)-9+IF($D112=$E112,1,0)+IF($D113=$E113,1,0)+IF($D114=$E114,1,0)+IF($D115=$E115,1,0)+IF($D116=$E116,1,0)+IF($D117=$E117,1,0)+IF($D118=$E118,1,0)+IF($D119=$E119,1,0)+IF($D120=$E120,1,0)","v":2}]
[null,"Leipzig","Bremen",2,0]
[null,"Köln","Hertha",0,2]
[null,"Freiburg","Mainz",2,1]
[null,"Mönchengladbach","Bayern",2,1]
[null,"Frankfurt","Leverkusen",0,1]
[null,"Augsburg","Wolfsburg",2,1]
[null,"Hamburg","Hoffenheim",3,0]
[null,"Hannover","Stuttgart",1,1]
[null,"Bayern","Hannover",3,1,"14. Spieltag",{"$f":"SUM($D121:$D129)+SUM($E121:$E129)","v":25},{"$f":"SUM($D121:$D129)","v":16},{"$f":"SUM($E121:$E129)","v":9},{"$f":"IF(COUNT($D121:$E129)>0,G121/COUNT($D121:$D129),0)","v":2.7777777777777777},{"$f":"IF(COUNT($D121:$E129)>0,H121/COUNT($D121:$D129),0)","v":1.7777777777777777},{"$f":"IF(COUNT($D121:$E129)>0,I121/COUNT($D121:$D129),0)","v":1},{"$f":"IF($D121>$E121,1,0)+IF($D122>$E122,1,0)+IF($D123>$E123,1,0)+IF($D124>$E124,1,0)+IF($D125>$E125,1,0)+IF($D126>$E126,1,0)+IF($D127>$E127,1,0)+IF($D128>$E128,1,0)+IF($D129>$E129,1,0)","v":4},{"$f":"IF($D121<$E121,1,0)+IF($D122<$E122,1,0)+IF($D123<$E123,1,0)+IF($D124<$E124,1,0)+IF($D125<$E125,1,0)+IF($D126<$E126,1,0)+IF($D127<$E127,1,0)+IF($D128<$E128,1,0)+IF($D129<$E129,1,0)","v":2},{"$f":"COUNT(D121:D129)-9+IF($D121=$E121,1,0)+IF($D122=$E122,1,0)+IF($D123=$E123,1,0)+IF($D124=$E124,1,0)+IF($D125=$E125,1,0)+IF($D126=$E126,1,0)+IF($D127=$E127,1,0)+IF($D128=$E128,1,0)+IF($D129=$E129,1,0)","v":3}]
[null,"Hoffenheim","Leipzig",4,0]
[null,"Hertha","Frankfurt",1,2]
[null,"Freiburg","Hamburg",0,0]
[null,"Bremen","Stuttgart",1,0]
[null,"Schalke","Köln",2,2]
[null,"Leverkusen","Dortmund",1,1]
[null,"Mainz","Augsburg",1,3]
[null,"Wolfsburg","Mönchengladbach",3,0]
[null,"Dortmund","Bremen",1,2,"15. Spieltag",{"$f":"SUM($D130:$D138)+SUM($E130:$E138)","v":23},{"$f":"SUM($D130:$D138)","v":10},{"$f":"SUM($E130:$E138)","v":13},{"$f":"IF(COUNT($D130:$E138)>0,G130/COUNT($D130:$D138),0)","v":2.5555555555555554},{"$f":"IF(COUNT($D130:$E138)>0,H130/COUNT($D130:$D138),0)","v":1.1111111111111112},{"$f":"IF(COUNT($D130:$E138)>0,I130/COUNT($D130:$D138),0)","v":1.4444444444444444},{"$f":"IF($D130>$E130,1,0)+IF($D131>$E131,1,0)+IF($D132>$E132,1,0)+IF($D133>$E133,1,0)+IF($D134>$E134,1,0)+IF($D135>$E135,1,0)+IF($D136>$E136,1,0)+IF($D137>$E137,1,0)+IF($D138>$E138,1,0)","v":1},{"$f":"IF($D130<$E130,1,0)+IF($D131<$E131,1,0)+IF($D132<$E132,1,0)+IF($D133<$E133,1,0)+IF($D134<$E134,1,0)+IF($D135<$E135,1,0)+IF($D136<$E136,1,0)+IF($D137<$E137,1,0)+IF($D138<$E138,1,0)","v":4},{"$f":"COUNT(D130:D138)-9+IF($D130=$E130,1,0)+IF($D131=$E131,1,0)+IF($D132=$E132,1,0)+IF($D133=$E133,1,0)+IF($D134=$E134,1,0)+IF($D135=$E135,1,0)+IF($D136=$E136,1,0)+IF($D137=$E137,1,0)+IF($D138=$E138,1,0)","v":4}]
[null,"Leipzig","Mainz",2,2]
[null,"Köln","Freiburg",3,4]
[null,"Mönchengladbach","Schalke",1,1]
[null,"Frankfurt","Bayern",0,1]
[null,"Augsburg","Hertha",1,1]
[null,"Hamburg","Wolfsburg",0,0]
[null,"Hannover","Hoffenheim",2,0]
[null,"Stuttgart","Leverkusen",0,2]
[null,"Bayern","Köln",1,0,"16. Spieltag",{"$f":"SUM($D139:$D147)+SUM($E139:$E147)","v":20},{"$f":"SUM($D139:$D147)","v":12},{"$f":"SUM($E139:$E147)","v":8},{"$f":"IF(COUNT($D139:$E147)>0,G139/COUNT($D139:$D147),0)","v":2.2222222222222223},{"$f":"IF(COUNT($D139:$E147)>0,H139/COUNT($D139:$D147),0)","v":1.3333333333333333},{"$f":"IF(COUNT($D139:$E147)>0,I139/COUNT($D139:$D147),0)","v":0.88888888888888884},{"$f":"IF($D139>$E139,1,0)+IF($D140>$E140,1,0)+IF($D141>$E141,1,0)+IF($D142>$E142,1,0)+IF($D143>$E143,1,0)+IF($D144>$E144,1,0)+IF($D145>$E145,1,0)+IF($D146>$E146,1,0)+IF($D147>$E147,1,0)","v":6},{"$f":"IF($D139<$E139,1,0)+IF($D140<$E140,1,0)+IF($D141<$E141,1,0)+IF($D142<$E142,1,0)+IF($D143<$E143,1,0)+IF($D144<$E144,1,0)+IF($D145<$E145,1,0)+IF($D146<$E146,1,0)+IF($D147<$E147,1,0)","v":2},{"$f":"COUNT(D139:D147)-9+IF($D139=$E139,1,0)+IF($D140=$E140,1,0)+IF($D141=$E141,1,0)+IF($D142=$E142,1,0)+IF($D143=$E143,1,0)+IF($D144=$E144,1,0)+IF($D145=$E145,1,0)+IF($D146=$E146,1,0)+IF($D147=$E147,1,0)","v":1}]
[null,"Hoffenheim","Stuttgart",1,0]
[null,"Hertha","Hannover",3,1]
[null,"Freiburg","Mönchengladbach",1,0]
[null,"Schalke","Augsburg",3,2]
[null,"Leverkusen","Bremen",1,0]
[null,"Hamburg","Frankfurt",1,2]
[null,"Mainz","Dortmund",0,2]
[null,"Wolfsburg","Leipzig",1,1]
[null,"Dortmund","Hoffenheim",2,1,"17. Spieltag",{"$f":"SUM($D148:$D156)+SUM($E148:$E156)","v":36},{"$f":"SUM($D148:$D156)","v":19},{"$f":"SUM($E148:$E156)","v":17},{"$f":"IF(COUNT($D148:$E156)>0,G148/COUNT($D148:$D156),0)","v":4},{"$f":"IF(COUNT($D148:$E156)>0,H148/COUNT($D148:$D156),0)","v":2.1111111111111112},{"$f":"IF(COUNT($D148:$E156)>0,I148/COUNT($D148:$D156),0)","v":1.8888888888888888},{"$f":"IF($D148>$E148,1,0)+IF($D149>$E149,1,0)+IF($D150>$E150,1,0)+IF($D151>$E151,1,0)+IF($D152>$E152,1,0)+IF($D153>$E153,1,0)+IF($D154>$E154,1,0)+IF($D155>$E155,1,0)+IF($D156>$E156,1,0)","v":3},{"$f":"IF($D148<$E148,1,0)+IF($D149<$E149,1,0)+IF($D150<$E150,1,0)+IF($D151<$E151,1,0)+IF($D152<$E152,1,0)+IF($D153<$E153,1,0)+IF($D154<$E154,1,0)+IF($D155<$E155,1,0)+IF($D156<$E156,1,0)","v":2},{"$f":"COUNT(D148:D156)-9+IF($D148=$E148,1,0)+IF($D149=$E149,1,0)+IF($D150=$E150,1,0)+IF($D151=$E151,1,0)+IF($D152=$E152,1,0)+IF($D153=$E153,1,0)+IF($D154=$E154,1,0)+IF($D155=$E155,1,0)+IF($D156=$E156,1,0)","v":4}]
[null,"Leipzig","Hertha",2,3]
[null,"Köln","Wolfsburg",1,0]
[null,"Bremen","Mainz",2,2]
[null,"Mönchengladbach","Hamburg",3,1]
[null,"Frankfurt","Schalke",2,2]
[null,"Augsburg","Freiburg",3,3]
[null,"Hannover","Leverkusen",4,4]
[null,"Stuttgart","Bayern",0,1]
[null,"Leverkusen","Bayern",1,3,"18. Spieltag",{"$f":"SUM($D157:$D165)+SUM($E157:$E165)","v":22},{"$f":"SUM($D157:$D165)","v":13},{"$f":"SUM($E157:$E165)","v":9},{"$f":"IF(COUNT($D157:$E165)>0,G157/COUNT($D157:$D165),0)","v":2.4444444444444446},{"$f":"IF(COUNT($D157:$E165)>0,H157/COUNT($D157:$D165),0)","v":1.4444444444444444},{"$f":"IF(COUNT($D157:$E165)>0,I157/COUNT($D157:$D165),0)","v":1},{"$f":"IF($D157>$E157,1,0)+IF($D158>$E158,1,0)+IF($D159>$E159,1,0)+IF($D160>$E160,1,0)+IF($D161>$E161,1,0)+IF($D162>$E162,1,0)+IF($D163>$E163,1,0)+IF($D164>$E164,1,0)+IF($D165>$E165,1,0)","v":5},{"$f":"IF($D157<$E157,1,0)+IF($D158<$E158,1,0)+IF($D159<$E159,1,0)+IF($D160<$E160,1,0)+IF($D161<$E161,1,0)+IF($D162<$E162,1,0)+IF($D163<$E163,1,0)+IF($D164<$E164,1,0)+IF($D165<$E165,1,0)","v":1},{"$f":"COUNT(D157:D165)-9+IF($D157=$E157,1,0)+IF($D158=$E158,1,0)+IF($D159=$E159,1,0)+IF($D160=$E160,1,0)+IF($D161=$E161,1,0)+IF($D162=$E162,1,0)+IF($D163=$E163,1,0)+IF($D164=$E164,1,0)+IF($D165=$E165,1,0)","v":3}]
[null,"Bremen","Hoffenheim",1,1]
[null,"Stuttgart","Hertha",1,0]
[null,"Augsburg","Hamburg",1,0]
[null,"Hannover","Mainz",3,2]
[null,"Dortmund","Wolfsburg",0,0]
[null,"Leipzig","Schalke",3,1]
[null,"Frankfurt","Freiburg",1,1]
[null,"Köln","Mönchengladbach",2,1]
[null,"Hamburg","Köln",0,2,"19. Spieltag",{"$f":"SUM($D166:$D174)+SUM($E166:$E174)","v":31},{"$f":"SUM($D166:$D174)","v":15},{"$f":"SUM($E166:$E174)","v":16},{"$f":"IF(COUNT($D166:$E174)>0,G166/COUNT($D166:$D174),0)","v":3.4444444444444446},{"$f":"IF(COUNT($D166:$E174)>0,H166/COUNT($D166:$D174),0)","v":1.6666666666666667},{"$f":"IF(COUNT($D166:$E174)>0,I166/COUNT($D166:$D174),0)","v":1.7777777777777777},{"$f":"IF($D166>$E166,1,0)+IF($D167>$E167,1,0)+IF($D168>$E168,1,0)+IF($D169>$E169,1,0)+IF($D170>$E170,1,0)+IF($D171>$E171,1,0)+IF($D172>$E172,1,0)+IF($D173>$E173,1,0)+IF($D174>$E174,1,0)","v":4},{"$f":"IF($D166<$E166,1,0)+IF($D167<$E167,1,0)+IF($D168<$E168,1,0)+IF($D169<$E169,1,0)+IF($D170<$E170,1,0)+IF($D171<$E171,1,0)+IF($D172<$E172,1,0)+IF($D173<$E173,1,0)+IF($D174<$E174,1,0)","v":3},{"$f":"COUNT(D166:D174)-9+IF($D166=$E166,1,0)+IF($D167=$E167,1,0)+IF($D168=$E168,1,0)+IF($D169=$E169,1,0)+IF($D170=$E170,1,0)+IF($D171=$E171,1,0)+IF($D172=$E172,1,0)+IF($D173=$E173,1,0)+IF($D174=$E174,1,0)","v":2}]
[null,"Bayern","Bremen",4,2]
[null,"Wolfsburg","Frankfurt",1,3]
[null,"Hoffenheim","Leverkusen",1,4]
[null,"Mönchengladbach","Augsburg",2,0]
[null,"Mainz","Stuttgart",3,2]
[null,"Hertha","Dortmund",1,1]
[null,"Freiburg","Leipzig",2,1]
[null,"Schalke","Hannover",1,1]
[null,"Leipzig","Hamburg",1,1,"20. Spieltag",{"$f":"SUM($D175:$D183)+SUM($E175:$E183)","v":22},{"$f":"SUM($D175:$D183)","v":13},{"$f":"SUM($E175:$E183)","v":9},{"$f":"IF(COUNT($D175:$E183)>0,G175/COUNT($D175:$D183),0)","v":2.4444444444444446},{"$f":"IF(COUNT($D175:$E183)>0,H175/COUNT($D175:$D183),0)","v":1.4444444444444444},{"$f":"IF(COUNT($D175:$E183)>0,I175/COUNT($D175:$D183),0)","v":1},{"$f":"IF($D175>$E175,1,0)+IF($D176>$E176,1,0)+IF($D177>$E177,1,0)+IF($D178>$E178,1,0)+IF($D179>$E179,1,0)+IF($D180>$E180,1,0)+IF($D181>$E181,1,0)+IF($D182>$E182,1,0)+IF($D183>$E183,1,0)","v":3},{"$f":"IF($D175<$E175,1,0)+IF($D176<$E176,1,0)+IF($D177<$E177,1,0)+IF($D178<$E178,1,0)+IF($D179<$E179,1,0)+IF($D180<$E180,1,0)+IF($D181<$E181,1,0)+IF($D182<$E182,1,0)+IF($D183<$E183,1,0)","v":2},{"$f":"COUNT(D175:D183)-9+IF($D175=$E175,1,0)+IF($D176=$E176,1,0)+IF($D177=$E177,1,0)+IF($D178=$E178,1,0)+IF($D179=$E179,1,0)+IF($D180=$E180,1,0)+IF($D181=$E181,1,0)+IF($D182=$E182,1,0)+IF($D183=$E183,1,0)","v":4}]
[null,"Dortmund","Freiburg",2,2]
[null,"Frankfurt","Mönchengladbach",2,0]
[null,"Köln","Augsburg",1,1]
[null,"Leverkusen","Mainz",2,0]
[null,"Hannover","Wolfsburg",0,1]
[null,"Bayern","Hoffenheim",5,2]
[null,"Bremen","Hertha",0,0]
[null,"Stuttgart","Schalke",0,2]
[null,"Hamburg","Hannover",1,1,"21. Spieltag",{"$f":"SUM($D184:$D192)+SUM($E184:$E192)","v":20},{"$f":"SUM($D184:$D192)","v":9},{"$f":"SUM($E184:$E192)","v":11},{"$f":"IF(COUNT($D184:$E192)>0,G184/COUNT($D184:$D192),0)","v":2.2222222222222223},{"$f":"IF(COUNT($D184:$E192)>0,H184/COUNT($D184:$D192),0)","v":1},{"$f":"IF(COUNT($D184:$E192)>0,I184/COUNT($D184:$D192),0)","v":1.2222222222222223},{"$f":"IF($D184>$E184,1,0)+IF($D185>$E185,1,0)+IF($D186>$E186,1,0)+IF($D187>$E187,1,0)+IF($D188>$E188,1,0)+IF($D189>$E189,1,0)+IF($D190>$E190,1,0)+IF($D191>$E191,1,0)+IF($D192>$E192,1,0)","v":1},{"$f":"IF($D184<$E184,1,0)+IF($D185<$E185,1,0)+IF($D186<$E186,1,0)+IF($D187<$E187,1,0)+IF($D188<$E188,1,0)+IF($D189<$E189,1,0)+IF($D190<$E190,1,0)+IF($D191<$E191,1,0)+IF($D192<$E192,1,0)","v":4},{"$f":"COUNT(D184:D192)-9+IF($D184=$E184,1,0)+IF($D185=$E185,1,0)+IF($D186=$E186,1,0)+IF($D187=$E187,1,0)+IF($D188=$E188,1,0)+IF($D189=$E189,1,0)+IF($D190=$E190,1,0)+IF($D191=$E191,1,0)+IF($D192=$E192,1,0)","v":4}]
[null,"Mainz","Bayern",0,2]
[null,"Schalke","Bremen",1,2]
[null,"Augsburg","Frankfurt",3,0]
[null,"Wolfsburg","Stuttgart",1,1]
[null,"Mönchengladbach","Leipzig",0,1]
[null,"Hertha","Hoffenheim",1,1]
[null,"Freiburg","Leverkusen",0,0]
[null,"Köln","Dortmund",2,3]
[null,"Stuttgart","Mönchengladbach",1,0,"22. Spieltag",{"$f":"SUM($D193:$D201)+SUM($E193:$E201)","v":29},{"$f":"SUM($D193:$D201)","v":20},{"$f":"SUM($E193:$E201)","v":9},{"$f":"IF(COUNT($D193:$E201)>0,G193/COUNT($D193:$D201),0)","v":3.2222222222222223},{"$f":"IF(COUNT($D193:$E201)>0,H193/COUNT($D193:$D201),0)","v":2.2222222222222223},{"$f":"IF(COUNT($D193:$E201)>0,I193/COUNT($D193:$D201),0)","v":1},{"$f":"IF($D193>$E193,1,0)+IF($D194>$E194,1,0)+IF($D195>$E195,1,0)+IF($D196>$E196,1,0)+IF($D197>$E197,1,0)+IF($D198>$E198,1,0)+IF($D199>$E199,1,0)+IF($D200>$E200,1,0)+IF($D201>$E201,1,0)","v":8},{"$f":"IF($D193<$E193,1,0)+IF($D194<$E194,1,0)+IF($D195<$E195,1,0)+IF($D196<$E196,1,0)+IF($D197<$E197,1,0)+IF($D198<$E198,1,0)+IF($D199<$E199,1,0)+IF($D200<$E200,1,0)+IF($D201<$E201,1,0)","v":1},{"$f":"COUNT(D193:D201)-9+IF($D193=$E193,1,0)+IF($D194=$E194,1,0)+IF($D195=$E195,1,0)+IF($D196=$E196,1,0)+IF($D197=$E197,1,0)+IF($D198=$E198,1,0)+IF($D199=$E199,1,0)+IF($D200=$E200,1,0)+IF($D201=$E201,1,0)","v":0}]
[null,"Bayern","Schalke",2,1]
[null,"Leipzig","Augsburg",2,0]
[null,"Bremen","Wolfsburg",3,1]
[null,"Frankfurt","Köln",4,2]
[null,"Leverkusen","Hertha",0,2]
[null,"Hannover","Freiburg",2,1]
[null,"Dortmund","Hamburg",2,0]
[null,"Hoffenheim","Mainz",4,2]
[null,"Wolfsburg","Bayern",1,2,"23. Spieltag",{"$f":"SUM($D202:$D210)+SUM($E202:$E210)","v":19},{"$f":"SUM($D202:$D210)","v":8},{"$f":"SUM($E202:$E210)","v":11},{"$f":"IF(COUNT($D202:$E210)>0,G202/COUNT($D202:$D210),0)","v":2.1111111111111112},{"$f":"IF(COUNT($D202:$E210)>0,H202/COUNT($D202:$D210),0)","v":0.88888888888888884},{"$f":"IF(COUNT($D202:$E210)>0,I202/COUNT($D202:$D210),0)","v":1.2222222222222223},{"$f":"IF($D202>$E202,1,0)+IF($D203>$E203,1,0)+IF($D204>$E204,1,0)+IF($D205>$E205,1,0)+IF($D206>$E206,1,0)+IF($D207>$E207,1,0)+IF($D208>$E208,1,0)+IF($D209>$E209,1,0)+IF($D210>$E210,1,0)","v":3},{"$f":"IF($D202<$E202,1,0)+IF($D203<$E203,1,0)+IF($D204<$E204,1,0)+IF($D205<$E205,1,0)+IF($D206<$E206,1,0)+IF($D207<$E207,1,0)+IF($D208<$E208,1,0)+IF($D209<$E209,1,0)+IF($D210<$E210,1,0)","v":5},{"$f":"COUNT(D202:D210)-9+IF($D202=$E202,1,0)+IF($D203=$E203,1,0)+IF($D204=$E204,1,0)+IF($D205=$E205,1,0)+IF($D206=$E206,1,0)+IF($D207=$E207,1,0)+IF($D208=$E208,1,0)+IF($D209=$E209,1,0)+IF($D210=$E210,1,0)","v":1}]
[null,"Frankfurt","Leipzig",2,1]
[null,"Schalke","Hoffenheim",2,1]
[null,"Freiburg","Bremen",1,0]
[null,"Hertha","Mainz",0,2]
[null,"Augsburg","Stuttgart",0,1]
[null,"Mönchengladbach","Dortmund",0,1]
[null,"Köln","Hannover",1,1]
[null,"Hamburg","Leverkusen",1,2]
[null,"Leipzig","Köln",1,2,"24. Spieltag",{"$f":"SUM($D211:$D219)+SUM($E211:$E219)","v":14},{"$f":"SUM($D211:$D219)","v":6},{"$f":"SUM($E211:$E219)","v":8},{"$f":"IF(COUNT($D211:$E219)>0,G211/COUNT($D211:$D219),0)","v":1.5555555555555556},{"$f":"IF(COUNT($D211:$E219)>0,H211/COUNT($D211:$D219),0)","v":0.66666666666666663},{"$f":"IF(COUNT($D211:$E219)>0,I211/COUNT($D211:$D219),0)","v":0.88888888888888884},{"$f":"IF($D211>$E211,1,0)+IF($D212>$E212,1,0)+IF($D213>$E213,1,0)+IF($D214>$E214,1,0)+IF($D215>$E215,1,0)+IF($D216>$E216,1,0)+IF($D217>$E217,1,0)+IF($D218>$E218,1,0)+IF($D219>$E219,1,0)","v":2},{"$f":"IF($D211<$E211,1,0)+IF($D212<$E212,1,0)+IF($D213<$E213,1,0)+IF($D214<$E214,1,0)+IF($D215<$E215,1,0)+IF($D216<$E216,1,0)+IF($D217<$E217,1,0)+IF($D218<$E218,1,0)+IF($D219<$E219,1,0)","v":3},{"$f":"COUNT(D211:D219)-9+IF($D211=$E211,1,0)+IF($D212=$E212,1,0)+IF($D213=$E213,1,0)+IF($D214=$E214,1,0)+IF($D215=$E215,1,0)+IF($D216=$E216,1,0)+IF($D217=$E217,1,0)+IF($D218=$E218,1,0)+IF($D219=$E219,1,0)","v":4}]
[null,"Bayern","Hertha",0,0]
[null,"Hoffenheim","Freiburg",1,1]
[null,"Hannover","Mönchengladbach",0,1]
[null,"Leverkusen","Schalke",0,2]
[null,"Stuttgart","Frankfurt",1,0]
[null,"Dortmund","Augsburg",1,1]
[null,"Bremen","Hamburg",1,0]
[null,"Mainz","Wolfsburg",1,1]
[null,"Freiburg","Bayern",0,4,"25. Spieltag",{"$f":"SUM($D220:$D228)+SUM($E220:$E228)","v":22},{"$f":"SUM($D220:$D228)","v":8},{"$f":"SUM($E220:$E228)","v":14},{"$f":"IF(COUNT($D220:$E228)>0,G220/COUNT($D220:$D228),0)","v":2.4444444444444446},{"$f":"IF(COUNT($D220:$E228)>0,H220/COUNT($D220:$D228),0)","v":0.88888888888888884},{"$f":"IF(COUNT($D220:$E228)>0,I220/COUNT($D220:$D228),0)","v":1.5555555555555556},{"$f":"IF($D220>$E220,1,0)+IF($D221>$E221,1,0)+IF($D222>$E222,1,0)+IF($D223>$E223,1,0)+IF($D224>$E224,1,0)+IF($D225>$E225,1,0)+IF($D226>$E226,1,0)+IF($D227>$E227,1,0)+IF($D228>$E228,1,0)","v":2},{"$f":"IF($D220<$E220,1,0)+IF($D221<$E221,1,0)+IF($D222<$E222,1,0)+IF($D223<$E223,1,0)+IF($D224<$E224,1,0)+IF($D225<$E225,1,0)+IF($D226<$E226,1,0)+IF($D227<$E227,1,0)+IF($D228<$E228,1,0)","v":4},{"$f":"COUNT(D220:D228)-9+IF($D220=$E220,1,0)+IF($D221=$E221,1,0)+IF($D222=$E222,1,0)+IF($D223=$E223,1,0)+IF($D224=$E224,1,0)+IF($D225=$E225,1,0)+IF($D226=$E226,1,0)+IF($D227=$E227,1,0)+IF($D228=$E228,1,0)","v":3}]
[null,"Leipzig","Dortmund",1,1]
[null,"Augsburg","Hoffenheim",0,2]
[null,"Schalke","Hertha",1,0]
[null,"Mönchengladbach","Bremen",2,2]
[null,"Wolfsburg","Leverkusen",1,2]
[null,"Hamburg","Mainz",0,0]
[null,"Frankfurt","Hannover",1,0]
[null,"Köln","Stuttgart",2,3]
[null,"Stuttgart","Leipzig",0,0,"26. Spieltag",{"$f":"SUM($D229:$D237)+SUM($E229:$E237)","v":25},{"$f":"SUM($D229:$D237)","v":18},{"$f":"SUM($E229:$E237)","v":7},{"$f":"IF(COUNT($D229:$E237)>0,G229/COUNT($D229:$D237),0)","v":2.7777777777777777},{"$f":"IF(COUNT($D229:$E237)>0,H229/COUNT($D229:$D237),0)","v":2},{"$f":"IF(COUNT($D229:$E237)>0,I229/COUNT($D229:$D237),0)","v":0.77777777777777779},{"$f":"IF($D229>$E229,1,0)+IF($D230>$E230,1,0)+IF($D231>$E231,1,0)+IF($D232>$E232,1,0)+IF($D233>$E233,1,0)+IF($D234>$E234,1,0)+IF($D235>$E235,1,0)+IF($D236>$E236,1,0)+IF($D237>$E237,1,0)","v":5},{"$f":"IF($D229<$E229,1,0)+IF($D230<$E230,1,0)+IF($D231<$E231,1,0)+IF($D232<$E232,1,0)+IF($D233<$E233,1,0)+IF($D234<$E234,1,0)+IF($D235<$E235,1,0)+IF($D236<$E236,1,0)+IF($D237<$E237,1,0)","v":2},{"$f":"COUNT(D229:D237)-9+IF($D229=$E229,1,0)+IF($D230=$E230,1,0)+IF($D231=$E231,1,0)+IF($D232=$E232,1,0)+IF($D233=$E233,1,0)+IF($D234=$E234,1,0)+IF($D235=$E235,1,0)+IF($D236=$E236,1,0)+IF($D237=$E237,1,0)","v":2}]
[null,"Bremen","Köln",3,1]
[null,"Hertha","Freiburg",0,0]
[null,"Leverkusen","Mönchengladbach",2,0]
[null,"Mainz","Schalke",0,1]
[null,"Dortmund","Frankfurt",3,2]
[null,"Hannover","Augsburg",1,3]
[null,"Bayern","Hamburg",6,0]
[null,"Hoffenheim","Wolfsburg",3,0]
[null,"Leipzig","Bayern",2,1,"27. Spieltag",{"$f":"SUM($D238:$D246)+SUM($E238:$E246)","v":26},{"$f":"SUM($D238:$D246)","v":14},{"$f":"SUM($E238:$E246)","v":12},{"$f":"IF(COUNT($D238:$E246)>0,G238/COUNT($D238:$D246),0)","v":2.8888888888888888},{"$f":"IF(COUNT($D238:$E246)>0,H238/COUNT($D238:$D246),0)","v":1.5555555555555556},{"$f":"IF(COUNT($D238:$E246)>0,I238/COUNT($D238:$D246),0)","v":1.3333333333333333},{"$f":"IF($D238>$E238,1,0)+IF($D239>$E239,1,0)+IF($D240>$E240,1,0)+IF($D241>$E241,1,0)+IF($D242>$E242,1,0)+IF($D243>$E243,1,0)+IF($D244>$E244,1,0)+IF($D245>$E245,1,0)+IF($D246>$E246,1,0)","v":4},{"$f":"IF($D238<$E238,1,0)+IF($D239<$E239,1,0)+IF($D240<$E240,1,0)+IF($D241<$E241,1,0)+IF($D242<$E242,1,0)+IF($D243<$E243,1,0)+IF($D244<$E244,1,0)+IF($D245<$E245,1,0)+IF($D246<$E246,1,0)","v":4},{"$f":"COUNT(D238:D246)-9+IF($D238=$E238,1,0)+IF($D239=$E239,1,0)+IF($D240=$E240,1,0)+IF($D241=$E241,1,0)+IF($D242=$E242,1,0)+IF($D243=$E243,1,0)+IF($D244=$E244,1,0)+IF($D245=$E245,1,0)+IF($D246=$E246,1,0)","v":1}]
[null,"Mönchengladbach","Hoffenheim",3,3]
[null,"Hamburg","Hertha",1,2]
[null,"Augsburg","Bremen",1,3]
[null,"Wolfsburg","Schalke",0,1]
[null,"Köln","Leverkusen",2,0]
[null,"Frankfurt","Mainz",3,0]
[null,"Dortmund","Hannover",1,0]
[null,"Freiburg","Stuttgart",1,2]
[null,"Bayern","Dortmund",6,0,"28. Spieltag",{"$f":"SUM($D247:$D255)+SUM($E247:$E255)","v":24},{"$f":"SUM($D247:$D255)","v":19},{"$f":"SUM($E247:$E255)","v":5},{"$f":"IF(COUNT($D247:$E255)>0,G247/COUNT($D247:$D255),0)","v":2.6666666666666665},{"$f":"IF(COUNT($D247:$E255)>0,H247/COUNT($D247:$D255),0)","v":2.1111111111111112},{"$f":"IF(COUNT($D247:$E255)>0,I247/COUNT($D247:$D255),0)","v":0.55555555555555558},{"$f":"IF($D247>$E247,1,0)+IF($D248>$E248,1,0)+IF($D249>$E249,1,0)+IF($D250>$E250,1,0)+IF($D251>$E251,1,0)+IF($D252>$E252,1,0)+IF($D253>$E253,1,0)+IF($D254>$E254,1,0)+IF($D255>$E255,1,0)","v":4},{"$f":"IF($D247<$E247,1,0)+IF($D248<$E248,1,0)+IF($D249<$E249,1,0)+IF($D250<$E250,1,0)+IF($D251<$E251,1,0)+IF($D252<$E252,1,0)+IF($D253<$E253,1,0)+IF($D254<$E254,1,0)+IF($D255<$E255,1,0)","v":1},{"$f":"COUNT(D247:D255)-9+IF($D247=$E247,1,0)+IF($D248=$E248,1,0)+IF($D249=$E249,1,0)+IF($D250=$E250,1,0)+IF($D251=$E251,1,0)+IF($D252=$E252,1,0)+IF($D253=$E253,1,0)+IF($D254=$E254,1,0)+IF($D255=$E255,1,0)","v":4}]
[null,"Hannover","Leipzig",2,3]
[null,"Hoffenheim","Köln",6,0]
[null,"Schalke","Freiburg",2,0]
[null,"Mainz","Mönchengladbach",0,0]
[null,"Bremen","Frankfurt",2,1]
[null,"Leverkusen","Augsburg",0,0]
[null,"Stuttgart","Hamburg",1,1]
[null,"Hertha","Wolfsburg",0,0]
[null,"Augsburg","Bayern",1,4,"29. Spieltag",{"$f":"SUM($D256:$D264)+SUM($E256:$E264)","v":30},{"$f":"SUM($D256:$D264)","v":14},{"$f":"SUM($E256:$E264)","v":16},{"$f":"IF(COUNT($D256:$E264)>0,G256/COUNT($D256:$D264),0)","v":3.3333333333333335},{"$f":"IF(COUNT($D256:$E264)>0,H256/COUNT($D256:$D264),0)","v":1.5555555555555556},{"$f":"IF(COUNT($D256:$E264)>0,I256/COUNT($D256:$D264),0)","v":1.7777777777777777},{"$f":"IF($D256>$E256,1,0)+IF($D257>$E257,1,0)+IF($D258>$E258,1,0)+IF($D259>$E259,1,0)+IF($D260>$E260,1,0)+IF($D261>$E261,1,0)+IF($D262>$E262,1,0)+IF($D263>$E263,1,0)+IF($D264>$E264,1,0)","v":4},{"$f":"IF($D256<$E256,1,0)+IF($D257<$E257,1,0)+IF($D258<$E258,1,0)+IF($D259<$E259,1,0)+IF($D260<$E260,1,0)+IF($D261<$E261,1,0)+IF($D262<$E262,1,0)+IF($D263<$E263,1,0)+IF($D264<$E264,1,0)","v":3},{"$f":"COUNT(D256:D264)-9+IF($D256=$E256,1,0)+IF($D257=$E257,1,0)+IF($D258=$E258,1,0)+IF($D259=$E259,1,0)+IF($D260=$E260,1,0)+IF($D261=$E261,1,0)+IF($D262=$E262,1,0)+IF($D263=$E263,1,0)+IF($D264=$E264,1,0)","v":2}]
[null,"Frankfurt","Hoffenheim",1,1]
[null,"Mönchengladbach","Hertha",2,1]
[null,"Hannover","Bremen",2,1]
[null,"Hamburg","Schalke",3,2]
[null,"Leipzig","Leverkusen",1,4]
[null,"Köln","Mainz",1,1]
[null,"Freiburg","Wolfsburg",0,2]
[null,"Dortmund","Stuttgart",3,0]
[null,"Schalke","Dortmund",2,0,"30. Spieltag",{"$f":"SUM($D265:$D273)+SUM($E265:$E273)","v":24},{"$f":"SUM($D265:$D273)","v":19},{"$f":"SUM($E265:$E273)","v":5},{"$f":"IF(COUNT($D265:$E273)>0,G265/COUNT($D265:$D273),0)","v":2.6666666666666665},{"$f":"IF(COUNT($D265:$E273)>0,H265/COUNT($D265:$D273),0)","v":2.1111111111111112},{"$f":"IF(COUNT($D265:$E273)>0,I265/COUNT($D265:$D273),0)","v":0.55555555555555558},{"$f":"IF($D265>$E265,1,0)+IF($D266>$E266,1,0)+IF($D267>$E267,1,0)+IF($D268>$E268,1,0)+IF($D269>$E269,1,0)+IF($D270>$E270,1,0)+IF($D271>$E271,1,0)+IF($D272>$E272,1,0)+IF($D273>$E273,1,0)","v":6},{"$f":"IF($D265<$E265,1,0)+IF($D266<$E266,1,0)+IF($D267<$E267,1,0)+IF($D268<$E268,1,0)+IF($D269<$E269,1,0)+IF($D270<$E270,1,0)+IF($D271<$E271,1,0)+IF($D272<$E272,1,0)+IF($D273<$E273,1,0)","v":0},{"$f":"COUNT(D265:D273)-9+IF($D265=$E265,1,0)+IF($D266=$E266,1,0)+IF($D267=$E267,1,0)+IF($D268=$E268,1,0)+IF($D269=$E269,1,0)+IF($D270=$E270,1,0)+IF($D271=$E271,1,0)+IF($D272=$E272,1,0)+IF($D273=$E273,1,0)","v":3}]
[null,"Bremen","Leipzig",1,1]
[null,"Hertha","Köln",2,1]
[null,"Mainz","Freiburg",2,0]
[null,"Bayern","Mönchengladbach",5,1]
[null,"Leverkusen","Frankfurt",4,1]
[null,"Wolfsburg","Augsburg",0,0]
[null,"Hoffenheim","Hamburg",2,0]
[null,"Stuttgart","Hannover",1,1]
[null,"Hannover","Bayern",0,3,"31. Spieltag",{"$f":"SUM($D274:$D282)+SUM($E274:$E282)","v":29},{"$f":"SUM($D274:$D282)","v":16},{"$f":"SUM($E274:$E282)","v":13},{"$f":"IF(COUNT($D274:$E282)>0,G274/COUNT($D274:$D282),0)","v":3.2222222222222223},{"$f":"IF(COUNT($D274:$E282)>0,H274/COUNT($D274:$D282),0)","v":1.7777777777777777},{"$f":"IF(COUNT($D274:$E282)>0,I274/COUNT($D274:$D282),0)","v":1.4444444444444444},{"$f":"IF($D274>$E274,1,0)+IF($D275>$E275,1,0)+IF($D276>$E276,1,0)+IF($D277>$E277,1,0)+IF($D278>$E278,1,0)+IF($D279>$E279,1,0)+IF($D280>$E280,1,0)+IF($D281>$E281,1,0)+IF($D282>$E282,1,0)","v":5},{"$f":"IF($D274<$E274,1,0)+IF($D275<$E275,1,0)+IF($D276<$E276,1,0)+IF($D277<$E277,1,0)+IF($D278<$E278,1,0)+IF($D279<$E279,1,0)+IF($D280<$E280,1,0)+IF($D281<$E281,1,0)+IF($D282<$E282,1,0)","v":3},{"$f":"COUNT(D274:D282)-9+IF($D274=$E274,1,0)+IF($D275=$E275,1,0)+IF($D276=$E276,1,0)+IF($D277=$E277,1,0)+IF($D278=$E278,1,0)+IF($D279=$E279,1,0)+IF($D280=$E280,1,0)+IF($D281=$E281,1,0)+IF($D282=$E282,1,0)","v":1}]
[null,"Leipzig","Hoffenheim",2,5]
[null,"Frankfurt","Hertha",0,3]
[null,"Hamburg","Freiburg",1,0]
[null,"Stuttgart","Bremen",2,0]
[null,"Köln","Schalke",2,2]
[null,"Dortmund","Leverkusen",4,0]
[null,"Augsburg","Mainz",2,0]
[null,"Mönchengladbach","Wolfsburg",3,0]
[null,"Bremen","Dortmund",1,1,"32. Spieltag",{"$f":"SUM($D283:$D291)+SUM($E283:$E291)","v":30},{"$f":"SUM($D283:$D291)","v":18},{"$f":"SUM($E283:$E291)","v":12},{"$f":"IF(COUNT($D283:$E291)>0,G283/COUNT($D283:$D291),0)","v":3.3333333333333335},{"$f":"IF(COUNT($D283:$E291)>0,H283/COUNT($D283:$D291),0)","v":2},{"$f":"IF(COUNT($D283:$E291)>0,I283/COUNT($D283:$D291),0)","v":1.3333333333333333},{"$f":"IF($D283>$E283,1,0)+IF($D284>$E284,1,0)+IF($D285>$E285,1,0)+IF($D286>$E286,1,0)+IF($D287>$E287,1,0)+IF($D288>$E288,1,0)+IF($D289>$E289,1,0)+IF($D290>$E290,1,0)+IF($D291>$E291,1,0)","v":4},{"$f":"IF($D283<$E283,1,0)+IF($D284<$E284,1,0)+IF($D285<$E285,1,0)+IF($D286<$E286,1,0)+IF($D287<$E287,1,0)+IF($D288<$E288,1,0)+IF($D289<$E289,1,0)+IF($D290<$E290,1,0)+IF($D291<$E291,1,0)","v":2},{"$f":"COUNT(D283:D291)-9+IF($D283=$E283,1,0)+IF($D284=$E284,1,0)+IF($D285=$E285,1,0)+IF($D286=$E286,1,0)+IF($D287=$E287,1,0)+IF($D288=$E288,1,0)+IF($D289=$E289,1,0)+IF($D290=$E290,1,0)+IF($D291=$E291,1,0)","v":3}]
[null,"Mainz","Leipzig",3,0]
[null,"Freiburg","Köln",3,2]
[null,"Schalke","Mönchengladbach",1,1]
[null,"Bayern","Frankfurt",4,1]
[null,"Hertha","Augsburg",2,2]
[null,"Wolfsburg","Hamburg",1,3]
[null,"Hoffenheim","Hannover",3,1]
[null,"Leverkusen","Stuttgart",0,1]
[null,"Köln","Bayern",1,3,"33. Spieltag",{"$f":"SUM($D292:$D300)+SUM($E292:$E300)","v":28},{"$f":"SUM($D292:$D300)","v":18},{"$f":"SUM($E292:$E300)","v":10},{"$f":"IF(COUNT($D292:$E300)>0,G292/COUNT($D292:$D300),0)","v":3.1111111111111112},{"$f":"IF(COUNT($D292:$E300)>0,H292/COUNT($D292:$D300),0)","v":2},{"$f":"IF(COUNT($D292:$E300)>0,I292/COUNT($D292:$D300),0)","v":1.1111111111111112},{"$f":"IF($D292>$E292,1,0)+IF($D293>$E293,1,0)+IF($D294>$E294,1,0)+IF($D295>$E295,1,0)+IF($D296>$E296,1,0)+IF($D297>$E297,1,0)+IF($D298>$E298,1,0)+IF($D299>$E299,1,0)+IF($D300>$E300,1,0)","v":5},{"$f":"IF($D292<$E292,1,0)+IF($D293<$E293,1,0)+IF($D294<$E294,1,0)+IF($D295<$E295,1,0)+IF($D296<$E296,1,0)+IF($D297<$E297,1,0)+IF($D298<$E298,1,0)+IF($D299<$E299,1,0)+IF($D300<$E300,1,0)","v":3},{"$f":"COUNT(D292:D300)-9+IF($D292=$E292,1,0)+IF($D293=$E293,1,0)+IF($D294=$E294,1,0)+IF($D295=$E295,1,0)+IF($D296=$E296,1,0)+IF($D297=$E297,1,0)+IF($D298=$E298,1,0)+IF($D299=$E299,1,0)+IF($D300=$E300,1,0)","v":1}]
[null,"Stuttgart","Hoffenheim",2,0]
[null,"Hannover","Hertha",3,1]
[null,"Mönchengladbach","Freiburg",3,1]
[null,"Augsburg","Schalke",1,2]
[null,"Bremen","Leverkusen",0,0]
[null,"Frankfurt","Hamburg",3,0]
[null,"Dortmund","Mainz",1,2]
[null,"Leipzig","Wolfsburg",4,1]
[null,"Hoffenheim","Dortmund",3,1,"34. Spieltag",{"$f":"SUM($D301:$D309)+SUM($E301:$E309)","v":36},{"$f":"SUM($D301:$D309)","v":19},{"$f":"SUM($E301:$E309)","v":17},{"$f":"IF(COUNT($D301:$E309)>0,G301/COUNT($D301:$D309),0)","v":4},{"$f":"IF(COUNT($D301:$E309)>0,H301/COUNT($D301:$D309),0)","v":2.1111111111111112},{"$f":"IF(COUNT($D301:$E309)>0,I301/COUNT($D301:$D309),0)","v":1.8888888888888888},{"$f":"IF($D301>$E301,1,0)+IF($D302>$E302,1,0)+IF($D303>$E303,1,0)+IF($D304>$E304,1,0)+IF($D305>$E305,1,0)+IF($D306>$E306,1,0)+IF($D307>$E307,1,0)+IF($D308>$E308,1,0)+IF($D309>$E309,1,0)","v":6},{"$f":"IF($D301<$E301,1,0)+IF($D302<$E302,1,0)+IF($D303<$E303,1,0)+IF($D304<$E304,1,0)+IF($D305<$E305,1,0)+IF($D306<$E306,1,0)+IF($D307<$E307,1,0)+IF($D308<$E308,1,0)+IF($D309<$E309,1,0)","v":3},{"$f":"COUNT(D301:D309)-9+IF($D301=$E301,1,0)+IF($D302=$E302,1,0)+IF($D303=$E303,1,0)+IF($D304=$E304,1,0)+IF($D305=$E305,1,0)+IF($D306=$E306,1,0)+IF($D307=$E307,1,0)+IF($D308=$E308,1,0)+IF($D309=$E309,1,0)","v":0}]
[null,"Hertha","Leipzig",2,6]
[null,"Wolfsburg","Köln",4,1]
[null,"Mainz","Bremen",1,2]
[null,"Hamburg","Mönchengladbach",2,1]
[null,"Schalke","Frankfurt",1,0]
[null,"Freiburg","Augsburg",2,0]
[null,"Leverkusen","Hannover",3,2]
[null,"Bayern","Stuttgart",1,4]
[null,"GesamteSaison:",null,null,null,null,{"$f":"SUM(G4:G309)","v":855},{"$f":"SUM(H4:H309)","v":490},{"$f":"SUM(I4:I309)","v":365},{"$f":"SUM(J4:J309)/COUNTIF(J4:J309,\">0\")","v":2.7941176470588234},{"$f":"SUM(K4:K309)/COUNTIF(K4:K309,\">0\")","v":1.6013071895424835},{"$f":"SUM(L4:L309)/COUNTIF(L4:L309,\">0\")","v":1.1928104575163399},{"$f":"SUM(M4:M309)","v":139},{"$f":"SUM(N4:N309)","v":84},{"$f":"SUM(O4:O309)","v":83}]

{"sheet":"Spielplan 2. Liga","index":5,"n_rows":310,"n_cols":15,"rows_kept":310,"cut":false,"hidden":false,"merged":[[1,12,1,13],[21,6,29,6],[12,12,20,12],[12,13,20,13],[3,14,11,14],[309,1,309,5],[1,14,2,14],[12,14,20,14],[21,14,29,14],[21,12,29,12],[21,13,29,13],[30,6,38,6],[30,7,38,7],[3,12,11,12],[3,13,11,13],[21,7,29,7],[21,8,29,8],[21,9,29,9],[21,10,29,10],[21,11,29,11],[264,5,272,5],[273,5,281,5],[282,5,290,5],[291,5,299,5],[300,5,308,5],[1,1,1,5],[210,5,218,5],[219,5,227,5],[228,5,236,5],[237,5,245,5],[120,5,128,5],[129,5,137,5],[138,5,146,5],[147,5,155,5],[246,5,254,5],[255,5,263,5],[156,5,164,5],[165,5,173,5],[174,5,182,5],[183,5,191,5],[192,5,200,5],[201,5,209,5],[39,5,47,5],[48,5,56,5],[57,5,65,5],[66,5,74,5],[75,5,83,5],[84,5,92,5],[93,5,101,5],[102,5,110,5],[111,5,119,5],[1,6,1,11],[2,3,2,4],[3,5,11,5],[12,5,20,5],[21,5,29,5],[30,5,38,5],[3,6,11,6],[3,7,11,7],[3,8,11,8],[3,9,11,9],[3,10,11,10],[3,11,11,11],[12,6,20,6],[12,7,20,7],[12,8,20,8],[12,9,20,9],[12,10,20,10],[12,11,20,11],[75,11,83,11],[102,6,110,6],[102,7,110,7],[30,14,38,14],[39,6,47,6],[39,7,47,7],[39,8,47,8],[39,9,47,9],[39,10,47,10],[39,11,47,11],[39,12,47,12],[39,14,47,14],[30,8,38,8],[30,9,38,9],[30,10,38,10],[30,11,38,11],[30,12,38,12],[30,13,38,13],[39,13,47,13],[48,6,56,6],[48,7,56,7],[48,8,56,8],[48,9,56,9],[48,10,56,10],[48,11,56,11],[66,6,74,6],[66,7,74,7],[66,8,74,8],[66,9,74,9],[66,10,74,10],[57,6,65,6],[57,7,65,7],[57,8,65,8],[57,9,65,9],[57,10,65,10],[48,14,56,14],[66,11,74,11],[57,11,65,11],[57,12,65,12],[57,13,65,13],[57,14,65,14],[66,12,74,12],[66,13,74,13],[66,14,74,14],[48,12,56,12],[48,13,56,13],[75,12,83,12],[75,13,83,13],[75,14,83,14],[93,6,101,6],[93,7,101,7],[93,8,101,8],[93,9,101,9],[93,10,101,10],[75,6,83,6],[75,7,83,7],[75,8,83,8],[75,9,83,9],[75,10,83,10],[84,6,92,6],[84,7,92,7],[102,8,110,8],[102,9,110,9],[102,10,110,10],[84,13,92,13],[84,14,92,14],[102,11,110,11],[93,11,101,11],[93,12,101,12],[93,13,101,13],[93,14,101,14],[102,12,110,12],[102,13,110,13],[102,14,110,14],[84,8,92,8],[84,9,92,9],[84,10,92,10],[84,12,92,12],[84,11,92,11],[111,11,119,11],[111,12,119,12],[111,13,119,13],[111,14,119,14],[129,6,137,6],[129,7,137,7],[129,8,137,8],[129,9,137,9],[129,10,137,10],[111,6,119,6],[111,7,119,7],[111,8,119,8],[111,9,119,9],[111,10,119,10],[138,6,146,6],[138,7,146,7],[138,8,146,8],[138,9,146,9],[138,10,146,10],[120,13,128,13],[120,14,128,14],[138,11,146,11],[129,11,137,11],[129,12,137,12],[129,13,137,13],[129,14,137,14],[138,12,146,12],[138,13,146,13],[138,14,146,14],[120,6,128,6],[120,7,128,7],[120,8,128,8],[120,9,128,9],[120,10,128,10],[120,12,128,12],[120,11,128,11],[147,11,155,11],[147,12,155,12],[147,13,155,13],[147,14,155,14],[165,6,173,6],[165,7,173,7],[165,8,173,8],[165,9,173,9],[165,10,173,10],[147,6,155,6],[147,7,155,7],[147,8,155,8],[147,9,155,9],[147,10,155,10],[174,6,182,6],[174,7,182,7],[174,8,182,8],[174,9,182,9],[174,10,182,10],[156,13,164,13],[156,14,164,14],[174,11,182,11],[165,11,173,11],[165,12,173,12],[165,13,173,13],[165,14,173,14],[174,12,182,12],[174,13,182,13],[174,14,182,14],[156,6,164,6],[156,7,164,7],[156,8,164,8],[156,9,164,9],[156,10,164,10],[156,12,164,12],[156,11,164,11],[183,11,191,11],[183,12,191,12],[183,13,191,13],[183,14,191,14],[201,6,209,6],[201,7,209,7],[201,8,209,8],[201,9,209,9],[201,10,209,10],[183,6,191,6],[183,7,191,7],[183,8,191,8],[183,9,191,9],[183,10,191,10],[210,6,218,6],[210,7,218,7],[210,8,218,8],[210,9,218,9],[210,10,218,10],[192,13,200,13],[192,14,200,14],[210,11,218,11],[201,11,209,11],[201,12,209,12],[201,13,209,13],[201,14,209,14],[210,12,218,12],[210,13,218,13],[210,14,218,14],[192,6,200,6],[192,7,200,7],[192,8,200,8],[192,9,200,9],[192,10,200,10],[192,12,200,12],[192,11,200,11],[219,11,227,11],[219,12,227,12],[219,13,227,13],[219,14,227,14],[237,6,245,6],[237,7,245,7],[237,8,245,8],[237,9,245,9],[237,10,245,10],[219,6,227,6],[219,7,227,7],[219,8,227,8],[219,9,227,9],[219,10,227,10],[246,6,254,6],[246,7,254,7],[246,8,254,8],[246,9,254,9],[246,10,254,10],[228,13,236,13],[228,14,236,14],[246,11,254,11],[237,11,245,11],[237,12,245,12],[237,13,245,13],[237,14,245,14],[246,12,254,12],[246,13,254,13],[246,14,254,14],[228,6,236,6],[228,7,236,7],[228,8,236,8],[228,9,236,9],[228,10,236,10],[228,12,236,12],[228,11,236,11],[255,11,263,11],[255,12,263,12],[255,13,263,13],[255,14,263,14],[273,6,281,6],[273,7,281,7],[273,8,281,8],[273,9,281,9],[273,10,281,10],[255,6,263,6],[255,7,263,7],[255,8,263,8],[255,9,263,9],[255,10,263,10],[282,6,290,6],[282,7,290,7],[282,8,290,8],[282,9,290,9],[282,10,290,10],[264,13,272,13],[264,14,272,14],[282,11,290,11],[273,11,281,11],[273,12,281,12],[273,13,281,13],[273,14,281,14],[282,12,290,12],[282,13,290,13],[282,14,290,14],[264,6,272,6],[264,7,272,7],[264,8,272,8],[264,9,272,9],[264,10,272,10],[264,12,272,12],[264,11,272,11],[291,14,299,14],[300,12,308,12],[300,13,308,13],[300,14,308,14],[291,6,299,6],[291,7,299,7],[291,8,299,8],[291,9,299,9],[291,10,299,10],[300,6,308,6],[300,7,308,7],[300,8,308,8],[300,9,308,9],[300,10,308,10],[300,11,308,11],[291,11,299,11],[291,12,299,12],[291,13,299,13]]}
[null,null,null,"-","-"]
[null,"Spielplan 2. Liga 2017/2018",null,null,null,null,"Torstatistik pro Spieltag",null,null,null,null,null,"Gewonnen",null,"Unent-schieden"]
[null,"Heim","Gast","Ergebnis",null,null,"Ges.","Heim","Gast","Ø Spiel","Ø Heim","Ø Gast","Heim","Gast"]
[null,"Bochum","St. Pauli",0,1,"1. Spieltag",{"$f":"SUM($D4:$D12)+SUM($E4:$E12)","v":21},{"$f":"SUM($D4:$D12)","v":13},{"$f":"SUM($E4:$E12)","v":8},{"$f":"IF(COUNT($D4:$E12)>0,G4/COUNT($D4:$D12),0)","v":2.3333333333333335},{"$f":"IF(COUNT($D4:$E12)>0,H4/COUNT($D4:$D12),0)","v":1.4444444444444444},{"$f":"IF(COUNT($D4:$E12)>0,I4/COUNT($D4:$D12),0)","v":0.88888888888888884},{"$f":"IF($D4>$E4,1,0)+IF($D5>$E5,1,0)+IF($D6>$E6,1,0)+IF($D7>$E7,1,0)+IF($D8>$E8,1,0)+IF($D9>$E9,1,0)+IF($D10>$E10,1,0)+IF($D11>$E11,1,0)+IF($D12>$E12,1,0)","v":5},{"$f":"IF($D4<$E4,1,0)+IF($D5<$E5,1,0)+IF($D6<$E6,1,0)+IF($D7<$E7,1,0)+IF($D8<$E8,1,0)+IF($D9<$E9,1,0)+IF($D10<$E10,1,0)+IF($D11<$E11,1,0)+IF($D12<$E12,1,0)","v":2},{"$f":"COUNT(D4:D12)-9+IF($D4=$E4,1,0)+IF($D5=$E5,1,0)+IF($D6=$E6,1,0)+IF($D7=$E7,1,0)+IF($D8=$E8,1,0)+IF($D9=$E9,1,0)+IF($D10=$E10,1,0)+IF($D11=$E11,1,0)+IF($D12=$E12,1,0)","v":2}]
[null,"Ingolstadt","Union",0,1]
[null,"Darmstadt","Fürth",1,0]
[null,"Bielefeld","Regensburg",2,1]
[null,"Nürnberg","Kaiserslautern",3,0]
[null,"Dresden","Duisburg",1,0]
[null,"Heidenheim","Aue",2,1]
[null,"Kiel","Sandhausen",2,2]
[null,"Düsseldorf","Braunschweig",2,2]
[null,"Union","Kiel",4,3,"2. Spieltag",{"$f":"SUM($D13:$D21)+SUM($E13:$E21)","v":24},{"$f":"SUM($D13:$D21)","v":12},{"$f":"SUM($E13:$E21)","v":12},{"$f":"IF(COUNT($D13:$E21)>0,G13/COUNT($D13:$D21),0)","v":2.6666666666666665},{"$f":"IF(COUNT($D13:$E21)>0,H13/COUNT($D13:$D21),0)","v":1.3333333333333333},{"$f":"IF(COUNT($D13:$E21)>0,I13/COUNT($D13:$D21),0)","v":1.3333333333333333},{"$f":"IF($D13>$E13,1,0)+IF($D14>$E14,1,0)+IF($D15>$E15,1,0)+IF($D16>$E16,1,0)+IF($D17>$E17,1,0)+IF($D18>$E18,1,0)+IF($D19>$E19,1,0)+IF($D20>$E20,1,0)+IF($D21>$E21,1,0)","v":3},{"$f":"IF($D13<$E13,1,0)+IF($D14<$E14,1,0)+IF($D15<$E15,1,0)+IF($D16<$E16,1,0)+IF($D17<$E17,1,0)+IF($D18<$E18,1,0)+IF($D19<$E19,1,0)+IF($D20<$E20,1,0)+IF($D21<$E21,1,0)","v":3},{"$f":"COUNT(D13:D21)-9+IF($D13=$E13,1,0)+IF($D14=$E14,1,0)+IF($D15=$E15,1,0)+IF($D16=$E16,1,0)+IF($D17=$E17,1,0)+IF($D18=$E18,1,0)+IF($D19=$E19,1,0)+IF($D20=$E20,1,0)+IF($D21=$E21,1,0)","v":3}]
[null,"Sandhausen","Ingolstadt",1,0]
[null,"Kaiserslautern","Darmstadt",1,1]
[null,"Duisburg","Bochum",1,1]
[null,"Braunschweig","Heidenheim",2,0]
[null,"Regensburg","Nürnberg",0,1]
[null,"Fürth","Bielefeld",1,2]
[null,"Aue","Düsseldorf",0,2]
[null,"St. Pauli","Dresden",2,2]
[null,"Darmstadt","St. Pauli",3,0,"3. Spieltag",{"$f":"SUM($D22:$D30)+SUM($E22:$E30)","v":30},{"$f":"SUM($D22:$D30)","v":16},{"$f":"SUM($E22:$E30)","v":14},{"$f":"IF(COUNT($D22:$E30)>0,G22/COUNT($D22:$D30),0)","v":3.3333333333333335},{"$f":"IF(COUNT($D22:$E30)>0,H22/COUNT($D22:$D30),0)","v":1.7777777777777777},{"$f":"IF(COUNT($D22:$E30)>0,I22/COUNT($D22:$D30),0)","v":1.5555555555555556},{"$f":"IF($D22>$E22,1,0)+IF($D23>$E23,1,0)+IF($D24>$E24,1,0)+IF($D25>$E25,1,0)+IF($D26>$E26,1,0)+IF($D27>$E27,1,0)+IF($D28>$E28,1,0)+IF($D29>$E29,1,0)+IF($D30>$E30,1,0)","v":4},{"$f":"IF($D22<$E22,1,0)+IF($D23<$E23,1,0)+IF($D24<$E24,1,0)+IF($D25<$E25,1,0)+IF($D26<$E26,1,0)+IF($D27<$E27,1,0)+IF($D28<$E28,1,0)+IF($D29<$E29,1,0)+IF($D30<$E30,1,0)","v":3},{"$f":"COUNT(D22:D30)-9+IF($D22=$E22,1,0)+IF($D23=$E23,1,0)+IF($D24=$E24,1,0)+IF($D25=$E25,1,0)+IF($D26=$E26,1,0)+IF($D27=$E27,1,0)+IF($D28=$E28,1,0)+IF($D29=$E29,1,0)+IF($D30=$E30,1,0)","v":2}]
[null,"Braunschweig","Aue",1,1]
[null,"Dresden","Sandhausen",0,4]
[null,"Heidenheim","Duisburg",1,2]
[null,"Düsseldorf","Kaiserslautern",2,0]
[null,"Ingolstadt","Regensburg",2,4]
[null,"Nürnberg","Union",2,2]
[null,"Kiel","Fürth",3,1]
[null,"Bielefeld","Bochum",2,0]
[null,"Fürth","Ingolstadt",0,1,"4. Spieltag",{"$f":"SUM($D31:$D39)+SUM($E31:$E39)","v":24},{"$f":"SUM($D31:$D39)","v":12},{"$f":"SUM($E31:$E39)","v":12},{"$f":"IF(COUNT($D31:$E39)>0,G31/COUNT($D31:$D39),0)","v":2.6666666666666665},{"$f":"IF(COUNT($D31:$E39)>0,H31/COUNT($D31:$D39),0)","v":1.3333333333333333},{"$f":"IF(COUNT($D31:$E39)>0,I31/COUNT($D31:$D39),0)","v":1.3333333333333333},{"$f":"IF($D31>$E31,1,0)+IF($D32>$E32,1,0)+IF($D33>$E33,1,0)+IF($D34>$E34,1,0)+IF($D35>$E35,1,0)+IF($D36>$E36,1,0)+IF($D37>$E37,1,0)+IF($D38>$E38,1,0)+IF($D39>$E39,1,0)","v":3},{"$f":"IF($D31<$E31,1,0)+IF($D32<$E32,1,0)+IF($D33<$E33,1,0)+IF($D34<$E34,1,0)+IF($D35<$E35,1,0)+IF($D36<$E36,1,0)+IF($D37<$E37,1,0)+IF($D38<$E38,1,0)+IF($D39<$E39,1,0)","v":4},{"$f":"COUNT(D31:D39)-9+IF($D31=$E31,1,0)+IF($D32=$E32,1,0)+IF($D33=$E33,1,0)+IF($D34=$E34,1,0)+IF($D35=$E35,1,0)+IF($D36=$E36,1,0)+IF($D37=$E37,1,0)+IF($D38=$E38,1,0)+IF($D39=$E39,1,0)","v":2}]
[null,"Duisburg","Darmstadt",1,2]
[null,"St. Pauli","Heidenheim",1,0]
[null,"Aue","Nürnberg",3,1]
[null,"Regensburg","Kiel",1,2]
[null,"Union","Bielefeld",1,1]
[null,"Bochum","Dresden",3,2]
[null,"Sandhausen","Düsseldorf",1,2]
[null,"Kaiserslautern","Braunschweig",1,1]
[null,"Dresden","Fürth",1,1,"5. Spieltag",{"$f":"SUM($D40:$D48)+SUM($E40:$E48)","v":27},{"$f":"SUM($D40:$D48)","v":10},{"$f":"SUM($E40:$E48)","v":17},{"$f":"IF(COUNT($D40:$E48)>0,G40/COUNT($D40:$D48),0)","v":3},{"$f":"IF(COUNT($D40:$E48)>0,H40/COUNT($D40:$D48),0)","v":1.1111111111111112},{"$f":"IF(COUNT($D40:$E48)>0,I40/COUNT($D40:$D48),0)","v":1.8888888888888888},{"$f":"IF($D40>$E40,1,0)+IF($D41>$E41,1,0)+IF($D42>$E42,1,0)+IF($D43>$E43,1,0)+IF($D44>$E44,1,0)+IF($D45>$E45,1,0)+IF($D46>$E46,1,0)+IF($D47>$E47,1,0)+IF($D48>$E48,1,0)","v":2},{"$f":"IF($D40<$E40,1,0)+IF($D41<$E41,1,0)+IF($D42<$E42,1,0)+IF($D43<$E43,1,0)+IF($D44<$E44,1,0)+IF($D45<$E45,1,0)+IF($D46<$E46,1,0)+IF($D47<$E47,1,0)+IF($D48<$E48,1,0)","v":5},{"$f":"COUNT(D40:D48)-9+IF($D40=$E40,1,0)+IF($D41=$E41,1,0)+IF($D42=$E42,1,0)+IF($D43=$E43,1,0)+IF($D44=$E44,1,0)+IF($D45=$E45,1,0)+IF($D46=$E46,1,0)+IF($D47=$E47,1,0)+IF($D48=$E48,1,0)","v":2}]
[null,"Heidenheim","Regensburg",1,3]
[null,"Ingolstadt","Aue",1,2]
[null,"Bielefeld","Duisburg",0,4]
[null,"Kiel","Kaiserslautern",2,1]
[null,"Darmstadt","Bochum",1,2]
[null,"Braunschweig","Sandhausen",1,1]
[null,"Düsseldorf","Union",3,2]
[null,"Nürnberg","St. Pauli",0,1]
[null,"Union","Braunschweig",1,1,"6. Spieltag",{"$f":"SUM($D49:$D57)+SUM($E49:$E57)","v":33},{"$f":"SUM($D49:$D57)","v":11},{"$f":"SUM($E49:$E57)","v":22},{"$f":"IF(COUNT($D49:$E57)>0,G49/COUNT($D49:$D57),0)","v":3.6666666666666665},{"$f":"IF(COUNT($D49:$E57)>0,H49/COUNT($D49:$D57),0)","v":1.2222222222222223},{"$f":"IF(COUNT($D49:$E57)>0,I49/COUNT($D49:$D57),0)","v":2.4444444444444446},{"$f":"IF($D49>$E49,1,0)+IF($D50>$E50,1,0)+IF($D51>$E51,1,0)+IF($D52>$E52,1,0)+IF($D53>$E53,1,0)+IF($D54>$E54,1,0)+IF($D55>$E55,1,0)+IF($D56>$E56,1,0)+IF($D57>$E57,1,0)","v":3},{"$f":"IF($D49<$E49,1,0)+IF($D50<$E50,1,0)+IF($D51<$E51,1,0)+IF($D52<$E52,1,0)+IF($D53<$E53,1,0)+IF($D54<$E54,1,0)+IF($D55<$E55,1,0)+IF($D56<$E56,1,0)+IF($D57<$E57,1,0)","v":5},{"$f":"COUNT(D49:D57)-9+IF($D49=$E49,1,0)+IF($D50=$E50,1,0)+IF($D51=$E51,1,0)+IF($D52=$E52,1,0)+IF($D53=$E53,1,0)+IF($D54=$E54,1,0)+IF($D55=$E55,1,0)+IF($D56=$E56,1,0)+IF($D57=$E57,1,0)","v":1}]
[null,"Aue","Kiel",0,3]
[null,"St. Pauli","Ingolstadt",0,4]
[null,"Sandhausen","Kaiserslautern",1,0]
[null,"Duisburg","Nürnberg",1,6]
[null,"Darmstadt","Bielefeld",4,3]
[null,"Fürth","Düsseldorf",3,1]
[null,"Bochum","Heidenheim",1,2]
[null,"Regensburg","Dresden",0,2]
[null,"Ingolstadt","Duisburg",2,2,"7. Spieltag",{"$f":"SUM($D58:$D66)+SUM($E58:$E66)","v":22},{"$f":"SUM($D58:$D66)","v":12},{"$f":"SUM($E58:$E66)","v":10},{"$f":"IF(COUNT($D58:$E66)>0,G58/COUNT($D58:$D66),0)","v":2.4444444444444446},{"$f":"IF(COUNT($D58:$E66)>0,H58/COUNT($D58:$D66),0)","v":1.3333333333333333},{"$f":"IF(COUNT($D58:$E66)>0,I58/COUNT($D58:$D66),0)","v":1.1111111111111112},{"$f":"IF($D58>$E58,1,0)+IF($D59>$E59,1,0)+IF($D60>$E60,1,0)+IF($D61>$E61,1,0)+IF($D62>$E62,1,0)+IF($D63>$E63,1,0)+IF($D64>$E64,1,0)+IF($D65>$E65,1,0)+IF($D66>$E66,1,0)","v":4},{"$f":"IF($D58<$E58,1,0)+IF($D59<$E59,1,0)+IF($D60<$E60,1,0)+IF($D61<$E61,1,0)+IF($D62<$E62,1,0)+IF($D63<$E63,1,0)+IF($D64<$E64,1,0)+IF($D65<$E65,1,0)+IF($D66<$E66,1,0)","v":3},{"$f":"COUNT(D58:D66)-9+IF($D58=$E58,1,0)+IF($D59=$E59,1,0)+IF($D60=$E60,1,0)+IF($D61=$E61,1,0)+IF($D62=$E62,1,0)+IF($D63=$E63,1,0)+IF($D64=$E64,1,0)+IF($D65=$E65,1,0)+IF($D66=$E66,1,0)","v":2}]
[null,"Sandhausen","Union",1,0]
[null,"Kaiserslautern","Aue",0,2]
[null,"Kiel","St. Pauli",0,1]
[null,"Braunschweig","Fürth",3,0]
[null,"Dresden","Bielefeld",0,2]
[null,"Heidenheim","Darmstadt",2,2]
[null,"Düsseldorf","Regensburg",1,0]
[null,"Nürnberg","Bochum",3,1]
[null,"Aue","Sandhausen",1,0,"8. Spieltag",{"$f":"SUM($D67:$D75)+SUM($E67:$E75)","v":30},{"$f":"SUM($D67:$D75)","v":17},{"$f":"SUM($E67:$E75)","v":13},{"$f":"IF(COUNT($D67:$E75)>0,G67/COUNT($D67:$D75),0)","v":3.3333333333333335},{"$f":"IF(COUNT($D67:$E75)>0,H67/COUNT($D67:$D75),0)","v":1.8888888888888888},{"$f":"IF(COUNT($D67:$E75)>0,I67/COUNT($D67:$D75),0)","v":1.4444444444444444},{"$f":"IF($D67>$E67,1,0)+IF($D68>$E68,1,0)+IF($D69>$E69,1,0)+IF($D70>$E70,1,0)+IF($D71>$E71,1,0)+IF($D72>$E72,1,0)+IF($D73>$E73,1,0)+IF($D74>$E74,1,0)+IF($D75>$E75,1,0)","v":4},{"$f":"IF($D67<$E67,1,0)+IF($D68<$E68,1,0)+IF($D69<$E69,1,0)+IF($D70<$E70,1,0)+IF($D71<$E71,1,0)+IF($D72<$E72,1,0)+IF($D73<$E73,1,0)+IF($D74<$E74,1,0)+IF($D75<$E75,1,0)","v":3},{"$f":"COUNT(D67:D75)-9+IF($D67=$E67,1,0)+IF($D68=$E68,1,0)+IF($D69=$E69,1,0)+IF($D70=$E70,1,0)+IF($D71=$E71,1,0)+IF($D72=$E72,1,0)+IF($D73=$E73,1,0)+IF($D74=$E74,1,0)+IF($D75=$E75,1,0)","v":2}]
[null,"Duisburg","Kiel",1,3]
[null,"St. Pauli","Düsseldorf",1,2]
[null,"Bielefeld","Heidenheim",1,1]
[null,"Regensburg","Braunschweig",2,1]
[null,"Darmstadt","Dresden",3,3]
[null,"Fürth","Nürnberg",1,3]
[null,"Bochum","Ingolstadt",2,0]
[null,"Union","Kaiserslautern",5,0]
[null,"Ingolstadt","Darmstadt",3,0,"9. Spieltag",{"$f":"SUM($D76:$D84)+SUM($E76:$E84)","v":34},{"$f":"SUM($D76:$D84)","v":16},{"$f":"SUM($E76:$E84)","v":18},{"$f":"IF(COUNT($D76:$E84)>0,G76/COUNT($D76:$D84),0)","v":3.7777777777777777},{"$f":"IF(COUNT($D76:$E84)>0,H76/COUNT($D76:$D84),0)","v":1.7777777777777777},{"$f":"IF(COUNT($D76:$E84)>0,I76/COUNT($D76:$D84),0)","v":2},{"$f":"IF($D76>$E76,1,0)+IF($D77>$E77,1,0)+IF($D78>$E78,1,0)+IF($D79>$E79,1,0)+IF($D80>$E80,1,0)+IF($D81>$E81,1,0)+IF($D82>$E82,1,0)+IF($D83>$E83,1,0)+IF($D84>$E84,1,0)","v":4},{"$f":"IF($D76<$E76,1,0)+IF($D77<$E77,1,0)+IF($D78<$E78,1,0)+IF($D79<$E79,1,0)+IF($D80<$E80,1,0)+IF($D81<$E81,1,0)+IF($D82<$E82,1,0)+IF($D83<$E83,1,0)+IF($D84<$E84,1,0)","v":5},{"$f":"COUNT(D76:D84)-9+IF($D76=$E76,1,0)+IF($D77=$E77,1,0)+IF($D78=$E78,1,0)+IF($D79=$E79,1,0)+IF($D80=$E80,1,0)+IF($D81=$E81,1,0)+IF($D82=$E82,1,0)+IF($D83=$E83,1,0)+IF($D84=$E84,1,0)","v":0}]
[null,"Braunschweig","St. Pauli",0,2]
[null,"Heidenheim","Dresden",0,2]
[null,"Sandhausen","Regensburg",2,9]
[null,"Düsseldorf","Duisburg",3,1]
[null,"Nürnberg","Bielefeld",1,2]
[null,"Kaiserslautern","Fürth",3,0]
[null,"Aue","Union",1,2]
[null,"Kiel","Bochum",3,0]
[null,"Darmstadt","Nürnberg",3,4,"10. Spieltag",{"$f":"SUM($D85:$D93)+SUM($E85:$E93)","v":30},{"$f":"SUM($D85:$D93)","v":13},{"$f":"SUM($E85:$E93)","v":17},{"$f":"IF(COUNT($D85:$E93)>0,G85/COUNT($D85:$D93),0)","v":3.3333333333333335},{"$f":"IF(COUNT($D85:$E93)>0,H85/COUNT($D85:$D93),0)","v":1.4444444444444444},{"$f":"IF(COUNT($D85:$E93)>0,I85/COUNT($D85:$D93),0)","v":1.8888888888888888},{"$f":"IF($D85>$E85,1,0)+IF($D86>$E86,1,0)+IF($D87>$E87,1,0)+IF($D88>$E88,1,0)+IF($D89>$E89,1,0)+IF($D90>$E90,1,0)+IF($D91>$E91,1,0)+IF($D92>$E92,1,0)+IF($D93>$E93,1,0)","v":2},{"$f":"IF($D85<$E85,1,0)+IF($D86<$E86,1,0)+IF($D87<$E87,1,0)+IF($D88<$E88,1,0)+IF($D89<$E89,1,0)+IF($D90<$E90,1,0)+IF($D91<$E91,1,0)+IF($D92<$E92,1,0)+IF($D93<$E93,1,0)","v":4},{"$f":"COUNT(D85:D93)-9+IF($D85=$E85,1,0)+IF($D86=$E86,1,0)+IF($D87=$E87,1,0)+IF($D88=$E88,1,0)+IF($D89=$E89,1,0)+IF($D90=$E90,1,0)+IF($D91=$E91,1,0)+IF($D92=$E92,1,0)+IF($D93=$E93,1,0)","v":3}]
[null,"Dresden","Ingolstadt",2,2]
[null,"Heidenheim","Kiel",3,5]
[null,"St. Pauli","Kaiserslautern",1,1]
[null,"Fürth","Aue",2,1]
[null,"Bochum","Sandhausen",2,0]
[null,"Bielefeld","Düsseldorf",0,2]
[null,"Duisburg","Braunschweig",0,0]
[null,"Regensburg","Union",0,2]
[null,"Ingolstadt","Heidenheim",3,0,"11. Spieltag",{"$f":"SUM($D94:$D102)+SUM($E94:$E102)","v":19},{"$f":"SUM($D94:$D102)","v":14},{"$f":"SUM($E94:$E102)","v":5},{"$f":"IF(COUNT($D94:$E102)>0,G94/COUNT($D94:$D102),0)","v":2.1111111111111112},{"$f":"IF(COUNT($D94:$E102)>0,H94/COUNT($D94:$D102),0)","v":1.5555555555555556},{"$f":"IF(COUNT($D94:$E102)>0,I94/COUNT($D94:$D102),0)","v":0.55555555555555558},{"$f":"IF($D94>$E94,1,0)+IF($D95>$E95,1,0)+IF($D96>$E96,1,0)+IF($D97>$E97,1,0)+IF($D98>$E98,1,0)+IF($D99>$E99,1,0)+IF($D100>$E100,1,0)+IF($D101>$E101,1,0)+IF($D102>$E102,1,0)","v":7},{"$f":"IF($D94<$E94,1,0)+IF($D95<$E95,1,0)+IF($D96<$E96,1,0)+IF($D97<$E97,1,0)+IF($D98<$E98,1,0)+IF($D99<$E99,1,0)+IF($D100<$E100,1,0)+IF($D101<$E101,1,0)+IF($D102<$E102,1,0)","v":1},{"$f":"COUNT(D94:D102)-9+IF($D94=$E94,1,0)+IF($D95=$E95,1,0)+IF($D96=$E96,1,0)+IF($D97=$E97,1,0)+IF($D98=$E98,1,0)+IF($D99=$E99,1,0)+IF($D100=$E100,1,0)+IF($D101=$E101,1,0)+IF($D102=$E102,1,0)","v":1}]
[null,"Braunschweig","Bochum",1,0]
[null,"Union","Fürth",3,1]
[null,"Sandhausen","St. Pauli",1,1]
[null,"Düsseldorf","Darmstadt",1,0]
[null,"Nürnberg","Dresden",2,1]
[null,"Kaiserslautern","Duisburg",0,1]
[null,"Aue","Regensburg",1,0]
[null,"Kiel","Bielefeld",2,1]
[null,"Darmstadt","Kiel",1,1,"12. Spieltag",{"$f":"SUM($D103:$D111)+SUM($E103:$E111)","v":20},{"$f":"SUM($D103:$D111)","v":11},{"$f":"SUM($E103:$E111)","v":9},{"$f":"IF(COUNT($D103:$E111)>0,G103/COUNT($D103:$D111),0)","v":2.2222222222222223},{"$f":"IF(COUNT($D103:$E111)>0,H103/COUNT($D103:$D111),0)","v":1.2222222222222223},{"$f":"IF(COUNT($D103:$E111)>0,I103/COUNT($D103:$D111),0)","v":1},{"$f":"IF($D103>$E103,1,0)+IF($D104>$E104,1,0)+IF($D105>$E105,1,0)+IF($D106>$E106,1,0)+IF($D107>$E107,1,0)+IF($D108>$E108,1,0)+IF($D109>$E109,1,0)+IF($D110>$E110,1,0)+IF($D111>$E111,1,0)","v":3},{"$f":"IF($D103<$E103,1,0)+IF($D104<$E104,1,0)+IF($D105<$E105,1,0)+IF($D106<$E106,1,0)+IF($D107<$E107,1,0)+IF($D108<$E108,1,0)+IF($D109<$E109,1,0)+IF($D110<$E110,1,0)+IF($D111<$E111,1,0)","v":1},{"$f":"COUNT(D103:D111)-9+IF($D103=$E103,1,0)+IF($D104=$E104,1,0)+IF($D105=$E105,1,0)+IF($D106=$E106,1,0)+IF($D107=$E107,1,0)+IF($D108=$E108,1,0)+IF($D109=$E109,1,0)+IF($D110=$E110,1,0)+IF($D111=$E111,1,0)","v":5}]
[null,"Dresden","Braunschweig",1,1]
[null,"Heidenheim","Nürnberg",1,0]
[null,"St. Pauli","Aue",1,1]
[null,"Fürth","Sandhausen",2,1]
[null,"Bochum","Düsseldorf",0,0]
[null,"Bielefeld","Ingolstadt",1,3]
[null,"Duisburg","Union",1,1]
[null,"Regensburg","Kaiserslautern",3,1]
[null,"Braunschweig","Darmstadt",2,2,"13. Spieltag",{"$f":"SUM($D112:$D120)+SUM($E112:$E120)","v":23},{"$f":"SUM($D112:$D120)","v":13},{"$f":"SUM($E112:$E120)","v":10},{"$f":"IF(COUNT($D112:$E120)>0,G112/COUNT($D112:$D120),0)","v":2.5555555555555554},{"$f":"IF(COUNT($D112:$E120)>0,H112/COUNT($D112:$D120),0)","v":1.4444444444444444},{"$f":"IF(COUNT($D112:$E120)>0,I112/COUNT($D112:$D120),0)","v":1.1111111111111112},{"$f":"IF($D112>$E112,1,0)+IF($D113>$E113,1,0)+IF($D114>$E114,1,0)+IF($D115>$E115,1,0)+IF($D116>$E116,1,0)+IF($D117>$E117,1,0)+IF($D118>$E118,1,0)+IF($D119>$E119,1,0)+IF($D120>$E120,1,0)","v":3},{"$f":"IF($D112<$E112,1,0)+IF($D113<$E113,1,0)+IF($D114<$E114,1,0)+IF($D115<$E115,1,0)+IF($D116<$E116,1,0)+IF($D117<$E117,1,0)+IF($D118<$E118,1,0)+IF($D119<$E119,1,0)+IF($D120<$E120,1,0)","v":2},{"$f":"COUNT(D112:D120)-9+IF($D112=$E112,1,0)+IF($D113=$E113,1,0)+IF($D114=$E114,1,0)+IF($D115=$E115,1,0)+IF($D116=$E116,1,0)+IF($D117=$E117,1,0)+IF($D118=$E118,1,0)+IF($D119=$E119,1,0)+IF($D120=$E120,1,0)","v":4}]
[null,"Union","St. Pauli",1,0]
[null,"Sandhausen","Duisburg",0,1]
[null,"Düsseldorf","Heidenheim",2,2]
[null,"Nürnberg","Ingolstadt",1,2]
[null,"Kaiserslautern","Bochum",0,0]
[null,"Aue","Bielefeld",1,1]
[null,"Kiel","Dresden",3,0]
[null,"Regensburg","Fürth",3,2]
[null,"Ingolstadt","Düsseldorf",1,0,"14. Spieltag",{"$f":"SUM($D121:$D129)+SUM($E121:$E129)","v":31},{"$f":"SUM($D121:$D129)","v":17},{"$f":"SUM($E121:$E129)","v":14},{"$f":"IF(COUNT($D121:$E129)>0,G121/COUNT($D121:$D129),0)","v":3.4444444444444446},{"$f":"IF(COUNT($D121:$E129)>0,H121/COUNT($D121:$D129),0)","v":1.8888888888888888},{"$f":"IF(COUNT($D121:$E129)>0,I121/COUNT($D121:$D129),0)","v":1.5555555555555556},{"$f":"IF($D121>$E121,1,0)+IF($D122>$E122,1,0)+IF($D123>$E123,1,0)+IF($D124>$E124,1,0)+IF($D125>$E125,1,0)+IF($D126>$E126,1,0)+IF($D127>$E127,1,0)+IF($D128>$E128,1,0)+IF($D129>$E129,1,0)","v":3},{"$f":"IF($D121<$E121,1,0)+IF($D122<$E122,1,0)+IF($D123<$E123,1,0)+IF($D124<$E124,1,0)+IF($D125<$E125,1,0)+IF($D126<$E126,1,0)+IF($D127<$E127,1,0)+IF($D128<$E128,1,0)+IF($D129<$E129,1,0)","v":2},{"$f":"COUNT(D121:D129)-9+IF($D121=$E121,1,0)+IF($D122=$E122,1,0)+IF($D123=$E123,1,0)+IF($D124=$E124,1,0)+IF($D125=$E125,1,0)+IF($D126=$E126,1,0)+IF($D127=$E127,1,0)+IF($D128=$E128,1,0)+IF($D129=$E129,1,0)","v":4}]
[null,"Darmstadt","Sandhausen",1,2]
[null,"Dresden","Kaiserslautern",1,2]
[null,"Heidenheim","Union",4,3]
[null,"St. Pauli","Regensburg",2,2]
[null,"Bochum","Fürth",1,1]
[null,"Nürnberg","Kiel",2,2]
[null,"Bielefeld","Braunschweig",2,2]
[null,"Duisburg","Aue",3,0]
[null,"Braunschweig","Nürnberg",2,3,"15. Spieltag",{"$f":"SUM($D130:$D138)+SUM($E130:$E138)","v":30},{"$f":"SUM($D130:$D138)","v":16},{"$f":"SUM($E130:$E138)","v":14},{"$f":"IF(COUNT($D130:$E138)>0,G130/COUNT($D130:$D138),0)","v":3.3333333333333335},{"$f":"IF(COUNT($D130:$E138)>0,H130/COUNT($D130:$D138),0)","v":1.7777777777777777},{"$f":"IF(COUNT($D130:$E138)>0,I130/COUNT($D130:$D138),0)","v":1.5555555555555556},{"$f":"IF($D130>$E130,1,0)+IF($D131>$E131,1,0)+IF($D132>$E132,1,0)+IF($D133>$E133,1,0)+IF($D134>$E134,1,0)+IF($D135>$E135,1,0)+IF($D136>$E136,1,0)+IF($D137>$E137,1,0)+IF($D138>$E138,1,0)","v":2},{"$f":"IF($D130<$E130,1,0)+IF($D131<$E131,1,0)+IF($D132<$E132,1,0)+IF($D133<$E133,1,0)+IF($D134<$E134,1,0)+IF($D135<$E135,1,0)+IF($D136<$E136,1,0)+IF($D137<$E137,1,0)+IF($D138<$E138,1,0)","v":4},{"$f":"COUNT(D130:D138)-9+IF($D130=$E130,1,0)+IF($D131=$E131,1,0)+IF($D132=$E132,1,0)+IF($D133=$E133,1,0)+IF($D134=$E134,1,0)+IF($D135=$E135,1,0)+IF($D136=$E136,1,0)+IF($D137=$E137,1,0)+IF($D138=$E138,1,0)","v":3}]
[null,"Union","Darmstadt",3,3]
[null,"Fürth","St. Pauli",4,0]
[null,"Sandhausen","Heidenheim",1,2]
[null,"Düsseldorf","Dresden",1,3]
[null,"Kaiserslautern","Bielefeld",0,2]
[null,"Aue","Bochum",1,1]
[null,"Kiel","Ingolstadt",0,0]
[null,"Regensburg","Duisburg",4,0]
[null,"Ingolstadt","Braunschweig",0,2,"16. Spieltag",{"$f":"SUM($D139:$D147)+SUM($E139:$E147)","v":27},{"$f":"SUM($D139:$D147)","v":19},{"$f":"SUM($E139:$E147)","v":8},{"$f":"IF(COUNT($D139:$E147)>0,G139/COUNT($D139:$D147),0)","v":3},{"$f":"IF(COUNT($D139:$E147)>0,H139/COUNT($D139:$D147),0)","v":2.1111111111111112},{"$f":"IF(COUNT($D139:$E147)>0,I139/COUNT($D139:$D147),0)","v":0.88888888888888884},{"$f":"IF($D139>$E139,1,0)+IF($D140>$E140,1,0)+IF($D141>$E141,1,0)+IF($D142>$E142,1,0)+IF($D143>$E143,1,0)+IF($D144>$E144,1,0)+IF($D145>$E145,1,0)+IF($D146>$E146,1,0)+IF($D147>$E147,1,0)","v":6},{"$f":"IF($D139<$E139,1,0)+IF($D140<$E140,1,0)+IF($D141<$E141,1,0)+IF($D142<$E142,1,0)+IF($D143<$E143,1,0)+IF($D144<$E144,1,0)+IF($D145<$E145,1,0)+IF($D146<$E146,1,0)+IF($D147<$E147,1,0)","v":2},{"$f":"COUNT(D139:D147)-9+IF($D139=$E139,1,0)+IF($D140=$E140,1,0)+IF($D141=$E141,1,0)+IF($D142=$E142,1,0)+IF($D143=$E143,1,0)+IF($D144=$E144,1,0)+IF($D145=$E145,1,0)+IF($D146=$E146,1,0)+IF($D147=$E147,1,0)","v":1}]
[null,"Darmstadt","Regensburg",0,1]
[null,"Dresden","Aue",4,0]
[null,"Heidenheim","Kaiserslautern",3,2]
[null,"Bochum","Union",2,1]
[null,"Nürnberg","Sandhausen",1,0]
[null,"Bielefeld","St. Pauli",5,0]
[null,"Duisburg","Fürth",2,0]
[null,"Kiel","Düsseldorf",2,2]
[null,"Braunschweig","Kiel",0,0,"17. Spieltag",{"$f":"SUM($D148:$D156)+SUM($E148:$E156)","v":16},{"$f":"SUM($D148:$D156)","v":8},{"$f":"SUM($E148:$E156)","v":8},{"$f":"IF(COUNT($D148:$E156)>0,G148/COUNT($D148:$D156),0)","v":1.7777777777777777},{"$f":"IF(COUNT($D148:$E156)>0,H148/COUNT($D148:$D156),0)","v":0.88888888888888884},{"$f":"IF(COUNT($D148:$E156)>0,I148/COUNT($D148:$D156),0)","v":0.88888888888888884},{"$f":"IF($D148>$E148,1,0)+IF($D149>$E149,1,0)+IF($D150>$E150,1,0)+IF($D151>$E151,1,0)+IF($D152>$E152,1,0)+IF($D153>$E153,1,0)+IF($D154>$E154,1,0)+IF($D155>$E155,1,0)+IF($D156>$E156,1,0)","v":3},{"$f":"IF($D148<$E148,1,0)+IF($D149<$E149,1,0)+IF($D150<$E150,1,0)+IF($D151<$E151,1,0)+IF($D152<$E152,1,0)+IF($D153<$E153,1,0)+IF($D154<$E154,1,0)+IF($D155<$E155,1,0)+IF($D156<$E156,1,0)","v":3},{"$f":"COUNT(D148:D156)-9+IF($D148=$E148,1,0)+IF($D149=$E149,1,0)+IF($D150=$E150,1,0)+IF($D151=$E151,1,0)+IF($D152=$E152,1,0)+IF($D153=$E153,1,0)+IF($D154=$E154,1,0)+IF($D155=$E155,1,0)+IF($D156=$E156,1,0)","v":3}]
[null,"Union","Dresden",0,1]
[null,"St. Pauli","Duisburg",2,2]
[null,"Fürth","Heidenheim",1,0]
[null,"Sandhausen","Bielefeld",3,1]
[null,"Düsseldorf","Nürnberg",0,2]
[null,"Kaiserslautern","Ingolstadt",1,1]
[null,"Aue","Darmstadt",1,0]
[null,"Regensburg","Bochum",0,1]
[null,"St. Pauli","Bochum",2,1,"18. Spieltag",{"$f":"SUM($D157:$D165)+SUM($E157:$E165)","v":24},{"$f":"SUM($D157:$D165)","v":14},{"$f":"SUM($E157:$E165)","v":10},{"$f":"IF(COUNT($D157:$E165)>0,G157/COUNT($D157:$D165),0)","v":2.6666666666666665},{"$f":"IF(COUNT($D157:$E165)>0,H157/COUNT($D157:$D165),0)","v":1.5555555555555556},{"$f":"IF(COUNT($D157:$E165)>0,I157/COUNT($D157:$D165),0)","v":1.1111111111111112},{"$f":"IF($D157>$E157,1,0)+IF($D158>$E158,1,0)+IF($D159>$E159,1,0)+IF($D160>$E160,1,0)+IF($D161>$E161,1,0)+IF($D162>$E162,1,0)+IF($D163>$E163,1,0)+IF($D164>$E164,1,0)+IF($D165>$E165,1,0)","v":4},{"$f":"IF($D157<$E157,1,0)+IF($D158<$E158,1,0)+IF($D159<$E159,1,0)+IF($D160<$E160,1,0)+IF($D161<$E161,1,0)+IF($D162<$E162,1,0)+IF($D163<$E163,1,0)+IF($D164<$E164,1,0)+IF($D165<$E165,1,0)","v":2},{"$f":"COUNT(D157:D165)-9+IF($D157=$E157,1,0)+IF($D158=$E158,1,0)+IF($D159=$E159,1,0)+IF($D160=$E160,1,0)+IF($D161=$E161,1,0)+IF($D162=$E162,1,0)+IF($D163=$E163,1,0)+IF($D164=$E164,1,0)+IF($D165=$E165,1,0)","v":3}]
[null,"Union","Ingolstadt",1,2]
[null,"Fürth","Darmstadt",1,1]
[null,"Regensburg","Bielefeld",3,2]
[null,"Kaiserslautern","Nürnberg",1,1]
[null,"Duisburg","Dresden",2,0]
[null,"Aue","Heidenheim",1,1]
[null,"Sandhausen","Kiel",3,1]
[null,"Braunschweig","Düsseldorf",0,1]
[null,"Kiel","Union",2,2,"19. Spieltag",{"$f":"SUM($D166:$D174)+SUM($E166:$E174)","v":19},{"$f":"SUM($D166:$D174)","v":9},{"$f":"SUM($E166:$E174)","v":10},{"$f":"IF(COUNT($D166:$E174)>0,G166/COUNT($D166:$D174),0)","v":2.375},{"$f":"IF(COUNT($D166:$E174)>0,H166/COUNT($D166:$D174),0)","v":1.125},{"$f":"IF(COUNT($D166:$E174)>0,I166/COUNT($D166:$D174),0)","v":1.25},{"$f":"IF($D166>$E166,1,0)+IF($D167>$E167,1,0)+IF($D168>$E168,1,0)+IF($D169>$E169,1,0)+IF($D170>$E170,1,0)+IF($D171>$E171,1,0)+IF($D172>$E172,1,0)+IF($D173>$E173,1,0)+IF($D174>$E174,1,0)","v":2},{"$f":"IF($D166<$E166,1,0)+IF($D167<$E167,1,0)+IF($D168<$E168,1,0)+IF($D169<$E169,1,0)+IF($D170<$E170,1,0)+IF($D171<$E171,1,0)+IF($D172<$E172,1,0)+IF($D173<$E173,1,0)+IF($D174<$E174,1,0)","v":2},{"$f":"COUNT(D166:D174)-9+IF($D166=$E166,1,0)+IF($D167=$E167,1,0)+IF($D168=$E168,1,0)+IF($D169=$E169,1,0)+IF($D170=$E170,1,0)+IF($D171=$E171,1,0)+IF($D172=$E172,1,0)+IF($D173=$E173,1,0)+IF($D174=$E174,1,0)","v":4}]
[null,"Ingolstadt","Sandhausen",0,0]
[null,"Darmstadt","Kaiserslautern"]
[null,"Bochum","Duisburg",0,2]
[null,"Heidenheim","Braunschweig",2,0]
[null,"Nürnberg","Regensburg",2,2]
[null,"Bielefeld","Fürth",0,0]
[null,"Düsseldorf","Aue",2,1]
[null,"Dresden","St. Pauli",1,3]
[null,"St. Pauli","Darmstadt",0,1,"20. Spieltag",{"$f":"SUM($D175:$D183)+SUM($E175:$E183)","v":23},{"$f":"SUM($D175:$D183)","v":9},{"$f":"SUM($E175:$E183)","v":14},{"$f":"IF(COUNT($D175:$E183)>0,G175/COUNT($D175:$D183),0)","v":2.5555555555555554},{"$f":"IF(COUNT($D175:$E183)>0,H175/COUNT($D175:$D183),0)","v":1},{"$f":"IF(COUNT($D175:$E183)>0,I175/COUNT($D175:$D183),0)","v":1.5555555555555556},{"$f":"IF($D175>$E175,1,0)+IF($D176>$E176,1,0)+IF($D177>$E177,1,0)+IF($D178>$E178,1,0)+IF($D179>$E179,1,0)+IF($D180>$E180,1,0)+IF($D181>$E181,1,0)+IF($D182>$E182,1,0)+IF($D183>$E183,1,0)","v":2},{"$f":"IF($D175<$E175,1,0)+IF($D176<$E176,1,0)+IF($D177<$E177,1,0)+IF($D178<$E178,1,0)+IF($D179<$E179,1,0)+IF($D180<$E180,1,0)+IF($D181<$E181,1,0)+IF($D182<$E182,1,0)+IF($D183<$E183,1,0)","v":5},{"$f":"COUNT(D175:D183)-9+IF($D175=$E175,1,0)+IF($D176=$E176,1,0)+IF($D177=$E177,1,0)+IF($D178=$E178,1,0)+IF($D179=$E179,1,0)+IF($D180=$E180,1,0)+IF($D181=$E181,1,0)+IF($D182=$E182,1,0)+IF($D183=$E183,1,0)","v":2}]
[null,"Aue","Braunschweig",1,3]
[null,"Sandhausen","Dresden",1,0]
[null,"Duisburg","Heidenheim",3,3]
[null,"Kaiserslautern","Düsseldorf",1,3]
[null,"Regensburg","Ingolstadt",3,2]
[null,"Union","Nürnberg",0,1]
[null,"Fürth","Kiel",0,0]
[null,"Bochum","Bielefeld",0,1]
[null,"Ingolstadt","Fürth",3,0,"21. Spieltag",{"$f":"SUM($D184:$D192)+SUM($E184:$E192)","v":25},{"$f":"SUM($D184:$D192)","v":17},{"$f":"SUM($E184:$E192)","v":8},{"$f":"IF(COUNT($D184:$E192)>0,G184/COUNT($D184:$D192),0)","v":2.7777777777777777},{"$f":"IF(COUNT($D184:$E192)>0,H184/COUNT($D184:$D192),0)","v":1.8888888888888888},{"$f":"IF(COUNT($D184:$E192)>0,I184/COUNT($D184:$D192),0)","v":0.88888888888888884},{"$f":"IF($D184>$E184,1,0)+IF($D185>$E185,1,0)+IF($D186>$E186,1,0)+IF($D187>$E187,1,0)+IF($D188>$E188,1,0)+IF($D189>$E189,1,0)+IF($D190>$E190,1,0)+IF($D191>$E191,1,0)+IF($D192>$E192,1,0)","v":5},{"$f":"IF($D184<$E184,1,0)+IF($D185<$E185,1,0)+IF($D186<$E186,1,0)+IF($D187<$E187,1,0)+IF($D188<$E188,1,0)+IF($D189<$E189,1,0)+IF($D190<$E190,1,0)+IF($D191<$E191,1,0)+IF($D192<$E192,1,0)","v":2},{"$f":"COUNT(D184:D192)-9+IF($D184=$E184,1,0)+IF($D185=$E185,1,0)+IF($D186=$E186,1,0)+IF($D187=$E187,1,0)+IF($D188=$E188,1,0)+IF($D189=$E189,1,0)+IF($D190=$E190,1,0)+IF($D191=$E191,1,0)+IF($D192=$E192,1,0)","v":2}]
[null,"Darmstadt","Duisburg",1,2]
[null,"Heidenheim","St. Pauli",3,1]
[null,"Nürnberg","Aue",4,1]
[null,"Kiel","Regensburg",1,1]
[null,"Bielefeld","Union",1,1]
[null,"Dresden","Bochum",2,0]
[null,"Düsseldorf","Sandhausen",1,0]
[null,"Braunschweig","Kaiserslautern",1,2]
[null,"Fürth","Dresden",1,0,"22. Spieltag",{"$f":"SUM($D193:$D201)+SUM($E193:$E201)","v":18},{"$f":"SUM($D193:$D201)","v":13},{"$f":"SUM($E193:$E201)","v":5},{"$f":"IF(COUNT($D193:$E201)>0,G193/COUNT($D193:$D201),0)","v":2},{"$f":"IF(COUNT($D193:$E201)>0,H193/COUNT($D193:$D201),0)","v":1.4444444444444444},{"$f":"IF(COUNT($D193:$E201)>0,I193/COUNT($D193:$D201),0)","v":0.55555555555555558},{"$f":"IF($D193>$E193,1,0)+IF($D194>$E194,1,0)+IF($D195>$E195,1,0)+IF($D196>$E196,1,0)+IF($D197>$E197,1,0)+IF($D198>$E198,1,0)+IF($D199>$E199,1,0)+IF($D200>$E200,1,0)+IF($D201>$E201,1,0)","v":5},{"$f":"IF($D193<$E193,1,0)+IF($D194<$E194,1,0)+IF($D195<$E195,1,0)+IF($D196<$E196,1,0)+IF($D197<$E197,1,0)+IF($D198<$E198,1,0)+IF($D199<$E199,1,0)+IF($D200<$E200,1,0)+IF($D201<$E201,1,0)","v":0},{"$f":"COUNT(D193:D201)-9+IF($D193=$E193,1,0)+IF($D194=$E194,1,0)+IF($D195=$E195,1,0)+IF($D196=$E196,1,0)+IF($D197=$E197,1,0)+IF($D198=$E198,1,0)+IF($D199=$E199,1,0)+IF($D200=$E200,1,0)+IF($D201=$E201,1,0)","v":4}]
[null,"Regensburg","Heidenheim",2,0]
[null,"Aue","Ingolstadt",0,0]
[null,"Duisburg","Bielefeld",2,2]
[null,"Kaiserslautern","Kiel",3,1]
[null,"Bochum","Darmstadt",2,1]
[null,"Sandhausen","Braunschweig",0,0]
[null,"Union","Düsseldorf",3,1]
[null,"St. Pauli","Nürnberg",0,0]
[null,"Braunschweig","Union",1,0,"23. Spieltag",{"$f":"SUM($D202:$D210)+SUM($E202:$E210)","v":17},{"$f":"SUM($D202:$D210)","v":11},{"$f":"SUM($E202:$E210)","v":6},{"$f":"IF(COUNT($D202:$E210)>0,G202/COUNT($D202:$D210),0)","v":1.8888888888888888},{"$f":"IF(COUNT($D202:$E210)>0,H202/COUNT($D202:$D210),0)","v":1.2222222222222223},{"$f":"IF(COUNT($D202:$E210)>0,I202/COUNT($D202:$D210),0)","v":0.66666666666666663},{"$f":"IF($D202>$E202,1,0)+IF($D203>$E203,1,0)+IF($D204>$E204,1,0)+IF($D205>$E205,1,0)+IF($D206>$E206,1,0)+IF($D207>$E207,1,0)+IF($D208>$E208,1,0)+IF($D209>$E209,1,0)+IF($D210>$E210,1,0)","v":5},{"$f":"IF($D202<$E202,1,0)+IF($D203<$E203,1,0)+IF($D204<$E204,1,0)+IF($D205<$E205,1,0)+IF($D206<$E206,1,0)+IF($D207<$E207,1,0)+IF($D208<$E208,1,0)+IF($D209<$E209,1,0)+IF($D210<$E210,1,0)","v":2},{"$f":"COUNT(D202:D210)-9+IF($D202=$E202,1,0)+IF($D203=$E203,1,0)+IF($D204=$E204,1,0)+IF($D205=$E205,1,0)+IF($D206=$E206,1,0)+IF($D207=$E207,1,0)+IF($D208=$E208,1,0)+IF($D209=$E209,1,0)+IF($D210=$E210,1,0)","v":2}]
[null,"Kiel","Aue",2,2]
[null,"Ingolstadt","St. Pauli",0,1]
[null,"Kaiserslautern","Sandhausen",0,1]
[null,"Nürnberg","Duisburg",3,1]
[null,"Bielefeld","Darmstadt",2,0]
[null,"Düsseldorf","Fürth",1,1]
[null,"Heidenheim","Bochum",1,0]
[null,"Dresden","Regensburg",1,0]
[null,"Duisburg","Ingolstadt",2,1,"24. Spieltag",{"$f":"SUM($D211:$D219)+SUM($E211:$E219)","v":31},{"$f":"SUM($D211:$D219)","v":18},{"$f":"SUM($E211:$E219)","v":13},{"$f":"IF(COUNT($D211:$E219)>0,G211/COUNT($D211:$D219),0)","v":3.4444444444444446},{"$f":"IF(COUNT($D211:$E219)>0,H211/COUNT($D211:$D219),0)","v":2},{"$f":"IF(COUNT($D211:$E219)>0,I211/COUNT($D211:$D219),0)","v":1.4444444444444444},{"$f":"IF($D211>$E211,1,0)+IF($D212>$E212,1,0)+IF($D213>$E213,1,0)+IF($D214>$E214,1,0)+IF($D215>$E215,1,0)+IF($D216>$E216,1,0)+IF($D217>$E217,1,0)+IF($D218>$E218,1,0)+IF($D219>$E219,1,0)","v":6},{"$f":"IF($D211<$E211,1,0)+IF($D212<$E212,1,0)+IF($D213<$E213,1,0)+IF($D214<$E214,1,0)+IF($D215<$E215,1,0)+IF($D216<$E216,1,0)+IF($D217<$E217,1,0)+IF($D218<$E218,1,0)+IF($D219<$E219,1,0)","v":1},{"$f":"COUNT(D211:D219)-9+IF($D211=$E211,1,0)+IF($D212=$E212,1,0)+IF($D213=$E213,1,0)+IF($D214=$E214,1,0)+IF($D215=$E215,1,0)+IF($D216=$E216,1,0)+IF($D217=$E217,1,0)+IF($D218=$E218,1,0)+IF($D219=$E219,1,0)","v":2}]
[null,"Union","Sandhausen",2,1]
[null,"Aue","Kaiserslautern",2,1]
[null,"St. Pauli","Kiel",3,2]
[null,"Fürth","Braunschweig",2,1]
[null,"Bielefeld","Dresden",2,3]
[null,"Darmstadt","Heidenheim",1,1]
[null,"Regensburg","Düsseldorf",4,3]
[null,"Bochum","Nürnberg",0,0]
[null,"Sandhausen","Aue",1,1,"25. Spieltag",{"$f":"SUM($D220:$D228)+SUM($E220:$E228)","v":29},{"$f":"SUM($D220:$D228)","v":16},{"$f":"SUM($E220:$E228)","v":13},{"$f":"IF(COUNT($D220:$E228)>0,G220/COUNT($D220:$D228),0)","v":3.2222222222222223},{"$f":"IF(COUNT($D220:$E228)>0,H220/COUNT($D220:$D228),0)","v":1.7777777777777777},{"$f":"IF(COUNT($D220:$E228)>0,I220/COUNT($D220:$D228),0)","v":1.4444444444444444},{"$f":"IF($D220>$E220,1,0)+IF($D221>$E221,1,0)+IF($D222>$E222,1,0)+IF($D223>$E223,1,0)+IF($D224>$E224,1,0)+IF($D225>$E225,1,0)+IF($D226>$E226,1,0)+IF($D227>$E227,1,0)+IF($D228>$E228,1,0)","v":4},{"$f":"IF($D220<$E220,1,0)+IF($D221<$E221,1,0)+IF($D222<$E222,1,0)+IF($D223<$E223,1,0)+IF($D224<$E224,1,0)+IF($D225<$E225,1,0)+IF($D226<$E226,1,0)+IF($D227<$E227,1,0)+IF($D228<$E228,1,0)","v":3},{"$f":"COUNT(D220:D228)-9+IF($D220=$E220,1,0)+IF($D221=$E221,1,0)+IF($D222=$E222,1,0)+IF($D223=$E223,1,0)+IF($D224=$E224,1,0)+IF($D225=$E225,1,0)+IF($D226=$E226,1,0)+IF($D227=$E227,1,0)+IF($D228=$E228,1,0)","v":2}]
[null,"Kiel","Duisburg",5,0]
[null,"Düsseldorf","St. Pauli",2,1]
[null,"Heidenheim","Bielefeld",2,2]
[null,"Braunschweig","Regensburg",2,1]
[null,"Dresden","Darmstadt",0,2]
[null,"Nürnberg","Fürth",0,2]
[null,"Ingolstadt","Bochum",0,1]
[null,"Kaiserslautern","Union",4,3]
[null,"Darmstadt","Ingolstadt",1,1,"26. Spieltag",{"$f":"SUM($D229:$D237)+SUM($E229:$E237)","v":19},{"$f":"SUM($D229:$D237)","v":11},{"$f":"SUM($E229:$E237)","v":8},{"$f":"IF(COUNT($D229:$E237)>0,G229/COUNT($D229:$D237),0)","v":2.1111111111111112},{"$f":"IF(COUNT($D229:$E237)>0,H229/COUNT($D229:$D237),0)","v":1.2222222222222223},{"$f":"IF(COUNT($D229:$E237)>0,I229/COUNT($D229:$D237),0)","v":0.88888888888888884},{"$f":"IF($D229>$E229,1,0)+IF($D230>$E230,1,0)+IF($D231>$E231,1,0)+IF($D232>$E232,1,0)+IF($D233>$E233,1,0)+IF($D234>$E234,1,0)+IF($D235>$E235,1,0)+IF($D236>$E236,1,0)+IF($D237>$E237,1,0)","v":4},{"$f":"IF($D229<$E229,1,0)+IF($D230<$E230,1,0)+IF($D231<$E231,1,0)+IF($D232<$E232,1,0)+IF($D233<$E233,1,0)+IF($D234<$E234,1,0)+IF($D235<$E235,1,0)+IF($D236<$E236,1,0)+IF($D237<$E237,1,0)","v":1},{"$f":"COUNT(D229:D237)-9+IF($D229=$E229,1,0)+IF($D230=$E230,1,0)+IF($D231=$E231,1,0)+IF($D232=$E232,1,0)+IF($D233=$E233,1,0)+IF($D234=$E234,1,0)+IF($D235=$E235,1,0)+IF($D236=$E236,1,0)+IF($D237=$E237,1,0)","v":4}]
[null,"St. Pauli","Braunschweig",0,0]
[null,"Dresden","Heidenheim",3,2]
[null,"Regensburg","Sandhausen",2,1]
[null,"Duisburg","Düsseldorf",1,2]
[null,"Bielefeld","Nürnberg",1,0]
[null,"Fürth","Kaiserslautern",2,1]
[null,"Union","Aue",0,0]
[null,"Bochum","Kiel",1,1]
[null,"Nürnberg","Darmstadt",1,1,"27. Spieltag",{"$f":"SUM($D238:$D246)+SUM($E238:$E246)","v":36},{"$f":"SUM($D238:$D246)","v":21},{"$f":"SUM($E238:$E246)","v":15},{"$f":"IF(COUNT($D238:$E246)>0,G238/COUNT($D238:$D246),0)","v":4},{"$f":"IF(COUNT($D238:$E246)>0,H238/COUNT($D238:$D246),0)","v":2.3333333333333335},{"$f":"IF(COUNT($D238:$E246)>0,I238/COUNT($D238:$D246),0)","v":1.6666666666666667},{"$f":"IF($D238>$E238,1,0)+IF($D239>$E239,1,0)+IF($D240>$E240,1,0)+IF($D241>$E241,1,0)+IF($D242>$E242,1,0)+IF($D243>$E243,1,0)+IF($D244>$E244,1,0)+IF($D245>$E245,1,0)+IF($D246>$E246,1,0)","v":5},{"$f":"IF($D238<$E238,1,0)+IF($D239<$E239,1,0)+IF($D240<$E240,1,0)+IF($D241<$E241,1,0)+IF($D242<$E242,1,0)+IF($D243<$E243,1,0)+IF($D244<$E244,1,0)+IF($D245<$E245,1,0)+IF($D246<$E246,1,0)","v":1},{"$f":"COUNT(D238:D246)-9+IF($D238=$E238,1,0)+IF($D239=$E239,1,0)+IF($D240=$E240,1,0)+IF($D241=$E241,1,0)+IF($D242=$E242,1,0)+IF($D243=$E243,1,0)+IF($D244=$E244,1,0)+IF($D245=$E245,1,0)+IF($D246=$E246,1,0)","v":3}]
[null,"Ingolstadt","Dresden",4,2]
[null,"Kiel","Heidenheim",2,1]
[null,"Kaiserslautern","St. Pauli",1,1]
[null,"Aue","Fürth",2,1]
[null,"Sandhausen","Bochum",2,3]
[null,"Düsseldorf","Bielefeld",4,2]
[null,"Braunschweig","Duisburg",3,2]
[null,"Union","Regensburg",2,2]
[null,"Heidenheim","Ingolstadt",1,2,"28. Spieltag",{"$f":"SUM($D247:$D255)+SUM($E247:$E255)","v":24},{"$f":"SUM($D247:$D255)","v":11},{"$f":"SUM($E247:$E255)","v":13},{"$f":"IF(COUNT($D247:$E255)>0,G247/COUNT($D247:$D255),0)","v":2.6666666666666665},{"$f":"IF(COUNT($D247:$E255)>0,H247/COUNT($D247:$D255),0)","v":1.2222222222222223},{"$f":"IF(COUNT($D247:$E255)>0,I247/COUNT($D247:$D255),0)","v":1.4444444444444444},{"$f":"IF($D247>$E247,1,0)+IF($D248>$E248,1,0)+IF($D249>$E249,1,0)+IF($D250>$E250,1,0)+IF($D251>$E251,1,0)+IF($D252>$E252,1,0)+IF($D253>$E253,1,0)+IF($D254>$E254,1,0)+IF($D255>$E255,1,0)","v":3},{"$f":"IF($D247<$E247,1,0)+IF($D248<$E248,1,0)+IF($D249<$E249,1,0)+IF($D250<$E250,1,0)+IF($D251<$E251,1,0)+IF($D252<$E252,1,0)+IF($D253<$E253,1,0)+IF($D254<$E254,1,0)+IF($D255<$E255,1,0)","v":3},{"$f":"COUNT(D247:D255)-9+IF($D247=$E247,1,0)+IF($D248=$E248,1,0)+IF($D249=$E249,1,0)+IF($D250=$E250,1,0)+IF($D251=$E251,1,0)+IF($D252=$E252,1,0)+IF($D253=$E253,1,0)+IF($D254=$E254,1,0)+IF($D255=$E255,1,0)","v":3}]
[null,"Bochum","Braunschweig",2,0]
[null,"Fürth","Union",2,1]
[null,"St. Pauli","Sandhausen",1,1]
[null,"Darmstadt","Düsseldorf",1,0]
[null,"Dresden","Nürnberg",1,1]
[null,"Duisburg","Kaiserslautern",1,4]
[null,"Regensburg","Aue",1,3]
[null,"Bielefeld","Kiel",1,1]
[null,"Kiel","Darmstadt",0,0,"29. Spieltag",{"$f":"SUM($D256:$D264)+SUM($E256:$E264)","v":19},{"$f":"SUM($D256:$D264)","v":10},{"$f":"SUM($E256:$E264)","v":9},{"$f":"IF(COUNT($D256:$E264)>0,G256/COUNT($D256:$D264),0)","v":2.1111111111111112},{"$f":"IF(COUNT($D256:$E264)>0,H256/COUNT($D256:$D264),0)","v":1.1111111111111112},{"$f":"IF(COUNT($D256:$E264)>0,I256/COUNT($D256:$D264),0)","v":1},{"$f":"IF($D256>$E256,1,0)+IF($D257>$E257,1,0)+IF($D258>$E258,1,0)+IF($D259>$E259,1,0)+IF($D260>$E260,1,0)+IF($D261>$E261,1,0)+IF($D262>$E262,1,0)+IF($D263>$E263,1,0)+IF($D264>$E264,1,0)","v":2},{"$f":"IF($D256<$E256,1,0)+IF($D257<$E257,1,0)+IF($D258<$E258,1,0)+IF($D259<$E259,1,0)+IF($D260<$E260,1,0)+IF($D261<$E261,1,0)+IF($D262<$E262,1,0)+IF($D263<$E263,1,0)+IF($D264<$E264,1,0)","v":1},{"$f":"COUNT(D256:D264)-9+IF($D256=$E256,1,0)+IF($D257=$E257,1,0)+IF($D258=$E258,1,0)+IF($D259=$E259,1,0)+IF($D260=$E260,1,0)+IF($D261=$E261,1,0)+IF($D262=$E262,1,0)+IF($D263=$E263,1,0)+IF($D264=$E264,1,0)","v":6}]
[null,"Braunschweig","Dresden",1,1]
[null,"Nürnberg","Heidenheim",3,2]
[null,"Aue","St. Pauli",2,1]
[null,"Sandhausen","Fürth",0,0]
[null,"Düsseldorf","Bochum",1,2]
[null,"Ingolstadt","Bielefeld",2,2]
[null,"Union","Duisburg",0,0]
[null,"Kaiserslautern","Regensburg",1,1]
[null,"Darmstadt","Braunschweig",1,1,"30. Spieltag",{"$f":"SUM($D265:$D273)+SUM($E265:$E273)","v":25},{"$f":"SUM($D265:$D273)","v":11},{"$f":"SUM($E265:$E273)","v":14},{"$f":"IF(COUNT($D265:$E273)>0,G265/COUNT($D265:$D273),0)","v":2.7777777777777777},{"$f":"IF(COUNT($D265:$E273)>0,H265/COUNT($D265:$D273),0)","v":1.2222222222222223},{"$f":"IF(COUNT($D265:$E273)>0,I265/COUNT($D265:$D273),0)","v":1.5555555555555556},{"$f":"IF($D265>$E265,1,0)+IF($D266>$E266,1,0)+IF($D267>$E267,1,0)+IF($D268>$E268,1,0)+IF($D269>$E269,1,0)+IF($D270>$E270,1,0)+IF($D271>$E271,1,0)+IF($D272>$E272,1,0)+IF($D273>$E273,1,0)","v":3},{"$f":"IF($D265<$E265,1,0)+IF($D266<$E266,1,0)+IF($D267<$E267,1,0)+IF($D268<$E268,1,0)+IF($D269<$E269,1,0)+IF($D270<$E270,1,0)+IF($D271<$E271,1,0)+IF($D272<$E272,1,0)+IF($D273<$E273,1,0)","v":4},{"$f":"COUNT(D265:D273)-9+IF($D265=$E265,1,0)+IF($D266=$E266,1,0)+IF($D267=$E267,1,0)+IF($D268=$E268,1,0)+IF($D269=$E269,1,0)+IF($D270=$E270,1,0)+IF($D271=$E271,1,0)+IF($D272=$E272,1,0)+IF($D273=$E273,1,0)","v":2}]
[null,"St. Pauli","Union",0,1]
[null,"Duisburg","Sandhausen",0,2]
[null,"Heidenheim","Düsseldorf",3,1]
[null,"Ingolstadt","Nürnberg",1,1]
[null,"Bochum","Kaiserslautern",3,2]
[null,"Bielefeld","Aue",2,0]
[null,"Dresden","Kiel",0,4]
[null,"Fürth","Regensburg",1,2]
[null,"Düsseldorf","Ingolstadt",3,0,"31. Spieltag",{"$f":"SUM($D274:$D282)+SUM($E274:$E282)","v":22},{"$f":"SUM($D274:$D282)","v":11},{"$f":"SUM($E274:$E282)","v":11},{"$f":"IF(COUNT($D274:$E282)>0,G274/COUNT($D274:$D282),0)","v":2.4444444444444446},{"$f":"IF(COUNT($D274:$E282)>0,H274/COUNT($D274:$D282),0)","v":1.2222222222222223},{"$f":"IF(COUNT($D274:$E282)>0,I274/COUNT($D274:$D282),0)","v":1.2222222222222223},{"$f":"IF($D274>$E274,1,0)+IF($D275>$E275,1,0)+IF($D276>$E276,1,0)+IF($D277>$E277,1,0)+IF($D278>$E278,1,0)+IF($D279>$E279,1,0)+IF($D280>$E280,1,0)+IF($D281>$E281,1,0)+IF($D282>$E282,1,0)","v":2},{"$f":"IF($D274<$E274,1,0)+IF($D275<$E275,1,0)+IF($D276<$E276,1,0)+IF($D277<$E277,1,0)+IF($D278<$E278,1,0)+IF($D279<$E279,1,0)+IF($D280<$E280,1,0)+IF($D281<$E281,1,0)+IF($D282<$E282,1,0)","v":3},{"$f":"COUNT(D274:D282)-9+IF($D274=$E274,1,0)+IF($D275=$E275,1,0)+IF($D276=$E276,1,0)+IF($D277=$E277,1,0)+IF($D278=$E278,1,0)+IF($D279=$E279,1,0)+IF($D280=$E280,1,0)+IF($D281=$E281,1,0)+IF($D282=$E282,1,0)","v":4}]
[null,"Sandhausen","Darmstadt",1,1]
[null,"Kaiserslautern","Dresden",0,1]
[null,"Union","Heidenheim",1,1]
[null,"Regensburg","St. Pauli",3,1]
[null,"Fürth","Bochum",1,1]
[null,"Kiel","Nürnberg",1,3]
[null,"Braunschweig","Bielefeld",0,0]
[null,"Aue","Duisburg",1,3]
[null,"Nürnberg","Braunschweig",2,0,"32. Spieltag",{"$f":"SUM($D283:$D291)+SUM($E283:$E291)","v":33},{"$f":"SUM($D283:$D291)","v":21},{"$f":"SUM($E283:$E291)","v":12},{"$f":"IF(COUNT($D283:$E291)>0,G283/COUNT($D283:$D291),0)","v":3.6666666666666665},{"$f":"IF(COUNT($D283:$E291)>0,H283/COUNT($D283:$D291),0)","v":2.3333333333333335},{"$f":"IF(COUNT($D283:$E291)>0,I283/COUNT($D283:$D291),0)","v":1.3333333333333333},{"$f":"IF($D283>$E283,1,0)+IF($D284>$E284,1,0)+IF($D285>$E285,1,0)+IF($D286>$E286,1,0)+IF($D287>$E287,1,0)+IF($D288>$E288,1,0)+IF($D289>$E289,1,0)+IF($D290>$E290,1,0)+IF($D291>$E291,1,0)","v":7},{"$f":"IF($D283<$E283,1,0)+IF($D284<$E284,1,0)+IF($D285<$E285,1,0)+IF($D286<$E286,1,0)+IF($D287<$E287,1,0)+IF($D288<$E288,1,0)+IF($D289<$E289,1,0)+IF($D290<$E290,1,0)+IF($D291<$E291,1,0)","v":2},{"$f":"COUNT(D283:D291)-9+IF($D283=$E283,1,0)+IF($D284=$E284,1,0)+IF($D285=$E285,1,0)+IF($D286=$E286,1,0)+IF($D287=$E287,1,0)+IF($D288=$E288,1,0)+IF($D289=$E289,1,0)+IF($D290=$E290,1,0)+IF($D291=$E291,1,0)","v":0}]
[null,"Darmstadt","Union",3,1]
[null,"St. Pauli","Fürth",3,0]
[null,"Heidenheim","Sandhausen",2,0]
[null,"Dresden","Düsseldorf",1,2]
[null,"Bielefeld","Kaiserslautern",3,2]
[null,"Bochum","Aue",2,1]
[null,"Ingolstadt","Kiel",1,5]
[null,"Duisburg","Regensburg",4,1]
[null,"Braunschweig","Ingolstadt",0,2,"33. Spieltag",{"$f":"SUM($D292:$D300)+SUM($E292:$E300)","v":19},{"$f":"SUM($D292:$D300)","v":8},{"$f":"SUM($E292:$E300)","v":11},{"$f":"IF(COUNT($D292:$E300)>0,G292/COUNT($D292:$D300),0)","v":2.1111111111111112},{"$f":"IF(COUNT($D292:$E300)>0,H292/COUNT($D292:$D300),0)","v":0.88888888888888884},{"$f":"IF(COUNT($D292:$E300)>0,I292/COUNT($D292:$D300),0)","v":1.2222222222222223},{"$f":"IF($D292>$E292,1,0)+IF($D293>$E293,1,0)+IF($D294>$E294,1,0)+IF($D295>$E295,1,0)+IF($D296>$E296,1,0)+IF($D297>$E297,1,0)+IF($D298>$E298,1,0)+IF($D299>$E299,1,0)+IF($D300>$E300,1,0)","v":3},{"$f":"IF($D292<$E292,1,0)+IF($D293<$E293,1,0)+IF($D294<$E294,1,0)+IF($D295<$E295,1,0)+IF($D296<$E296,1,0)+IF($D297<$E297,1,0)+IF($D298<$E298,1,0)+IF($D299<$E299,1,0)+IF($D300<$E300,1,0)","v":3},{"$f":"COUNT(D292:D300)-9+IF($D292=$E292,1,0)+IF($D293=$E293,1,0)+IF($D294=$E294,1,0)+IF($D295=$E295,1,0)+IF($D296=$E296,1,0)+IF($D297=$E297,1,0)+IF($D298=$E298,1,0)+IF($D299=$E299,1,0)+IF($D300=$E300,1,0)","v":3}]
[null,"Regensburg","Darmstadt",0,3]
[null,"Aue","Dresden",0,0]
[null,"Kaiserslautern","Heidenheim",1,0]
[null,"Union","Bochum",3,1]
[null,"Sandhausen","Nürnberg",0,2]
[null,"St. Pauli","Bielefeld",1,0]
[null,"Fürth","Duisburg",2,2]
[null,"Düsseldorf","Kiel",1,1]
[null,"Kiel","Braunschweig",6,2,"34. Spieltag",{"$f":"SUM($D301:$D309)+SUM($E301:$E309)","v":25},{"$f":"SUM($D301:$D309)","v":14},{"$f":"SUM($E301:$E309)","v":11},{"$f":"IF(COUNT($D301:$E309)>0,G301/COUNT($D301:$D309),0)","v":2.7777777777777777},{"$f":"IF(COUNT($D301:$E309)>0,H301/COUNT($D301:$D309),0)","v":1.5555555555555556},{"$f":"IF(COUNT($D301:$E309)>0,I301/COUNT($D301:$D309),0)","v":1.2222222222222223},{"$f":"IF($D301>$E301,1,0)+IF($D302>$E302,1,0)+IF($D303>$E303,1,0)+IF($D304>$E304,1,0)+IF($D305>$E305,1,0)+IF($D306>$E306,1,0)+IF($D307>$E307,1,0)+IF($D308>$E308,1,0)+IF($D309>$E309,1,0)","v":3},{"$f":"IF($D301<$E301,1,0)+IF($D302<$E302,1,0)+IF($D303<$E303,1,0)+IF($D304<$E304,1,0)+IF($D305<$E305,1,0)+IF($D306<$E306,1,0)+IF($D307<$E307,1,0)+IF($D308<$E308,1,0)+IF($D309<$E309,1,0)","v":3},{"$f":"COUNT(D301:D309)-9+IF($D301=$E301,1,0)+IF($D302=$E302,1,0)+IF($D303=$E303,1,0)+IF($D304=$E304,1,0)+IF($D305=$E305,1,0)+IF($D306=$E306,1,0)+IF($D307=$E307,1,0)+IF($D308=$E308,1,0)+IF($D309=$E309,1,0)","v":3}]
[null,"Dresden","Union",0,1]
[null,"Duisburg","St. Pauli",2,0]
[null,"Heidenheim","Fürth",1,1]
[null,"Bielefeld","Sandhausen",0,0]
[null,"Nürnberg","Düsseldorf",2,3]
[null,"Ingolstadt","Kaiserslautern",1,3]
[null,"Darmstadt","Aue",1,0]
[null,"Bochum","Regensburg",1,1]
[null,"Gesamte Saison:",null,null,null,null,{"$f":"SUM(G4:G309)","v":849},{"$f":"SUM(H4:H309)","v":455},{"$f":"SUM(I4:I309)","v":394},{"$f":"SUM(J4:J309)/COUNTIF(J4:J309,\">0\")","v":2.7822712418300659},{"$f":"SUM(K4:K309)/COUNTIF(K4:K309,\">0\")","v":1.4906045751633987},{"$f":"SUM(L4:L309)/COUNTIF(L4:L309,\">0\")","v":1.2916666666666667},{"$f":"SUM(M4:M309)","v":126},{"$f":"SUM(N4:N309)","v":90},{"$f":"SUM(O4:O309)","v":89}]

{"sheet":"Tore 1. Liga","index":6,"n_rows":309,"n_cols":7,"rows_kept":309,"cut":false,"hidden":false,"merged":[[2,3,2,4],[1,1,1,6]]}
[]
[null,"1. Liga - Automatische Spiele-Sortierung nach Toranzahl"]
[null,"Heim","Gast","Ergebnis",null,"Tore","Diff."]
[null,"Hertha","Leipzig",2,6,8,{"$f":"ABS(D4-E4)","v":4}]
[null,"Dortmund","Schalke",4,4,8,0]
[null,"Hannover","Leverkusen",4,4,8,0]
[null,"Dortmund","Mönchengladbach",6,1,7,5]
[null,"Leipzig","Hoffenheim",2,5,7,3]
[null,"Bayern","Hoffenheim",5,2,7,3]
[null,"Köln","Freiburg",3,4,7,1]
[null,"Bayern","Hamburg",6,0,6,6]
[null,"Bayern","Dortmund",6,0,6,6]
[null,"Hoffenheim","Köln",6,0,6,6]
[null,"Mönchengladbach","Leverkusen",1,5,6,4]
[null,"Bayern","Mönchengladbach",5,1,6,4]
[null,"Hertha","Mönchengladbach",2,4,6,2]
[null,"Hannover","Dortmund",4,2,6,2]
[null,"Bayern","Bremen",4,2,6,2]
[null,"Frankfurt","Köln",4,2,6,2]
[null,"Hoffenheim","Mainz",4,2,6,2]
[null,"Wolfsburg","Hertha",3,3,6,0]
[null,"Augsburg","Freiburg",3,3,6,0]
[null,"Mönchengladbach","Hoffenheim",3,3,6,0]
[null,"Dortmund","Köln",5,0,5,5]
[null,"Bayern","Freiburg",5,0,5,5]
[null,"Hoffenheim","Leverkusen",1,4,5,3]
[null,"Augsburg","Bayern",1,4,5,3]
[null,"Leipzig","Leverkusen",1,4,5,3]
[null,"Bayern","Stuttgart",1,4,5,3]
[null,"Leipzig","Freiburg",4,1,5,3]
[null,"Leverkusen","Frankfurt",4,1,5,3]
[null,"Bayern","Frankfurt",4,1,5,3]
[null,"Leipzig","Wolfsburg",4,1,5,3]
[null,"Wolfsburg","Köln",4,1,5,3]
[null,"Mainz","Hoffenheim",2,3,5,1]
[null,"Dortmund","Leipzig",2,3,5,1]
[null,"Leipzig","Hertha",2,3,5,1]
[null,"Köln","Dortmund",2,3,5,1]
[null,"Köln","Stuttgart",2,3,5,1]
[null,"Hannover","Leipzig",2,3,5,1]
[null,"Freiburg","Hoffenheim",3,2,5,1]
[null,"Mainz","Hamburg",3,2,5,1]
[null,"Schalke","Augsburg",3,2,5,1]
[null,"Hannover","Mainz",3,2,5,1]
[null,"Mainz","Stuttgart",3,2,5,1]
[null,"Dortmund","Frankfurt",3,2,5,1]
[null,"Hamburg","Schalke",3,2,5,1]
[null,"Freiburg","Köln",3,2,5,1]
[null,"Leverkusen","Hannover",3,2,5,1]
[null,"Freiburg","Bayern",0,4,4,4]
[null,"Bayern","Mainz",4,0,4,4]
[null,"Leverkusen","Freiburg",4,0,4,4]
[null,"Bremen","Hannover",4,0,4,4]
[null,"Hoffenheim","Leipzig",4,0,4,4]
[null,"Dortmund","Leverkusen",4,0,4,4]
[null,"Köln","Hamburg",1,3,4,2]
[null,"Hoffenheim","Mönchengladbach",1,3,4,2]
[null,"Dortmund","Bayern",1,3,4,2]
[null,"Mainz","Augsburg",1,3,4,2]
[null,"Leverkusen","Bayern",1,3,4,2]
[null,"Wolfsburg","Frankfurt",1,3,4,2]
[null,"Hannover","Augsburg",1,3,4,2]
[null,"Augsburg","Bremen",1,3,4,2]
[null,"Wolfsburg","Hamburg",1,3,4,2]
[null,"Köln","Bayern",1,3,4,2]
[null,"Bayern","Leverkusen",3,1,4,2]
[null,"Mainz","Leverkusen",3,1,4,2]
[null,"Schalke","Stuttgart",3,1,4,{"$f":"ABS(D68-E68)","v":2}]
[null,"Hamburg","Stuttgart",3,1,4,2]
[null,"Wolfsburg","Freiburg",3,1,4,2]
[null,"Bayern","Hannover",3,1,4,2]
[null,"Hertha","Hannover",3,1,4,2]
[null,"Mönchengladbach","Hamburg",3,1,4,2]
[null,"Leipzig","Schalke",3,1,4,2]
[null,"Bremen","Wolfsburg",3,1,4,2]
[null,"Bremen","Köln",3,1,4,2]
[null,"Hoffenheim","Hannover",3,1,4,2]
[null,"Hannover","Hertha",3,1,4,2]
[null,"Mönchengladbach","Freiburg",3,1,4,2]
[null,"Hoffenheim","Dortmund",3,1,4,2]
[null,"Leverkusen","Hoffenheim",2,2,4,0]
[null,"Augsburg","Mönchengladbach",2,2,4,0]
[null,"Leipzig","Mönchengladbach",2,2,4,0]
[null,"Bayern","Wolfsburg",2,2,4,0]
[null,"Hertha","Bayern",2,2,4,0]
[null,"Hoffenheim","Augsburg",2,2,4,0]
[null,"Leverkusen","Wolfsburg",2,2,4,0]
[null,"Frankfurt","Dortmund",2,2,4,0]
[null,"Leverkusen","Leipzig",2,2,4,0]
[null,"Schalke","Köln",2,2,4,0]
[null,"Leipzig","Mainz",2,2,4,0]
[null,"Bremen","Mainz",2,2,4,0]
[null,"Frankfurt","Schalke",2,2,4,0]
[null,"Dortmund","Freiburg",2,2,4,0]
[null,"Mönchengladbach","Bremen",2,2,4,0]
[null,"Köln","Schalke",2,2,4,0]
[null,"Hertha","Augsburg",2,2,4,0]
[null,"Wolfsburg","Dortmund",0,3,3,3]
[null,"Schalke","Bayern",0,3,3,3]
[null,"Hamburg","Dortmund",0,3,3,3]
[null,"Bremen","Augsburg",0,3,3,3]
[null,"Köln","Hoffenheim",0,3,3,3]
[null,"Hannover","Bayern",0,3,3,3]
[null,"Frankfurt","Hertha",0,3,3,3]
[null,"Augsburg","Köln",3,0,3,3]
[null,"Leverkusen","Hamburg",3,0,3,3]
[null,"Stuttgart","Freiburg",3,0,3,3]
[null,"Bayern","Augsburg",3,0,3,3]
[null,"Hamburg","Hoffenheim",3,0,3,3]
[null,"Wolfsburg","Mönchengladbach",3,0,3,3]
[null,"Augsburg","Frankfurt",3,0,3,3]
[null,"Hoffenheim","Wolfsburg",3,0,3,3]
[null,"Frankfurt","Mainz",3,0,3,3]
[null,"Dortmund","Stuttgart",3,0,3,3]
[null,"Mönchengladbach","Wolfsburg",3,0,3,3]
[null,"Mainz","Leipzig",3,0,3,3]
[null,"Frankfurt","Hamburg",3,0,3,3]
[null,"Bremen","Schalke",1,2,3,1]
[null,"Frankfurt","Augsburg",1,2,3,1]
[null,"Köln","Leipzig",1,2,3,1]
[null,"Augsburg","Dortmund",1,2,3,1]
[null,"Hannover","Frankfurt",1,2,3,1]
[null,"Augsburg","Hannover",1,2,3,1]
[null,"Hertha","Frankfurt",1,2,3,1]
[null,"Dortmund","Bremen",1,2,3,1]
[null,"Hamburg","Frankfurt",1,2,3,1]
[null,"Schalke","Bremen",1,2,3,1]
[null,"Wolfsburg","Bayern",1,2,3,1]
[null,"Hamburg","Leverkusen",1,2,3,1]
[null,"Leipzig","Köln",1,2,3,1]
[null,"Wolfsburg","Leverkusen",1,2,3,1]
[null,"Hamburg","Hertha",1,2,3,{"$f":"ABS(D132-E132)","v":1}]
[null,"Freiburg","Stuttgart",1,2,3,1]
[null,"Augsburg","Schalke",1,2,3,1]
[null,"Dortmund","Mainz",1,2,3,1]
[null,"Mainz","Bremen",1,2,3,1]
[null,"Hertha","Leverkusen",2,1,3,1]
[null,"Leipzig","Frankfurt",2,1,3,1]
[null,"Mönchengladbach","Hannover",2,1,3,1]
[null,"Frankfurt","Stuttgart",2,1,3,1]
[null,"Stuttgart","Köln",2,1,3,1]
[null,"Hertha","Hamburg",2,1,3,1]
[null,"Leverkusen","Köln",2,1,3,1]
[null,"Leipzig","Hannover",2,1,3,1]
[null,"Frankfurt","Bremen",2,1,3,1]
[null,"Stuttgart","Dortmund",2,1,3,1]
[null,"Freiburg","Mainz",2,1,3,1]
[null,"Mönchengladbach","Bayern",2,1,3,1]
[null,"Augsburg","Wolfsburg",2,1,3,1]
[null,"Dortmund","Hoffenheim",2,1,3,1]
[null,"Köln","Mönchengladbach",2,1,3,1]
[null,"Freiburg","Leipzig",2,1,3,1]
[null,"Bayern","Schalke",2,1,3,1]
[null,"Hannover","Freiburg",2,1,3,1]
[null,"Frankfurt","Leipzig",2,1,3,1]
[null,"Schalke","Hoffenheim",2,1,3,1]
[null,"Leipzig","Bayern",2,1,3,1]
[null,"Bremen","Frankfurt",2,1,3,1]
[null,"Mönchengladbach","Hertha",2,1,3,1]
[null,"Hannover","Bremen",2,1,3,1]
[null,"Hertha","Köln",2,1,3,1]
[null,"Hamburg","Mönchengladbach",2,1,3,1]
[null,"Bremen","Bayern",0,2,2,2]
[null,"Hamburg","Leipzig",0,2,2,2]
[null,"Hertha","Schalke",0,2,2,2]
[null,"Bremen","Mönchengladbach",0,2,2,2]
[null,"Köln","Hertha",0,2,2,2]
[null,"Stuttgart","Leverkusen",0,2,2,2]
[null,"Mainz","Dortmund",0,2,2,2]
[null,"Hamburg","Köln",0,2,2,2]
[null,"Stuttgart","Schalke",0,2,2,2]
[null,"Mainz","Bayern",0,2,2,2]
[null,"Leverkusen","Hertha",0,2,2,2]
[null,"Hertha","Mainz",0,2,2,2]
[null,"Leverkusen","Schalke",0,2,2,2]
[null,"Augsburg","Hoffenheim",0,2,2,2]
[null,"Freiburg","Wolfsburg",0,2,2,2]
[null,"Hertha","Stuttgart",2,0,2,2]
[null,"Schalke","Leipzig",2,0,2,2]
[null,"Dortmund","Hertha",2,0,2,2]
[null,"Hoffenheim","Bayern",2,0,2,2]
[null,"Hannover","Hamburg",2,0,2,2]
[null,"Mönchengladbach","Stuttgart",2,0,2,2]
[null,"Hoffenheim","Schalke",2,0,2,2]
[null,"Schalke","Mainz",2,0,2,2]
[null,"Bayern","Leipzig",2,0,2,2]
[null,"Schalke","Hamburg",2,0,2,2]
[null,"Leipzig","Bremen",2,0,2,2]
[null,"Hannover","Hoffenheim",2,0,2,2]
[null,"Mönchengladbach","Augsburg",2,0,2,2]
[null,"Frankfurt","Mönchengladbach",2,0,2,2]
[null,"Leverkusen","Mainz",2,0,2,2]
[null,"Leipzig","Augsburg",2,0,2,2]
[null,"Dortmund","Hamburg",2,0,2,2]
[null,"Leverkusen","Mönchengladbach",2,0,2,2]
[null,"Köln","Leverkusen",2,0,2,{"$f":"ABS(D196-E196)","v":2}]
[null,"Schalke","Freiburg",2,0,2,2]
[null,"Schalke","Dortmund",2,0,2,2]
[null,"Mainz","Freiburg",2,0,2,2]
[null,"Hoffenheim","Hamburg",2,0,2,2]
[null,"Stuttgart","Bremen",2,0,2,2]
[null,"Augsburg","Mainz",2,0,2,2]
[null,"Stuttgart","Hoffenheim",2,0,2,2]
[null,"Freiburg","Augsburg",2,0,2,2]
[null,"Wolfsburg","Hannover",1,1,2,0]
[null,"Hertha","Bremen",1,1,2,0]
[null,"Hoffenheim","Hertha",1,1,2,0]
[null,"Wolfsburg","Bremen",1,1,2,0]
[null,"Freiburg","Hannover",1,1,2,0]
[null,"Schalke","Leverkusen",1,1,2,0]
[null,"Wolfsburg","Mainz",1,1,2,0]
[null,"Freiburg","Hertha",1,1,2,0]
[null,"Wolfsburg","Hoffenheim",1,1,2,0]
[null,"Schalke","Wolfsburg",1,1,2,0]
[null,"Mainz","Frankfurt",1,1,2,0]
[null,"Mönchengladbach","Mainz",1,1,2,0]
[null,"Augsburg","Leverkusen",1,1,2,0]
[null,"Hoffenheim","Frankfurt",1,1,2,0]
[null,"Hannover","Stuttgart",1,1,2,0]
[null,"Leverkusen","Dortmund",1,1,2,0]
[null,"Mönchengladbach","Schalke",1,1,2,0]
[null,"Augsburg","Hertha",1,1,2,0]
[null,"Wolfsburg","Leipzig",1,1,2,0]
[null,"Bremen","Hoffenheim",1,1,2,0]
[null,"Frankfurt","Freiburg",1,1,2,0]
[null,"Hertha","Dortmund",1,1,2,0]
[null,"Schalke","Hannover",1,1,2,0]
[null,"Leipzig","Hamburg",1,1,2,0]
[null,"Köln","Augsburg",1,1,2,0]
[null,"Hamburg","Hannover",1,1,2,0]
[null,"Wolfsburg","Stuttgart",1,1,2,0]
[null,"Hertha","Hoffenheim",1,1,2,0]
[null,"Köln","Hannover",1,1,2,0]
[null,"Hoffenheim","Freiburg",1,1,2,0]
[null,"Dortmund","Augsburg",1,1,2,0]
[null,"Mainz","Wolfsburg",1,1,2,0]
[null,"Leipzig","Dortmund",1,1,2,0]
[null,"Stuttgart","Hamburg",1,1,2,0]
[null,"Frankfurt","Hoffenheim",1,1,2,0]
[null,"Köln","Mainz",1,1,2,0]
[null,"Bremen","Leipzig",1,1,2,0]
[null,"Stuttgart","Hannover",1,1,2,0]
[null,"Bremen","Dortmund",1,1,2,0]
[null,"Schalke","Mönchengladbach",1,1,2,0]
[null,"Mainz","Hannover",0,1,1,1]
[null,"Frankfurt","Wolfsburg",0,1,1,1]
[null,"Mönchengladbach","Frankfurt",0,1,1,1]
[null,"Köln","Frankfurt",0,1,1,1]
[null,"Hamburg","Bayern",0,1,1,1]
[null,"Freiburg","Schalke",0,1,1,1]
[null,"Frankfurt","Leverkusen",0,1,1,1]
[null,"Frankfurt","Bayern",0,1,1,1]
[null,"Stuttgart","Bayern",0,1,1,1]
[null,"Hannover","Wolfsburg",0,1,1,1]
[null,"Mönchengladbach","Leipzig",0,1,1,1]
[null,"Augsburg","Stuttgart",0,1,1,1]
[null,"Mönchengladbach","Dortmund",0,1,1,1]
[null,"Hannover","Mönchengladbach",0,1,1,1]
[null,"Mainz","Schalke",0,1,1,1]
[null,"Wolfsburg","Schalke",0,1,1,{"$f":"ABS(D260-E260)","v":1}]
[null,"Leverkusen","Stuttgart",0,1,1,1]
[null,"Hoffenheim","Bremen",1,0,1,1]
[null,"Hamburg","Augsburg",1,0,1,1]
[null,"Mönchengladbach","Köln",1,0,1,1]
[null,"Stuttgart","Mainz",1,0,1,1]
[null,"Hannover","Schalke",1,0,1,1]
[null,"Stuttgart","Wolfsburg",1,0,1,1]
[null,"Augsburg","Leipzig",1,0,1,1]
[null,"Mainz","Hertha",1,0,1,1]
[null,"Leipzig","Stuttgart",1,0,1,1]
[null,"Mainz","Köln",1,0,1,1]
[null,"Bremen","Stuttgart",1,0,1,1]
[null,"Bayern","Köln",1,0,1,1]
[null,"Hoffenheim","Stuttgart",1,0,1,1]
[null,"Freiburg","Mönchengladbach",1,0,1,1]
[null,"Leverkusen","Bremen",1,0,1,1]
[null,"Köln","Wolfsburg",1,0,1,1]
[null,"Stuttgart","Hertha",1,0,1,1]
[null,"Augsburg","Hamburg",1,0,1,1]
[null,"Stuttgart","Mönchengladbach",1,0,1,1]
[null,"Freiburg","Bremen",1,0,1,1]
[null,"Stuttgart","Frankfurt",1,0,1,1]
[null,"Bremen","Hamburg",1,0,1,1]
[null,"Schalke","Hertha",1,0,1,1]
[null,"Frankfurt","Hannover",1,0,1,1]
[null,"Dortmund","Hannover",1,0,1,1]
[null,"Hamburg","Freiburg",1,0,1,1]
[null,"Schalke","Frankfurt",1,0,1,1]
[null,"Freiburg","Frankfurt",0,0,0,0]
[null,"Freiburg","Dortmund",0,0,0,0]
[null,"Bremen","Freiburg",0,0,0,0]
[null,"Stuttgart","Augsburg",0,0,0,0]
[null,"Hannover","Köln",0,0,0,0]
[null,"Hamburg","Bremen",0,0,0,0]
[null,"Köln","Bremen",0,0,0,0]
[null,"Freiburg","Hamburg",0,0,0,0]
[null,"Hamburg","Wolfsburg",0,0,0,0]
[null,"Dortmund","Wolfsburg",0,0,0,0]
[null,"Bremen","Hertha",0,0,0,0]
[null,"Freiburg","Leverkusen",0,0,0,0]
[null,"Bayern","Hertha",0,0,0,0]
[null,"Hamburg","Mainz",0,0,0,0]
[null,"Stuttgart","Leipzig",0,0,0,0]
[null,"Hertha","Freiburg",0,0,0,0]
[null,"Mainz","Mönchengladbach",0,0,0,0]
[null,"Leverkusen","Augsburg",0,0,0,0]
[null,"Hertha","Wolfsburg",0,0,0,0]
[null,"Wolfsburg","Augsburg",0,0,0,0]
[null,"Bremen","Leverkusen",0,0,0,0]

{"sheet":"Tore 2. Liga","index":7,"n_rows":309,"n_cols":7,"rows_kept":309,"cut":false,"hidden":false,"merged":[[1,1,1,6],[2,3,2,4]]}
[]
[null,"2. Liga - Automatische Spiele-Sortierung nach Toranzahl"]
[null,"Heim","Gast","Ergebnis",null,"Tore","Diff."]
[null,"Sandhausen","Regensburg",2,9,11,{"$f":"ABS(D4-E4)","v":7}]
[null,"Kiel","Braunschweig",6,2,8,4]
[null,"Heidenheim","Kiel",3,5,8,2]
[null,"Duisburg","Nürnberg",1,6,7,5]
[null,"Darmstadt","Nürnberg",3,4,7,1]
[null,"Union","Kiel",4,3,7,1]
[null,"Darmstadt","Bielefeld",4,3,7,1]
[null,"Heidenheim","Union",4,3,7,1]
[null,"Regensburg","Düsseldorf",4,3,7,1]
[null,"Kaiserslautern","Union",4,3,7,1]
[null,"Ingolstadt","Kiel",1,5,6,4]
[null,"Ingolstadt","Regensburg",2,4,6,2]
[null,"Ingolstadt","Dresden",4,2,6,2]
[null,"Düsseldorf","Bielefeld",4,2,6,2]
[null,"Darmstadt","Dresden",3,3,6,0]
[null,"Union","Darmstadt",3,3,6,0]
[null,"Duisburg","Heidenheim",3,3,6,0]
[null,"Union","Kaiserslautern",5,0,5,5]
[null,"Bielefeld","St. Pauli",5,0,5,5]
[null,"Kiel","Duisburg",5,0,5,5]
[null,"Duisburg","Kaiserslautern",1,4,5,3]
[null,"Nürnberg","Aue",4,1,5,3]
[null,"Duisburg","Regensburg",4,1,5,3]
[null,"Braunschweig","Nürnberg",2,3,5,1]
[null,"Bielefeld","Dresden",2,3,5,1]
[null,"Sandhausen","Bochum",2,3,5,1]
[null,"Nürnberg","Düsseldorf",2,3,5,1]
[null,"Bochum","Dresden",3,2,5,1]
[null,"Düsseldorf","Union",3,2,5,1]
[null,"Regensburg","Fürth",3,2,5,1]
[null,"Heidenheim","Kaiserslautern",3,2,5,1]
[null,"Regensburg","Bielefeld",3,2,5,1]
[null,"Regensburg","Ingolstadt",3,2,5,1]
[null,"St. Pauli","Kiel",3,2,5,1]
[null,"Dresden","Heidenheim",3,2,5,1]
[null,"Braunschweig","Duisburg",3,2,5,1]
[null,"Nürnberg","Heidenheim",3,2,5,1]
[null,"Bochum","Kaiserslautern",3,2,5,1]
[null,"Bielefeld","Kaiserslautern",3,2,5,1]
[null,"Dresden","Sandhausen",0,4,4,4]
[null,"Bielefeld","Duisburg",0,4,4,4]
[null,"St. Pauli","Ingolstadt",0,4,4,4]
[null,"Dresden","Kiel",0,4,4,4]
[null,"Fürth","St. Pauli",4,0,4,4]
[null,"Regensburg","Duisburg",4,0,4,4]
[null,"Dresden","Aue",4,0,4,4]
[null,"Heidenheim","Regensburg",1,3,4,2]
[null,"Duisburg","Kiel",1,3,4,2]
[null,"Fürth","Nürnberg",1,3,4,2]
[null,"Bielefeld","Ingolstadt",1,3,4,2]
[null,"Düsseldorf","Dresden",1,3,4,2]
[null,"Dresden","St. Pauli",1,3,4,2]
[null,"Aue","Braunschweig",1,3,4,2]
[null,"Kaiserslautern","Düsseldorf",1,3,4,2]
[null,"Regensburg","Aue",1,3,4,2]
[null,"Kiel","Nürnberg",1,3,4,2]
[null,"Aue","Duisburg",1,3,4,2]
[null,"Ingolstadt","Kaiserslautern",1,3,4,2]
[null,"Kiel","Fürth",3,1,4,2]
[null,"Aue","Nürnberg",3,1,4,2]
[null,"Fürth","Düsseldorf",3,1,4,2]
[null,"Nürnberg","Bochum",3,1,4,2]
[null,"Düsseldorf","Duisburg",3,1,4,2]
[null,"Union","Fürth",3,1,4,2]
[null,"Regensburg","Kaiserslautern",3,1,4,{"$f":"ABS(D68-E68)","v":2}]
[null,"Sandhausen","Bielefeld",3,1,4,2]
[null,"Sandhausen","Kiel",3,1,4,2]
[null,"Heidenheim","St. Pauli",3,1,4,2]
[null,"Kaiserslautern","Kiel",3,1,4,2]
[null,"Union","Düsseldorf",3,1,4,2]
[null,"Nürnberg","Duisburg",3,1,4,2]
[null,"Heidenheim","Düsseldorf",3,1,4,2]
[null,"Regensburg","St. Pauli",3,1,4,2]
[null,"Darmstadt","Union",3,1,4,2]
[null,"Union","Bochum",3,1,4,2]
[null,"Kiel","Sandhausen",2,2,4,0]
[null,"Düsseldorf","Braunschweig",2,2,4,0]
[null,"St. Pauli","Dresden",2,2,4,0]
[null,"Nürnberg","Union",2,2,4,0]
[null,"Ingolstadt","Duisburg",2,2,4,0]
[null,"Heidenheim","Darmstadt",2,2,4,0]
[null,"Dresden","Ingolstadt",2,2,4,0]
[null,"Braunschweig","Darmstadt",2,2,4,0]
[null,"Düsseldorf","Heidenheim",2,2,4,0]
[null,"St. Pauli","Regensburg",2,2,4,0]
[null,"Nürnberg","Kiel",2,2,4,0]
[null,"Bielefeld","Braunschweig",2,2,4,0]
[null,"Kiel","Düsseldorf",2,2,4,0]
[null,"St. Pauli","Duisburg",2,2,4,0]
[null,"Kiel","Union",2,2,4,0]
[null,"Nürnberg","Regensburg",2,2,4,0]
[null,"Duisburg","Bielefeld",2,2,4,0]
[null,"Kiel","Aue",2,2,4,0]
[null,"Heidenheim","Bielefeld",2,2,4,0]
[null,"Union","Regensburg",2,2,4,0]
[null,"Ingolstadt","Bielefeld",2,2,4,0]
[null,"Fürth","Duisburg",2,2,4,0]
[null,"Aue","Kiel",0,3,3,3]
[null,"Regensburg","Darmstadt",0,3,3,3]
[null,"Nürnberg","Kaiserslautern",3,0,3,3]
[null,"Darmstadt","St. Pauli",3,0,3,3]
[null,"Braunschweig","Fürth",3,0,3,3]
[null,"Ingolstadt","Darmstadt",3,0,3,3]
[null,"Kaiserslautern","Fürth",3,0,3,3]
[null,"Kiel","Bochum",3,0,3,3]
[null,"Ingolstadt","Heidenheim",3,0,3,3]
[null,"Kiel","Dresden",3,0,3,3]
[null,"Duisburg","Aue",3,0,3,3]
[null,"Ingolstadt","Fürth",3,0,3,3]
[null,"Düsseldorf","Ingolstadt",3,0,3,3]
[null,"St. Pauli","Fürth",3,0,3,3]
[null,"Fürth","Bielefeld",1,2,3,1]
[null,"Heidenheim","Duisburg",1,2,3,1]
[null,"Duisburg","Darmstadt",1,2,3,1]
[null,"Regensburg","Kiel",1,2,3,1]
[null,"Sandhausen","Düsseldorf",1,2,3,1]
[null,"Ingolstadt","Aue",1,2,3,1]
[null,"Darmstadt","Bochum",1,2,3,1]
[null,"Bochum","Heidenheim",1,2,3,1]
[null,"St. Pauli","Düsseldorf",1,2,3,1]
[null,"Nürnberg","Bielefeld",1,2,3,1]
[null,"Aue","Union",1,2,3,1]
[null,"Nürnberg","Ingolstadt",1,2,3,1]
[null,"Darmstadt","Sandhausen",1,2,3,1]
[null,"Dresden","Kaiserslautern",1,2,3,1]
[null,"Sandhausen","Heidenheim",1,2,3,1]
[null,"Union","Ingolstadt",1,2,3,1]
[null,"Darmstadt","Duisburg",1,2,3,1]
[null,"Braunschweig","Kaiserslautern",1,2,3,{"$f":"ABS(D132-E132)","v":1}]
[null,"Duisburg","Düsseldorf",1,2,3,1]
[null,"Heidenheim","Ingolstadt",1,2,3,1]
[null,"Düsseldorf","Bochum",1,2,3,1]
[null,"Fürth","Regensburg",1,2,3,1]
[null,"Dresden","Düsseldorf",1,2,3,1]
[null,"Bielefeld","Regensburg",2,1,3,1]
[null,"Heidenheim","Aue",2,1,3,1]
[null,"Kiel","Kaiserslautern",2,1,3,1]
[null,"Regensburg","Braunschweig",2,1,3,1]
[null,"Fürth","Aue",2,1,3,1]
[null,"Nürnberg","Dresden",2,1,3,1]
[null,"Kiel","Bielefeld",2,1,3,1]
[null,"Fürth","Sandhausen",2,1,3,1]
[null,"Bochum","Union",2,1,3,1]
[null,"St. Pauli","Bochum",2,1,3,1]
[null,"Düsseldorf","Aue",2,1,3,1]
[null,"Bochum","Darmstadt",2,1,3,1]
[null,"Duisburg","Ingolstadt",2,1,3,1]
[null,"Union","Sandhausen",2,1,3,1]
[null,"Aue","Kaiserslautern",2,1,3,1]
[null,"Fürth","Braunschweig",2,1,3,1]
[null,"Düsseldorf","St. Pauli",2,1,3,1]
[null,"Braunschweig","Regensburg",2,1,3,1]
[null,"Regensburg","Sandhausen",2,1,3,1]
[null,"Fürth","Kaiserslautern",2,1,3,1]
[null,"Kiel","Heidenheim",2,1,3,1]
[null,"Aue","Fürth",2,1,3,1]
[null,"Fürth","Union",2,1,3,1]
[null,"Aue","St. Pauli",2,1,3,1]
[null,"Bochum","Aue",2,1,3,1]
[null,"Aue","Düsseldorf",0,2,2,2]
[null,"Regensburg","Dresden",0,2,2,2]
[null,"Kaiserslautern","Aue",0,2,2,2]
[null,"Dresden","Bielefeld",0,2,2,2]
[null,"Braunschweig","St. Pauli",0,2,2,2]
[null,"Heidenheim","Dresden",0,2,2,2]
[null,"Bielefeld","Düsseldorf",0,2,2,2]
[null,"Regensburg","Union",0,2,2,2]
[null,"Kaiserslautern","Bielefeld",0,2,2,2]
[null,"Ingolstadt","Braunschweig",0,2,2,2]
[null,"Düsseldorf","Nürnberg",0,2,2,2]
[null,"Bochum","Duisburg",0,2,2,2]
[null,"Dresden","Darmstadt",0,2,2,2]
[null,"Nürnberg","Fürth",0,2,2,2]
[null,"Duisburg","Sandhausen",0,2,2,2]
[null,"Braunschweig","Ingolstadt",0,2,2,2]
[null,"Sandhausen","Nürnberg",0,2,2,2]
[null,"Braunschweig","Heidenheim",2,0,2,2]
[null,"Düsseldorf","Kaiserslautern",2,0,2,2]
[null,"Bielefeld","Bochum",2,0,2,2]
[null,"Bochum","Ingolstadt",2,0,2,2]
[null,"Bochum","Sandhausen",2,0,2,2]
[null,"Duisburg","Fürth",2,0,2,2]
[null,"Duisburg","Dresden",2,0,2,2]
[null,"Heidenheim","Braunschweig",2,0,2,2]
[null,"Dresden","Bochum",2,0,2,2]
[null,"Regensburg","Heidenheim",2,0,2,2]
[null,"Bielefeld","Darmstadt",2,0,2,2]
[null,"Bochum","Braunschweig",2,0,2,2]
[null,"Bielefeld","Aue",2,0,2,2]
[null,"Nürnberg","Braunschweig",2,0,2,2]
[null,"Heidenheim","Sandhausen",2,0,2,2]
[null,"Duisburg","St. Pauli",2,0,2,2]
[null,"Kaiserslautern","Darmstadt",1,1,2,{"$f":"ABS(D196-E196)","v":0}]
[null,"Duisburg","Bochum",1,1,2,0]
[null,"Braunschweig","Aue",1,1,2,0]
[null,"Union","Bielefeld",1,1,2,0]
[null,"Kaiserslautern","Braunschweig",1,1,2,0]
[null,"Dresden","Fürth",1,1,2,0]
[null,"Braunschweig","Sandhausen",1,1,2,0]
[null,"Union","Braunschweig",1,1,2,0]
[null,"Bielefeld","Heidenheim",1,1,2,0]
[null,"St. Pauli","Kaiserslautern",1,1,2,0]
[null,"Sandhausen","St. Pauli",1,1,2,0]
[null,"Darmstadt","Kiel",1,1,2,0]
[null,"Dresden","Braunschweig",1,1,2,0]
[null,"St. Pauli","Aue",1,1,2,0]
[null,"Duisburg","Union",1,1,2,0]
[null,"Aue","Bielefeld",1,1,2,0]
[null,"Bochum","Fürth",1,1,2,0]
[null,"Aue","Bochum",1,1,2,0]
[null,"Kaiserslautern","Ingolstadt",1,1,2,0]
[null,"Fürth","Darmstadt",1,1,2,0]
[null,"Kaiserslautern","Nürnberg",1,1,2,0]
[null,"Aue","Heidenheim",1,1,2,0]
[null,"Kiel","Regensburg",1,1,2,0]
[null,"Bielefeld","Union",1,1,2,0]
[null,"Düsseldorf","Fürth",1,1,2,0]
[null,"Darmstadt","Heidenheim",1,1,2,0]
[null,"Sandhausen","Aue",1,1,2,0]
[null,"Darmstadt","Ingolstadt",1,1,2,0]
[null,"Bochum","Kiel",1,1,2,0]
[null,"Nürnberg","Darmstadt",1,1,2,0]
[null,"Kaiserslautern","St. Pauli",1,1,2,0]
[null,"St. Pauli","Sandhausen",1,1,2,0]
[null,"Dresden","Nürnberg",1,1,2,0]
[null,"Bielefeld","Kiel",1,1,2,0]
[null,"Braunschweig","Dresden",1,1,2,0]
[null,"Kaiserslautern","Regensburg",1,1,2,0]
[null,"Darmstadt","Braunschweig",1,1,2,0]
[null,"Ingolstadt","Nürnberg",1,1,2,0]
[null,"Sandhausen","Darmstadt",1,1,2,0]
[null,"Union","Heidenheim",1,1,2,0]
[null,"Fürth","Bochum",1,1,2,0]
[null,"Düsseldorf","Kiel",1,1,2,0]
[null,"Heidenheim","Fürth",1,1,2,0]
[null,"Bochum","Regensburg",1,1,2,0]
[null,"Bochum","St. Pauli",0,1,1,1]
[null,"Ingolstadt","Union",0,1,1,1]
[null,"Regensburg","Nürnberg",0,1,1,1]
[null,"Fürth","Ingolstadt",0,1,1,1]
[null,"Nürnberg","St. Pauli",0,1,1,1]
[null,"Kiel","St. Pauli",0,1,1,1]
[null,"Kaiserslautern","Duisburg",0,1,1,1]
[null,"Sandhausen","Duisburg",0,1,1,1]
[null,"Darmstadt","Regensburg",0,1,1,1]
[null,"Union","Dresden",0,1,1,1]
[null,"Regensburg","Bochum",0,1,1,1]
[null,"Braunschweig","Düsseldorf",0,1,1,1]
[null,"St. Pauli","Darmstadt",0,1,1,1]
[null,"Union","Nürnberg",0,1,1,1]
[null,"Bochum","Bielefeld",0,1,1,1]
[null,"Ingolstadt","St. Pauli",0,1,1,1]
[null,"Kaiserslautern","Sandhausen",0,1,1,1]
[null,"Ingolstadt","Bochum",0,1,1,1]
[null,"St. Pauli","Union",0,1,1,1]
[null,"Kaiserslautern","Dresden",0,1,1,1]
[null,"Dresden","Union",0,1,1,{"$f":"ABS(D260-E260)","v":1}]
[null,"Darmstadt","Fürth",1,0,1,1]
[null,"Dresden","Duisburg",1,0,1,1]
[null,"Sandhausen","Ingolstadt",1,0,1,1]
[null,"St. Pauli","Heidenheim",1,0,1,1]
[null,"Sandhausen","Kaiserslautern",1,0,1,1]
[null,"Sandhausen","Union",1,0,1,1]
[null,"Düsseldorf","Regensburg",1,0,1,1]
[null,"Aue","Sandhausen",1,0,1,1]
[null,"Braunschweig","Bochum",1,0,1,1]
[null,"Düsseldorf","Darmstadt",1,0,1,1]
[null,"Aue","Regensburg",1,0,1,1]
[null,"Heidenheim","Nürnberg",1,0,1,1]
[null,"Union","St. Pauli",1,0,1,1]
[null,"Ingolstadt","Düsseldorf",1,0,1,1]
[null,"Nürnberg","Sandhausen",1,0,1,1]
[null,"Fürth","Heidenheim",1,0,1,1]
[null,"Aue","Darmstadt",1,0,1,1]
[null,"Sandhausen","Dresden",1,0,1,1]
[null,"Düsseldorf","Sandhausen",1,0,1,1]
[null,"Fürth","Dresden",1,0,1,1]
[null,"Braunschweig","Union",1,0,1,1]
[null,"Heidenheim","Bochum",1,0,1,1]
[null,"Dresden","Regensburg",1,0,1,1]
[null,"Bielefeld","Nürnberg",1,0,1,1]
[null,"Darmstadt","Düsseldorf",1,0,1,1]
[null,"Kaiserslautern","Heidenheim",1,0,1,1]
[null,"St. Pauli","Bielefeld",1,0,1,1]
[null,"Darmstadt","Aue",1,0,1,1]
[null,"Duisburg","Braunschweig",0,0,0,0]
[null,"Bochum","Düsseldorf",0,0,0,0]
[null,"Kaiserslautern","Bochum",0,0,0,0]
[null,"Kiel","Ingolstadt",0,0,0,0]
[null,"Braunschweig","Kiel",0,0,0,0]
[null,"Ingolstadt","Sandhausen",0,0,0,0]
[null,"Bielefeld","Fürth",0,0,0,0]
[null,"Fürth","Kiel",0,0,0,0]
[null,"Aue","Ingolstadt",0,0,0,0]
[null,"Sandhausen","Braunschweig",0,0,0,0]
[null,"St. Pauli","Nürnberg",0,0,0,0]
[null,"Bochum","Nürnberg",0,0,0,0]
[null,"St. Pauli","Braunschweig",0,0,0,0]
[null,"Union","Aue",0,0,0,0]
[null,"Kiel","Darmstadt",0,0,0,0]
[null,"Sandhausen","Fürth",0,0,0,0]
[null,"Union","Duisburg",0,0,0,0]
[null,"Braunschweig","Bielefeld",0,0,0,0]
[null,"Aue","Dresden",0,0,0,0]
[null,"Bielefeld","Sandhausen",0,0,0,0]
[null,"Darmstadt","Kaiserslautern",null,null,0,0]

{"sheet":"Benutzer","index":8,"n_rows":35,"n_cols":5,"rows_kept":35,"cut":false,"hidden":false,"merged":[[0,0,0,4]]}
["Benutzerdefinierte Spieleauswahl"]
["Bayern","Augsburg",3,0,"G"]
["Bayern","Bremen",4,2,"G"]
["Bayern","Dortmund",6,0,"G"]
["Bayern","Frankfurt",4,1,"G"]
["Bayern","Freiburg",5,0,"G"]
["Bayern","Hamburg",6,0,"G"]
["Bayern","Hannover",3,1,"G"]
["Bayern","Hertha",0,0,"U"]
["Bayern","Hoffenheim",5,2,"G"]
["Bayern","Köln",1,0,"G"]
["Bayern","Leipzig",2,0,"G"]
["Bayern","Leverkusen",3,1,"G"]
["Bayern","Mainz",4,0,"G"]
["Bayern","Mönchengladbach",5,1,"G"]
["Bayern","Schalke",2,1,"G"]
["Bayern","Stuttgart",1,4,"V"]
["Bayern","Wolfsburg",2,2,"U"]
["Augsburg","Bayern",1,4,"G"]
["Bremen","Bayern",0,2,"G"]
["Dortmund","Bayern",1,3,"G"]
["Frankfurt","Bayern",0,1,"G"]
["Freiburg","Bayern",0,4,"G"]
["Hamburg","Bayern",0,1,"G"]
["Hannover","Bayern",0,3,"G"]
["Hertha","Bayern",2,2,"U"]
["Hoffenheim","Bayern",2,0,"V"]
["Köln","Bayern",1,3,"G"]
["Leipzig","Bayern",2,1,"V"]
["Leverkusen","Bayern",1,3,"G"]
["Mainz","Bayern",0,2,"G"]
["Mönchengladbach","Bayern",2,1,"V"]
["Schalke","Bayern",0,3,"G"]
["Stuttgart","Bayern",0,1,"G"]
["Wolfsburg","Bayern",1,2,"G"]

{"sheet":"Pokal","index":9,"n_rows":38,"n_cols":14,"rows_kept":38,"cut":false,"hidden":true,"merged":[[37,1,38,14],[1,7,32,7],[17,9,17,14],[27,9,27,14],[33,9,33,14],[35,6,36,6],[35,1,36,1],[35,2,36,2],[35,3,36,3],[35,4,36,4],[35,5,36,5]]}
[]
[null,null,"-",null,null,":",null,null,null,null,"-",null,null,":"]
[null,null,"-",null,null,":",null,null,null,null,"-",null,null,":"]
[null,null,"-",null,null,":",null,null,null,null,"-",null,null,":"]
[null,null,"-",null,null,":",null,null,null,null,"-",null,null,":"]
[null,null,"-",null,null,":",null,null,null,null,"-",null,null,":"]
[null,null,"-",null,null,":",null,null,null,null,"-",null,null,":"]
[null,null,"-",null,null,":",null,null,null,null,"-",null,null,":"]
[null,null,"-",null,null,":",null,null,null,null,"-",null,null,":"]
[null,null,"-",null,null,":",null,null,null,null,"-",null,null,":"]
[null,null,"-",null,null,":",null,null,null,null,"-",null,null,":"]
[null,null,"-",null,null,":",null,null,null,null,"-",null,null,":"]
[null,null,"-",null,null,":",null,null,null,null,"-",null,null,":"]
[null,null,"-",null,null,":",null,null,null,null,"-",null,null,":"]
[null,null,"-",null,null,":",null,null,null,null,"-",null,null,":"]
[null,null,"-",null,null,":",null,null,null,null,"-",null,null,":"]
[null,null,"-",null,null,":",null,null,null,null,"-",null,null,":"]
[null,null,"-",null,null,":"]
[null,null,"-",null,null,":"]
[null,null,"-",null,null,":",null,null,null,null,"-",null,null,":"]
[null,null,"-",null,null,":",null,null,null,null,"-",null,null,":"]
[null,null,"-",null,null,":",null,null,null,null,"-",null,null,":"]
[null,null,"-",null,null,":",null,null,null,null,"-",null,null,":"]
[null,null,"-",null,null,":",null,null,null,null,"-",null,null,":"]
[null,null,"-",null,null,":",null,null,null,null,"-",null,null,":"]
[null,null,"-",null,null,":",null,null,null,null,"-",null,null,":"]
[null,null,"-",null,null,":",null,null,null,null,"-",null,null,":"]
[null,null,"-",null,null,":"]
[null,null,"-",null,null,":"]
[null,null,"-",null,null,":",null,null,null,null,"-",null,null,":"]
[null,null,"-",null,null,":",null,null,null,null,"-",null,null,":"]
[null,null,"-",null,null,":",null,null,null,null,"-",null,null,":"]
[null,null,"-",null,null,":",null,null,null,null,"-",null,null,":"]
[]
[]
[null,{"$f":"IF(M36=O36,\"\",IF(M36>O36,J36,L36))","v":""},"-",{"$f":"IF(M37=O37,\"\",IF(M37>O37,J37,L37))","v":""},null,":",null,null,null,null,"-",null,null,":"]
[null,null,null,null,null,null,null,null,null,null,"-",null,null,":"]
[null,{"$f":"IF(B36=\"\",\"Wer fährt nach Berlin?\",\"Wir fahren nach Berlin!\")","v":"Wer fährt nach Berlin?"}]

{"sheet":"Daten","index":10,"n_rows":39,"n_cols":3,"rows_kept":39,"cut":false,"hidden":true,"merged":[]}
[]
[null,"Augsburg",1]
[null,"Bayern",1]
[null,"Bremen",1]
[null,"Dortmund",1]
[null,"Frankfurt",1]
[null,"Freiburg",1]
[null,"Hamburg",1]
[null,"Hannover",1]
[null,"Hertha",1]
[null,"Hoffenheim",1]
[null,"Köln",1]
[null,"Leipzig",1]
[null,"Leverkusen",1]
[null,"Mainz",1]
[null,"Mönchengladbach",1]
[null,"Schalke",1]
[null,"Stuttgart",1]
[null,"Wolfsburg",1]
[null,"Aue",2]
[null,"Bielefeld",2]
[null,"Bochum",2]
[null,"Braunschweig",2]
[null,"Darmstadt",2]
[null,"Dresden",2]
[null,"Duisburg",2]
[null,"Düsseldorf",2]
[null,"Fürth",2]
[null,"Heidenheim",2]
[null,"Ingolstadt",2]
[null,"Kaiserslautern",2]
[null,"Kiel",2]
[null,"Nürnberg",2]
[null,"Regensburg",2]
[null,"Sandhausen",2]
[null,"St. Pauli",2]
[null,"Union",2]
[null,null,{"$f":"COUNTIF(C2:C37,2)","v":18}]
[null,null,{"$f":"COUNTIF(C2:C37,1)","v":18}]